BEGIN:VCALENDAR
VERSION:2.0
PRODID:-//Ville de Saint Saulve - ECPv6.15.20//NONSGML v1.0//EN
CALSCALE:GREGORIAN
METHOD:PUBLISH
X-WR-CALNAME:Ville de Saint Saulve
X-ORIGINAL-URL:https://www.ville-saint-saulve.fr
X-WR-CALDESC:Évènements pour Ville de Saint Saulve
REFRESH-INTERVAL;VALUE=DURATION:PT1H
X-Robots-Tag:noindex
X-PUBLISHED-TTL:PT1H
BEGIN:VTIMEZONE
TZID:Europe/Paris
BEGIN:DAYLIGHT
TZOFFSETFROM:+0100
TZOFFSETTO:+0200
TZNAME:CEST
DTSTART:20240331T010000
END:DAYLIGHT
BEGIN:STANDARD
TZOFFSETFROM:+0200
TZOFFSETTO:+0100
TZNAME:CET
DTSTART:20241027T010000
END:STANDARD
BEGIN:DAYLIGHT
TZOFFSETFROM:+0100
TZOFFSETTO:+0200
TZNAME:CEST
DTSTART:20250330T010000
END:DAYLIGHT
BEGIN:STANDARD
TZOFFSETFROM:+0200
TZOFFSETTO:+0100
TZNAME:CET
DTSTART:20251026T010000
END:STANDARD
BEGIN:DAYLIGHT
TZOFFSETFROM:+0100
TZOFFSETTO:+0200
TZNAME:CEST
DTSTART:20260329T010000
END:DAYLIGHT
BEGIN:STANDARD
TZOFFSETFROM:+0200
TZOFFSETTO:+0100
TZNAME:CET
DTSTART:20261025T010000
END:STANDARD
END:VTIMEZONE
BEGIN:VEVENT
DTSTART;TZID=Europe/Paris:20250518T070000
DTEND;TZID=Europe/Paris:20250518T070000
DTSTAMP:20260425T004005
CREATED:20250429T121146Z
LAST-MODIFIED:20250429T121150Z
UID:32153-1747551600-1747551600@www.ville-saint-saulve.fr
SUMMARY:Brocante
DESCRIPTION:Brocante organisée par l’association la Canne Saint-Saulvienne
URL:https://www.ville-saint-saulve.fr/event/brocante-2/
LOCATION:Centre de loisirs Fortier\, 44 Rue Henri Barbusse\, Saint-Saulve\, 59880\, France
ATTACH;FMTTYPE=image/jpeg:https://www.ville-saint-saulve.fr/wp-content/uploads/brocante_canne_saint-saulvienne.jpg
END:VEVENT
BEGIN:VEVENT
DTSTART;TZID=Europe/Paris:20250518T090000
DTEND;TZID=Europe/Paris:20250518T090000
DTSTAMP:20260425T004005
CREATED:20250429T121235Z
LAST-MODIFIED:20250502T075611Z
UID:32156-1747558800-1747558800@www.ville-saint-saulve.fr
SUMMARY:Les Parcours du Coeur
DESCRIPTION:❤️🚶‍♂️ Les Parcours du Cœur reviennent à Saint-Saulve ! 🚶‍♀️❤️ \n📅 Dimanche 18 mai📍 Départ à 9h – Salle de sport Coubertin🥾 Randonnée pédestre de 11 à 14 km dans les rues de Saint-Saulve ! \nVenez bouger pour votre santé dans une ambiance conviviale 🧡💪En famille\, entre amis ou en solo\, on vous attend nombreux ! 😊
URL:https://www.ville-saint-saulve.fr/event/les-parcours-du-coeur-2/
LOCATION:Salle des sports Coubertin\, 33 Rue Roger Salengro\, Saint-Saulve\, 59880\, France
ATTACH;FMTTYPE=image/jpeg:https://www.ville-saint-saulve.fr/wp-content/uploads/affiche_parcours_du_coeur_2025-scaled.jpg
END:VEVENT
BEGIN:VEVENT
DTSTART;TZID=Europe/Paris:20250518T110000
DTEND;TZID=Europe/Paris:20250518T110000
DTSTAMP:20260425T004005
CREATED:20250429T121336Z
LAST-MODIFIED:20250429T121341Z
UID:32158-1747566000-1747566000@www.ville-saint-saulve.fr
SUMMARY:Spectacle Harmonia Sacra
DESCRIPTION:
URL:https://www.ville-saint-saulve.fr/event/spectacle-harmonia-sacra/
LOCATION:Château Fortier\, 44 Rue Henri Barbusse\, Saint-Saulve\, Sélectionner un État :\, 59880\, France
END:VEVENT
BEGIN:VEVENT
DTSTART;TZID=Europe/Paris:20250518T143000
DTEND;TZID=Europe/Paris:20250518T143000
DTSTAMP:20260425T004005
CREATED:20250429T121530Z
LAST-MODIFIED:20250429T121533Z
UID:32164-1747578600-1747578600@www.ville-saint-saulve.fr
SUMMARY:Spectacle Harmonia Sacra
DESCRIPTION:
URL:https://www.ville-saint-saulve.fr/event/spectacle-harmonia-sacra-4/
LOCATION:Espace Athena\, 2 Pl. du 8 Mai 1945\, Saint-Saulve\, 59880\, France
END:VEVENT
BEGIN:VEVENT
DTSTART;TZID=Europe/Paris:20250518T170000
DTEND;TZID=Europe/Paris:20250518T170000
DTSTAMP:20260425T004005
CREATED:20250429T121433Z
LAST-MODIFIED:20250429T121436Z
UID:32162-1747587600-1747587600@www.ville-saint-saulve.fr
SUMMARY:Spectacle Harmonia Sacra
DESCRIPTION:
URL:https://www.ville-saint-saulve.fr/event/spectacle-harmonia-sacra-3/
LOCATION:Église Saint-Martin\, Pl. Francisco Ferrer\, Saint-Saulve\, 59880\, France
END:VEVENT
END:VCALENDAR