BEGIN:VCALENDAR
VERSION:2.0
PRODID:-//Ville de Saint Saulve - ECPv6.15.20//NONSGML v1.0//EN
CALSCALE:GREGORIAN
METHOD:PUBLISH
X-ORIGINAL-URL:https://www.ville-saint-saulve.fr
X-WR-CALDESC:Évènements pour Ville de Saint Saulve
REFRESH-INTERVAL;VALUE=DURATION:PT1H
X-Robots-Tag:noindex
X-PUBLISHED-TTL:PT1H
BEGIN:VTIMEZONE
TZID:Europe/Paris
BEGIN:DAYLIGHT
TZOFFSETFROM:+0100
TZOFFSETTO:+0200
TZNAME:CEST
DTSTART:20240331T010000
END:DAYLIGHT
BEGIN:STANDARD
TZOFFSETFROM:+0200
TZOFFSETTO:+0100
TZNAME:CET
DTSTART:20241027T010000
END:STANDARD
BEGIN:DAYLIGHT
TZOFFSETFROM:+0100
TZOFFSETTO:+0200
TZNAME:CEST
DTSTART:20250330T010000
END:DAYLIGHT
BEGIN:STANDARD
TZOFFSETFROM:+0200
TZOFFSETTO:+0100
TZNAME:CET
DTSTART:20251026T010000
END:STANDARD
BEGIN:DAYLIGHT
TZOFFSETFROM:+0100
TZOFFSETTO:+0200
TZNAME:CEST
DTSTART:20260329T010000
END:DAYLIGHT
BEGIN:STANDARD
TZOFFSETFROM:+0200
TZOFFSETTO:+0100
TZNAME:CET
DTSTART:20261025T010000
END:STANDARD
END:VTIMEZONE
BEGIN:VEVENT
DTSTART;TZID=Europe/Paris:20250524T080000
DTEND;TZID=Europe/Paris:20250524T120000
DTSTAMP:20260425T004131
CREATED:20250428T121416Z
LAST-MODIFIED:20250428T121420Z
UID:32144-1748073600-1748088000@www.ville-saint-saulve.fr
SUMMARY:Don de sang
DESCRIPTION:Envie de sauver des vies ? Venez donner votre sang  !\n\nLes besoins des malades sont constants et la fréquentation des collectes baisse : l’EFS a besoin de votre aide !\nLa prochaine collecte de sang organisée par l’association Jeannine-Empisse aura lieu le samedi 24 mai de 8 h à 12 h au centre de loisirs Fortier\, 44 rue Henri-Barbusse.\n\nSur rendez-vous sur le site du don de sang
URL:https://www.ville-saint-saulve.fr/event/don-de-sang-8/
LOCATION:Centre de loisirs Fortier\, 44 Rue Henri Barbusse\, Saint-Saulve\, 59880\, France
ATTACH;FMTTYPE=image/jpeg:https://www.ville-saint-saulve.fr/wp-content/uploads/don_de_sang_mai_2025.jpg
END:VEVENT
END:VCALENDAR