BEGIN:VCALENDAR
VERSION:2.0
PRODID:-//Ville de Saint Saulve - ECPv6.15.20//NONSGML v1.0//EN
CALSCALE:GREGORIAN
METHOD:PUBLISH
X-ORIGINAL-URL:https://www.ville-saint-saulve.fr
X-WR-CALDESC:Évènements pour Ville de Saint Saulve
REFRESH-INTERVAL;VALUE=DURATION:PT1H
X-Robots-Tag:noindex
X-PUBLISHED-TTL:PT1H
BEGIN:VTIMEZONE
TZID:Europe/Paris
BEGIN:DAYLIGHT
TZOFFSETFROM:+0100
TZOFFSETTO:+0200
TZNAME:CEST
DTSTART:20240331T010000
END:DAYLIGHT
BEGIN:STANDARD
TZOFFSETFROM:+0200
TZOFFSETTO:+0100
TZNAME:CET
DTSTART:20241027T010000
END:STANDARD
BEGIN:DAYLIGHT
TZOFFSETFROM:+0100
TZOFFSETTO:+0200
TZNAME:CEST
DTSTART:20250330T010000
END:DAYLIGHT
BEGIN:STANDARD
TZOFFSETFROM:+0200
TZOFFSETTO:+0100
TZNAME:CET
DTSTART:20251026T010000
END:STANDARD
BEGIN:DAYLIGHT
TZOFFSETFROM:+0100
TZOFFSETTO:+0200
TZNAME:CEST
DTSTART:20260329T010000
END:DAYLIGHT
BEGIN:STANDARD
TZOFFSETFROM:+0200
TZOFFSETTO:+0100
TZNAME:CET
DTSTART:20261025T010000
END:STANDARD
END:VTIMEZONE
BEGIN:VEVENT
DTSTART;TZID=Europe/Paris:20250529T140000
DTEND;TZID=Europe/Paris:20250529T140000
DTSTAMP:20260424T233148
CREATED:20250519T095721Z
LAST-MODIFIED:20250519T095726Z
UID:32412-1748527200-1748527200@www.ville-saint-saulve.fr
SUMMARY:Super loto traditionnel
DESCRIPTION:Jeudi 29 mai à partir de 14h\nSuper Loto traditionnel organisé par l’association Handi Loisir de Saint-Saulve\, à la salle des fêtes.\nÀ la clé\, 3602 € en bons d’achat de 16 à 1 000 €.\n12 tirages durant l’après-midi + 2 spéciaux. \nBuvette et petite restauration sur place.\nEntrée gratuite – Ouvert à tous\nRéservations au 06 98 88 50 29
URL:https://www.ville-saint-saulve.fr/event/super-loto-traditionnel-37/
LOCATION:Salle des Fêtes\, 8 place Louis Maillard\, Saint-Saulve\, Hauts-de-France\, 59880\, France
ATTACH;FMTTYPE=image/jpeg:https://www.ville-saint-saulve.fr/wp-content/uploads/Handi-loisirs-LOTO-290525-scaled.jpg
END:VEVENT
END:VCALENDAR