BEGIN:VCALENDAR
VERSION:2.0
PRODID:-//Ville de Saint Saulve - ECPv6.15.20//NONSGML v1.0//EN
CALSCALE:GREGORIAN
METHOD:PUBLISH
X-WR-CALNAME:Ville de Saint Saulve
X-ORIGINAL-URL:https://www.ville-saint-saulve.fr
X-WR-CALDESC:Évènements pour Ville de Saint Saulve
REFRESH-INTERVAL;VALUE=DURATION:PT1H
X-Robots-Tag:noindex
X-PUBLISHED-TTL:PT1H
BEGIN:VTIMEZONE
TZID:Europe/Paris
BEGIN:DAYLIGHT
TZOFFSETFROM:+0100
TZOFFSETTO:+0200
TZNAME:CEST
DTSTART:20240331T010000
END:DAYLIGHT
BEGIN:STANDARD
TZOFFSETFROM:+0200
TZOFFSETTO:+0100
TZNAME:CET
DTSTART:20241027T010000
END:STANDARD
BEGIN:DAYLIGHT
TZOFFSETFROM:+0100
TZOFFSETTO:+0200
TZNAME:CEST
DTSTART:20250330T010000
END:DAYLIGHT
BEGIN:STANDARD
TZOFFSETFROM:+0200
TZOFFSETTO:+0100
TZNAME:CET
DTSTART:20251026T010000
END:STANDARD
BEGIN:DAYLIGHT
TZOFFSETFROM:+0100
TZOFFSETTO:+0200
TZNAME:CEST
DTSTART:20260329T010000
END:DAYLIGHT
BEGIN:STANDARD
TZOFFSETFROM:+0200
TZOFFSETTO:+0100
TZNAME:CET
DTSTART:20261025T010000
END:STANDARD
END:VTIMEZONE
BEGIN:VEVENT
DTSTART;VALUE=DATE:20250612
DTEND;VALUE=DATE:20250613
DTSTAMP:20260424T233042
CREATED:20250528T060902Z
LAST-MODIFIED:20250528T060921Z
UID:32558-1749686400-1749772799@www.ville-saint-saulve.fr
SUMMARY:Buffet campagnard
DESCRIPTION:Buffet campagnard\norganisé par le service des fêtes\, pour les 68 ans et plus. \nInscriptions clôturées.
URL:https://www.ville-saint-saulve.fr/event/buffet-campagnard/
LOCATION:Boulodrome\, Rue Henri Barbusse\, 59880 Saint-Saulve\, Saint-Saulve\, 59880\, France
END:VEVENT
BEGIN:VEVENT
DTSTART;TZID=Europe/Paris:20250612T140000
DTEND;TZID=Europe/Paris:20250612T140000
DTSTAMP:20260424T233042
CREATED:20250528T060429Z
LAST-MODIFIED:20250528T060436Z
UID:32551-1749736800-1749736800@www.ville-saint-saulve.fr
SUMMARY:Activité seniors : Atelier Fortier
DESCRIPTION:Pétanque\nEntre-nous\, un petit après-midi détente en extérieur autour de la pétanque. \nRetrouvez le calendrier des animations seniors 2025 en cliquant ici ! \nActivité réservée aux retraités et seniors saint-saulviens\nInscriptions dans la limite des places disponibles et renseignements auprès du service Seniors du pôle accompagner au 03 27 45 05 80 ou par mail à seniors@ville-saint-saulve.fr
URL:https://www.ville-saint-saulve.fr/event/activite-seniors-atelier-fortier-21/
LOCATION:Centre de loisirs Fortier\, 44 Rue Henri Barbusse\, Saint-Saulve\, 59880\, France
END:VEVENT
END:VCALENDAR