BEGIN:VCALENDAR
VERSION:2.0
PRODID:-//Ville de Saint Saulve - ECPv6.15.20//NONSGML v1.0//EN
CALSCALE:GREGORIAN
METHOD:PUBLISH
X-ORIGINAL-URL:https://www.ville-saint-saulve.fr
X-WR-CALDESC:Évènements pour Ville de Saint Saulve
REFRESH-INTERVAL;VALUE=DURATION:PT1H
X-Robots-Tag:noindex
X-PUBLISHED-TTL:PT1H
BEGIN:VTIMEZONE
TZID:Europe/Paris
BEGIN:DAYLIGHT
TZOFFSETFROM:+0100
TZOFFSETTO:+0200
TZNAME:CEST
DTSTART:20240331T010000
END:DAYLIGHT
BEGIN:STANDARD
TZOFFSETFROM:+0200
TZOFFSETTO:+0100
TZNAME:CET
DTSTART:20241027T010000
END:STANDARD
BEGIN:DAYLIGHT
TZOFFSETFROM:+0100
TZOFFSETTO:+0200
TZNAME:CEST
DTSTART:20250330T010000
END:DAYLIGHT
BEGIN:STANDARD
TZOFFSETFROM:+0200
TZOFFSETTO:+0100
TZNAME:CET
DTSTART:20251026T010000
END:STANDARD
BEGIN:DAYLIGHT
TZOFFSETFROM:+0100
TZOFFSETTO:+0200
TZNAME:CEST
DTSTART:20260329T010000
END:DAYLIGHT
BEGIN:STANDARD
TZOFFSETFROM:+0200
TZOFFSETTO:+0100
TZNAME:CET
DTSTART:20261025T010000
END:STANDARD
END:VTIMEZONE
BEGIN:VEVENT
DTSTART;TZID=Europe/Paris:20250627T000000
DTEND;TZID=Europe/Paris:20250831T000000
DTSTAMP:20260424T233230
CREATED:20250617T124404Z
LAST-MODIFIED:20250617T124422Z
UID:32773-1750982400-1756598400@www.ville-saint-saulve.fr
SUMMARY:Les Choux Rires d'été
DESCRIPTION:🎉 Les Choux Rires d’été reviennent du 27 juin au 31 août ! ☀️🥬\n\n\nPréparez-vous pour un été festif à Saint-Saulve avec la 5e édition des Choux Rires d’été !\n\n\n \n\n\n👉 Du 27 juin au 31 août\, la ville s’anime grâce aux services municipaux\, aux élus et aux associations saint-saulviennes qui vous ont concocté une programmation gratuite et variée pour petits et grands ! 🧒👵👨‍👩‍👧‍👦\n\n\n \n\n\n🌟 3 grands temps forts à noter dès maintenant :\n\n\n🔹 Fête de la jeunesse – le 28 juin\n\n\n🔹 Fête médiévale – les 5 & 6 juillet\n\n\n🔹 Fête du sport – le 31 août\n\n\n \n\n\n🎨🎭 En plus de ces événements\, des animations auront lieu chaque semaine pendant tout l’été : ateliers\, sport\, jeux\, découvertes\, et bien plus encore… Il y en aura pour tous les goûts et tous les âges ! 🤩🎯🎶\n\n\n \n\n\n👉 Et comme chaque année\, les ados de 13 à 17 ans auront leur propre programmation dédiée !\n\n\nDes activités dynamiques et variées pensées pour eux : sorties\, soirée camping\, cinéma… de quoi passer un été entre amis dans une ambiance fun et conviviale !\n\n\n \n\n\n💬 C’est GRATUIT et c’est pour vous ! Venez vivre un été inoubliable à Saint-Saulve !\n\n\nProgramme complet
URL:https://www.ville-saint-saulve.fr/event/les-choux-rires-dete/
ATTACH;FMTTYPE=image/jpeg:https://www.ville-saint-saulve.fr/wp-content/uploads/affiche_choux_rires_ete-scaled.jpg
END:VEVENT
BEGIN:VEVENT
DTSTART;TZID=Europe/Paris:20250712T170000
DTEND;TZID=Europe/Paris:20250712T170000
DTSTAMP:20260424T233230
CREATED:20250704T154330Z
LAST-MODIFIED:20250704T154347Z
UID:33259-1752339600-1752339600@www.ville-saint-saulve.fr
SUMMARY:Fête nationale
DESCRIPTION:Fête nationale – Deux jours\, une ambiance ! \n\n\nVenez vivre un week-end festif et gourmand\, dans le parc du Château Fortier\, à partager entre amis ou en famille. Au programme : de la musique\, un pique-nique\, des concerts live\, une retraite aux flambeaux et un feu d’artifice avec mapping\, le tout dans une ambiance chaleureuse et conviviale.\n\n\nTout au long des deux journées\, des foodtrucks seront présents pour satisfaire toutes vos envies.\n\n\n\n Samedi 12 Juillet\n De 17h à minuit\nLa soirée débutera avec le concept Éphémère Soirée\, animé par deux DJ survoltés : Eric Moore et Ben. Venez danser et profiter de leurs mixes entraînants jusqu’à minuit.\n\n\n Entrée : 6 €\n\n\nPour vous restaurer\, plusieurs foodtrucks seront installés sur place :\n Côté salé\, vous pourrez déguster les spécialités du Foodtruck O’Bunch ainsi que les savoureuses tartes flambées de Flam’s Truck.\n Côté sucré\, laissez-vous tenter par les gaufres gourmandes de Au Nom d’une Gaufre et les délicieuses pizzas de Pizza Aldo.\n\n\n\n Dimanche 13 Juillet\n De 12h à 23h\nDès midi\, deux DJ prendront les platines pour assurer une ambiance musicale tout au long de la journée.\n\n\n Des concerts live viendront rythmer l’après-midi :\n• The Trackers monteront sur scène à 14h.\n• Le groupe Dixcorde se produira à 16h.\n Retraite aux flambeaux\nLe soir\, retrouvez-nous à 21h30 devant la Maison de quartier. Le départ de la retraite aux flambeaux aura lieu à 22h\, en direction du parc du Château Fortier.\nLa journée se clôturera en beauté avec un feu d’artifice et un mapping sur le château à 23h.\n\n\n Entrée gratuite\n\n\n Pour vous régaler dimanche\, plusieurs options gourmandes vous attendent :\nLe midi :\n• Foodtruck Pizza Aldo proposera ses recettes salées.\n• Au Nom d’une Gaufre vous fera découvrir ses douceurs sucrées.\nLe soir :\n• Vous retrouverez Pizza Aldo et Flam’s Truck pour prolonger la fête autour d’un bon repas.\n\n\n\n N’oubliez pas la commémoration officielle du 14 Juillet.\nNous vous donnons rendez-vous au monument aux morts à 11h pour ce moment de recueillement.
URL:https://www.ville-saint-saulve.fr/event/fete-nationale-2/
LOCATION:Château Fortier\, 44 Rue Henri Barbusse\, Saint-Saulve\, Sélectionner un État :\, 59880\, France
ATTACH;FMTTYPE=image/jpeg:https://www.ville-saint-saulve.fr/wp-content/uploads/affiche_fete_nationale-1-scaled.jpg
END:VEVENT
BEGIN:VEVENT
DTSTART;TZID=Europe/Paris:20250713T120000
DTEND;TZID=Europe/Paris:20250713T120000
DTSTAMP:20260424T233230
CREATED:20250704T154430Z
LAST-MODIFIED:20250704T154430Z
UID:33261-1752408000-1752408000@www.ville-saint-saulve.fr
SUMMARY:Fête nationale
DESCRIPTION:Fête nationale – Deux jours\, une ambiance ! \n\n\nVenez vivre un week-end festif et gourmand\, dans le parc du Château Fortier\, à partager entre amis ou en famille. Au programme : de la musique\, un pique-nique\, des concerts live\, une retraite aux flambeaux et un feu d’artifice avec mapping\, le tout dans une ambiance chaleureuse et conviviale.\n\n\nTout au long des deux journées\, des foodtrucks seront présents pour satisfaire toutes vos envies.\n\n\n\n Samedi 12 Juillet\n De 17h à minuit\nLa soirée débutera avec le concept Éphémère Soirée\, animé par deux DJ survoltés : Eric Moore et Ben. Venez danser et profiter de leurs mixes entraînants jusqu’à minuit.\n\n\n Entrée : 6 €\n\n\nPour vous restaurer\, plusieurs foodtrucks seront installés sur place :\n Côté salé\, vous pourrez déguster les spécialités du Foodtruck O’Bunch ainsi que les savoureuses tartes flambées de Flam’s Truck.\n Côté sucré\, laissez-vous tenter par les gaufres gourmandes de Au Nom d’une Gaufre et les délicieuses pizzas de Pizza Aldo.\n\n\n\n Dimanche 13 Juillet\n De 12h à 23h\nDès midi\, deux DJ prendront les platines pour assurer une ambiance musicale tout au long de la journée.\n\n\n Des concerts live viendront rythmer l’après-midi :\n• The Trackers monteront sur scène à 14h.\n• Le groupe Dixcorde se produira à 16h.\n Retraite aux flambeaux\nLe soir\, retrouvez-nous à 21h30 devant la Maison de quartier. Le départ de la retraite aux flambeaux aura lieu à 22h\, en direction du parc du Château Fortier.\nLa journée se clôturera en beauté avec un feu d’artifice et un mapping sur le château à 23h.\n\n\n Entrée gratuite\n\n\n Pour vous régaler dimanche\, plusieurs options gourmandes vous attendent :\nLe midi :\n• Foodtruck Pizza Aldo proposera ses recettes salées.\n• Au Nom d’une Gaufre vous fera découvrir ses douceurs sucrées.\nLe soir :\n• Vous retrouverez Pizza Aldo et Flam’s Truck pour prolonger la fête autour d’un bon repas.\n\n\n\n N’oubliez pas la commémoration officielle du 14 Juillet.\nNous vous donnons rendez-vous au monument aux morts à 11h pour ce moment de recueillement.
URL:https://www.ville-saint-saulve.fr/event/fete-nationale-3/
LOCATION:Château Fortier\, 44 Rue Henri Barbusse\, Saint-Saulve\, Sélectionner un État :\, 59880\, France
ATTACH;FMTTYPE=image/jpeg:https://www.ville-saint-saulve.fr/wp-content/uploads/affiche_fete_nationale-1-scaled.jpg
END:VEVENT
END:VCALENDAR