BEGIN:VCALENDAR
VERSION:2.0
PRODID:-//Ville de Saint Saulve - ECPv6.15.20//NONSGML v1.0//EN
CALSCALE:GREGORIAN
METHOD:PUBLISH
X-ORIGINAL-URL:https://www.ville-saint-saulve.fr
X-WR-CALDESC:Évènements pour Ville de Saint Saulve
REFRESH-INTERVAL;VALUE=DURATION:PT1H
X-Robots-Tag:noindex
X-PUBLISHED-TTL:PT1H
BEGIN:VTIMEZONE
TZID:Europe/Paris
BEGIN:DAYLIGHT
TZOFFSETFROM:+0100
TZOFFSETTO:+0200
TZNAME:CEST
DTSTART:20240331T010000
END:DAYLIGHT
BEGIN:STANDARD
TZOFFSETFROM:+0200
TZOFFSETTO:+0100
TZNAME:CET
DTSTART:20241027T010000
END:STANDARD
BEGIN:DAYLIGHT
TZOFFSETFROM:+0100
TZOFFSETTO:+0200
TZNAME:CEST
DTSTART:20250330T010000
END:DAYLIGHT
BEGIN:STANDARD
TZOFFSETFROM:+0200
TZOFFSETTO:+0100
TZNAME:CET
DTSTART:20251026T010000
END:STANDARD
BEGIN:DAYLIGHT
TZOFFSETFROM:+0100
TZOFFSETTO:+0200
TZNAME:CEST
DTSTART:20260329T010000
END:DAYLIGHT
BEGIN:STANDARD
TZOFFSETFROM:+0200
TZOFFSETTO:+0100
TZNAME:CET
DTSTART:20261025T010000
END:STANDARD
END:VTIMEZONE
BEGIN:VEVENT
DTSTART;TZID=Europe/Paris:20250919T080000
DTEND;TZID=Europe/Paris:20250926T170000
DTSTAMP:20260424T191146
CREATED:20250917T142040Z
LAST-MODIFIED:20250917T142049Z
UID:34363-1758268800-1758906000@www.ville-saint-saulve.fr
SUMMARY:UNE RÉSIDENCE D'ARTISTES À SAINT-SAULVE 💚
DESCRIPTION:UNE RÉSIDENCE D’ARTISTES À SAINT-SAULVE 💚\n\n\nA la portée de tou.te.s ! 🙌\n\n\n \n\n\n▪️Le collectif XY – composé de six acrobates et un photographe – pose ses valises à Saint-Saulve\, du 19 au 26 septembre. Le Pôle Associer vous invite à les rencontrer\, durant plusieurs créneaux\, pour découvrir leur univers où les corps s’entremêlent\, se soutiennent et se construisent comme une architecture vivante. 🫶\n\n\n \n\n\n➡ Quand les rencontrer ? \n\n\n– Vendredi 19 septembre\, 16h40 – 17h devant l’école du Roleur\, où les artistes vous salueront de manière atypique. \n\n\n– Samedi 20 septembre\, 16h – 17h30 à la halle\, pour assister aux répétitions.\n\n\n– Lundi 22 septembre\, 16h45 – 17h30 devant l’école du Roleur\, pour vivre un moment insolite ! \n\n\n \n\n\n➡ Pour participer à des ateliers : \n\n\n– ACROBATIE > Samedi 20 septembre\, de 13h30 à 15h30\, le collectif XY vous invite à savourer les joies de l’acrobatie en duo\, en trio et/ou en famille. \n\n\n– PHOTOGRAPHIE > Samedi 20 septembre : atelier autour de la photographie. \n\n\nLes ateliers sont gratuits\, ouverts à tou.te.s à partir de 8 ans. \n\n\nℹSur inscriptions par mail auprès de Dorothée Deltombe : deltombe@lephenix.fr \n\n\n \n\n\n▪️La restitution de cette résidence d’artistes aura lieu vendredi 26 septembre\, à 18h\, dans la halle. Vous pourrez y découvrir le travail participatif de création acrobatique\, photographique et poétique\, qui aura été réalisé dans la commune durant une semaine\, notamment avec les élèves de la classe de CM1 de l’école du Rôleur.\n\n\nℹEntrée est gratuite\, dans la limite des places disponibles.\n\n\n \n\n\n🌸Ce projet artistique vous est proposé dans le cadre de la collaboration entre la Ville\, l’école du rôleur\, le bailleur social SIGH et le Phénix\, scène nationale.
URL:https://www.ville-saint-saulve.fr/event/une-residence-dartistes-a-saint-saulve-%f0%9f%92%9a/
LOCATION:O’Centr’Halle\, 144 rue Jean Jaurès\, Saint-Saulve\, 59880\, France
ATTACH;FMTTYPE=image/jpeg:https://www.ville-saint-saulve.fr/wp-content/uploads/Flyer-XY-Nos-bords-du-monde-ebauche-recto.jpg
END:VEVENT
BEGIN:VEVENT
DTSTART;TZID=Europe/Paris:20250920T093000
DTEND;TZID=Europe/Paris:20250920T120000
DTSTAMP:20260424T191146
CREATED:20250812T130033Z
LAST-MODIFIED:20250812T130038Z
UID:33569-1758360600-1758369600@www.ville-saint-saulve.fr
SUMMARY:WORLD CLEAN UP DAY
DESCRIPTION:👉 1 000 000 de tonnes de déchets abandonnés en France chaque année.\n\n\n👉 500 kg d’ordures ménagères produits par habitant chaque année.\n\n\n👉 30 à 40 milliards de mégots jetés par terre\, chaque année en France.\n\n\n👉 25 millions de bouteilles en plastique jetées chaque jour.\n\n\n \n\n\n⚠️ Une bouteille en plastique peut prendre entre 100 et 1000 ans pour se\n\n\ndécomposer dans la nature.\n\n\n⚠️ L’équivalent d’un camion-poubelle de plastique se déverse dans l’océan\n\n\nchaque minute.\n\n\n \n\n\n➡ Je sais ce que vous vous dîtes… « On ne va pas ramasser la m**** des autres ! ». \n\n\n« On ne va pas se décarcasser pour ceux qui ne jouent pas le jeu. » 😔\n\n\n \n\n\n➡ Et si\, au contraire\, nous leur montrions l’exemple ? « Ils s’en foutent. » Nous\, non. 💪\n\n\n \n\n\nPour des promenades sans soupirs\, pour des balades sans froncer les sourcils\, pour un cadre de vie agréable et des émerveillements\, rejoignons le mouvement ! 🧡\n\n\n▫️Le 20 septembres\, réunissons-nous\, avec nos gants\, pinces\, et autre bonne volonté\, pour un acte citoyen\, dans la solidarité et la joie. La planète est la maison commune. Tou.te.s colocataires 🤜🤛
URL:https://www.ville-saint-saulve.fr/event/world-clean-up-day/
LOCATION:Mairie\, 146 Rue Jean jaures\, St-Saulve\, Haut-de-France\, 59880\, France
ATTACH;FMTTYPE=image/png:https://www.ville-saint-saulve.fr/wp-content/uploads/Post-instagram-ramassage-des-dechets-bleu-et-orange-collage.png
ORGANIZER;CN="Mairie":MAILTO:mairie@ville-saint-saulve.fr
END:VEVENT
END:VCALENDAR