BEGIN:VCALENDAR
VERSION:2.0
PRODID:-//Ville de Saint Saulve - ECPv6.15.20//NONSGML v1.0//EN
CALSCALE:GREGORIAN
METHOD:PUBLISH
X-ORIGINAL-URL:https://www.ville-saint-saulve.fr
X-WR-CALDESC:Évènements pour Ville de Saint Saulve
REFRESH-INTERVAL;VALUE=DURATION:PT1H
X-Robots-Tag:noindex
X-PUBLISHED-TTL:PT1H
BEGIN:VTIMEZONE
TZID:Europe/Paris
BEGIN:DAYLIGHT
TZOFFSETFROM:+0100
TZOFFSETTO:+0200
TZNAME:CEST
DTSTART:20240331T010000
END:DAYLIGHT
BEGIN:STANDARD
TZOFFSETFROM:+0200
TZOFFSETTO:+0100
TZNAME:CET
DTSTART:20241027T010000
END:STANDARD
BEGIN:DAYLIGHT
TZOFFSETFROM:+0100
TZOFFSETTO:+0200
TZNAME:CEST
DTSTART:20250330T010000
END:DAYLIGHT
BEGIN:STANDARD
TZOFFSETFROM:+0200
TZOFFSETTO:+0100
TZNAME:CET
DTSTART:20251026T010000
END:STANDARD
BEGIN:DAYLIGHT
TZOFFSETFROM:+0100
TZOFFSETTO:+0200
TZNAME:CEST
DTSTART:20260329T010000
END:DAYLIGHT
BEGIN:STANDARD
TZOFFSETFROM:+0200
TZOFFSETTO:+0100
TZNAME:CET
DTSTART:20261025T010000
END:STANDARD
END:VTIMEZONE
BEGIN:VEVENT
DTSTART;VALUE=DATE:20251001
DTEND;VALUE=DATE:20251101
DTSTAMP:20260424T173924
CREATED:20250925T090009Z
LAST-MODIFIED:20250925T090702Z
UID:34538-1759276800-1761955199@www.ville-saint-saulve.fr
SUMMARY:Le mois bleu : du 1er au 31 octobre
DESCRIPTION:Consultez le programme détaillé en CLIQUANT ICI.
URL:https://www.ville-saint-saulve.fr/event/le-mois-bleu-du-1er-au-31-octobre/
END:VEVENT
BEGIN:VEVENT
DTSTART;TZID=Europe/Paris:20251008T090000
DTEND;TZID=Europe/Paris:20251012T130000
DTSTAMP:20260424T173924
CREATED:20250925T081830Z
LAST-MODIFIED:20250925T081837Z
UID:34526-1759914000-1760274000@www.ville-saint-saulve.fr
SUMMARY:Nos séniors ont du talent : Exposition
DESCRIPTION:Exposition du 8 au 12 octobre à Ô’Centr’Hall. \nHoraires : \nMercredi au samedi de 9h00 à 12h00 et de 14h00 à 17h00 \nDimanche de 9h00 à 13h00
URL:https://www.ville-saint-saulve.fr/event/nos-seniors-ont-du-talent-exposition/
LOCATION:O’Centr’Halle\, 144 rue Jean Jaurès\, Saint-Saulve\, 59880\, France
END:VEVENT
BEGIN:VEVENT
DTSTART;TZID=Europe/Paris:20251008T180000
DTEND;TZID=Europe/Paris:20251008T180000
DTSTAMP:20260424T173924
CREATED:20250926T092327Z
LAST-MODIFIED:20250926T115438Z
UID:34547-1759946400-1759946400@www.ville-saint-saulve.fr
SUMMARY:DANSE ET OBJETS FESTIVAL ITINÉRANT DE MARIONNETTES 2025
DESCRIPTION:18h inauguration du festival – 18h30 spectacle \nTarifs : 5 euros (gratuit – 2 ans) – Jeune public dès 2 ans \nDurée : 30 min (spectacle) + 15 min (bord de scène) \nSéances scolaires : Jeudi 9/10 à 9h15 et 10h30 \nC’est l’histoire d’un petit zèbre pas encore né. Tous les habitants l’attendent. Il prend son temps. Il prend son élan.\nPuis vient le moment de la naissance au monde\, de la découverte de la vie et de la rencontre avec son environnement.\nÀ l’image de cet animal unique en son genre\, Zèbres célèbre nos différences et nos singularités\, nos besoins réciproques de s’accorder avec les autres et la construction de soi.
URL:https://www.ville-saint-saulve.fr/event/danse-et-objets-festival-itinerant-de-marionnettes-2025/
LOCATION:Espace Athena\, 2 Pl. du 8 Mai 1945\, Saint-Saulve\, 59880\, France
ORGANIZER;CN="MJC":MAILTO:accueil@mjc-athena.org
END:VEVENT
END:VCALENDAR