BEGIN:VCALENDAR
VERSION:2.0
PRODID:-//Ville de Saint Saulve - ECPv6.15.20//NONSGML v1.0//EN
CALSCALE:GREGORIAN
METHOD:PUBLISH
X-ORIGINAL-URL:https://www.ville-saint-saulve.fr
X-WR-CALDESC:Évènements pour Ville de Saint Saulve
REFRESH-INTERVAL;VALUE=DURATION:PT1H
X-Robots-Tag:noindex
X-PUBLISHED-TTL:PT1H
BEGIN:VTIMEZONE
TZID:Europe/Paris
BEGIN:DAYLIGHT
TZOFFSETFROM:+0100
TZOFFSETTO:+0200
TZNAME:CEST
DTSTART:20240331T010000
END:DAYLIGHT
BEGIN:STANDARD
TZOFFSETFROM:+0200
TZOFFSETTO:+0100
TZNAME:CET
DTSTART:20241027T010000
END:STANDARD
BEGIN:DAYLIGHT
TZOFFSETFROM:+0100
TZOFFSETTO:+0200
TZNAME:CEST
DTSTART:20250330T010000
END:DAYLIGHT
BEGIN:STANDARD
TZOFFSETFROM:+0200
TZOFFSETTO:+0100
TZNAME:CET
DTSTART:20251026T010000
END:STANDARD
BEGIN:DAYLIGHT
TZOFFSETFROM:+0100
TZOFFSETTO:+0200
TZNAME:CEST
DTSTART:20260329T010000
END:DAYLIGHT
BEGIN:STANDARD
TZOFFSETFROM:+0200
TZOFFSETTO:+0100
TZNAME:CET
DTSTART:20261025T010000
END:STANDARD
END:VTIMEZONE
BEGIN:VEVENT
DTSTART;VALUE=DATE:20251001
DTEND;VALUE=DATE:20251101
DTSTAMP:20260424T173937
CREATED:20250925T090009Z
LAST-MODIFIED:20250925T090702Z
UID:34538-1759276800-1761955199@www.ville-saint-saulve.fr
SUMMARY:Le mois bleu : du 1er au 31 octobre
DESCRIPTION:Consultez le programme détaillé en CLIQUANT ICI.
URL:https://www.ville-saint-saulve.fr/event/le-mois-bleu-du-1er-au-31-octobre/
END:VEVENT
BEGIN:VEVENT
DTSTART;TZID=Europe/Paris:20251015T100000
DTEND;TZID=Europe/Paris:20251019T180000
DTSTAMP:20260424T173937
CREATED:20251013T155620Z
LAST-MODIFIED:20251013T155628Z
UID:34755-1760522400-1760896800@www.ville-saint-saulve.fr
SUMMARY:EXPO CRAPAUD
DESCRIPTION:EXP CRAPAUD\n\n\n\nCatherine s’est jetée dans la peinture\, corps & âme\, il y a moins de deux ans\, comme un intense besoin de s’exprimer qui ne pouvait attendre plus longtemps.\nTotalement novice\, la Saint-Saulvienne de coeur a beaucoup travaillé pour parfaire sa technique et multiplier les créations.\nProlifique\, Catherine\, alias Crapaud – son nom d’artiste – laisse la nuit sonder son imaginaire\, pour façonner ses toiles au grès de sa créativité instinctive. \n\nSon univers ? Catherine n’a pas mis longtemps à le trouver. Il s’est imposé à elle comme une évidence.\nAncienne médium\, fascinée par les atmosphères mystiques\, Catherine ose les toiles sombres\, surréalistes\, fantastiques\, étranges…\nAttendez-vous à être dérouté.e.s\, surpris.e.s… par l’univers inquiétant de celle qui ne s’explique pas toujours où le pinceau veut la mener.\nDes toiles audacieuses\, originales qui ne laisseront personne indifférent.
URL:https://www.ville-saint-saulve.fr/event/expo-crapaud/
LOCATION:O’Centr’Halle\, 144 rue Jean Jaurès\, Saint-Saulve\, 59880\, France
ATTACH;FMTTYPE=image/jpeg:https://www.ville-saint-saulve.fr/wp-content/uploads/affiche_expo_peinture_crapaud_web-scaled.jpg
END:VEVENT
BEGIN:VEVENT
DTSTART;TZID=Europe/Paris:20251016T203000
DTEND;TZID=Europe/Paris:20251016T203000
DTSTAMP:20260424T173937
CREATED:20250926T121008Z
LAST-MODIFIED:20250926T121016Z
UID:34553-1760646600-1760646600@www.ville-saint-saulve.fr
SUMMARY:TRIBUTE ROLLING STONES : Open TuninG
DESCRIPTION:OpentuninG est un tribute-band de musiciens professionnels qui perpétue l’héritage des Rolling Stones.\nLe groupe est emmené par l’étonnant Garbo d’Astorg\, chanteur et instrumentiste hors-pair\, qui campe un Mick Jagger bondissant en y ajoutant sa touche personnelle\, mais en respectant l’identité et l’authenticité de son aîné. \nAvec son duo de guitaristes fusionnels\, sa section-cuivres aux riffs tranchants et sa section rythmique inoxydable\, OpentuninG propose un show énergique. \nOpentuninG interprète un répertoire qui mêle des incontournables des Rolling Stones mais aussi des medleys spécialement créés à l’intention d’un public transgénérationnel\, fans depuis six décennies ou tout nouvellement convertis.\nDurant plus de deux heures de spectacle\, avec OpentuninG\, vous revivrez avec passion le son\, l’énergie et la flamboyance des Rolling Stones. \nwww.opentuning.fr \nTarifs : 10 / 8 euros – Tout public
URL:https://www.ville-saint-saulve.fr/event/tribute-rolling-stones-open-tuning/
LOCATION:Espace Athena\, 2 Pl. du 8 Mai 1945\, Saint-Saulve\, 59880\, France
ORGANIZER;CN="MJC":MAILTO:accueil@mjc-athena.org
END:VEVENT
END:VCALENDAR