BEGIN:VCALENDAR
VERSION:2.0
PRODID:-//Ville de Saint Saulve - ECPv6.15.20//NONSGML v1.0//EN
CALSCALE:GREGORIAN
METHOD:PUBLISH
X-ORIGINAL-URL:https://www.ville-saint-saulve.fr
X-WR-CALDESC:Évènements pour Ville de Saint Saulve
REFRESH-INTERVAL;VALUE=DURATION:PT1H
X-Robots-Tag:noindex
X-PUBLISHED-TTL:PT1H
BEGIN:VTIMEZONE
TZID:Europe/Paris
BEGIN:DAYLIGHT
TZOFFSETFROM:+0100
TZOFFSETTO:+0200
TZNAME:CEST
DTSTART:20240331T010000
END:DAYLIGHT
BEGIN:STANDARD
TZOFFSETFROM:+0200
TZOFFSETTO:+0100
TZNAME:CET
DTSTART:20241027T010000
END:STANDARD
BEGIN:DAYLIGHT
TZOFFSETFROM:+0100
TZOFFSETTO:+0200
TZNAME:CEST
DTSTART:20250330T010000
END:DAYLIGHT
BEGIN:STANDARD
TZOFFSETFROM:+0200
TZOFFSETTO:+0100
TZNAME:CET
DTSTART:20251026T010000
END:STANDARD
BEGIN:DAYLIGHT
TZOFFSETFROM:+0100
TZOFFSETTO:+0200
TZNAME:CEST
DTSTART:20260329T010000
END:DAYLIGHT
BEGIN:STANDARD
TZOFFSETFROM:+0200
TZOFFSETTO:+0100
TZNAME:CET
DTSTART:20261025T010000
END:STANDARD
END:VTIMEZONE
BEGIN:VEVENT
DTSTART;VALUE=DATE:20251001
DTEND;VALUE=DATE:20251101
DTSTAMP:20260424T173935
CREATED:20250925T090009Z
LAST-MODIFIED:20250925T090702Z
UID:34538-1759276800-1761955199@www.ville-saint-saulve.fr
SUMMARY:Le mois bleu : du 1er au 31 octobre
DESCRIPTION:Consultez le programme détaillé en CLIQUANT ICI.
URL:https://www.ville-saint-saulve.fr/event/le-mois-bleu-du-1er-au-31-octobre/
END:VEVENT
BEGIN:VEVENT
DTSTART;TZID=Europe/Paris:20251023T080000
DTEND;TZID=Europe/Paris:20251023T170000
DTSTAMP:20260424T173935
CREATED:20251023T142416Z
LAST-MODIFIED:20251023T142424Z
UID:34941-1761206400-1761238800@www.ville-saint-saulve.fr
SUMMARY:POUR LES PARENTS & ASSOCIÉ.E.S 😉
DESCRIPTION:▫️L’excellent professeur Storme et son équipe reviennent à Saint-Saulve pour vous parler parentalité.\nDe l’importance des premiers jours de vie de l’enfant à la nouvelle façon d’être parent aujourd’hui\, en passant par la place du père…\nCette conférence vous donnera les clés d’une parentalité épanouie. 🌼 \n▫️Pas de tabous\, des informations précieuses\, des échanges instructifs et un moment de vivre ensemble qui fait du bien\, pour se rassurer et se sentir soutenu.e.s dans cette vertigineuse aventure de la parentalité. 🫶 \n➡️Un évènement proposé par le service petite enfance de la ville.
URL:https://www.ville-saint-saulve.fr/event/pour-les-parents-associe-e-s-%f0%9f%98%89/
ATTACH;FMTTYPE=image/jpeg:https://www.ville-saint-saulve.fr/wp-content/uploads/affiche_conference_parentalite_web-scaled.jpg
END:VEVENT
BEGIN:VEVENT
DTSTART;TZID=Europe/Paris:20251023T143000
DTEND;TZID=Europe/Paris:20251023T143000
DTSTAMP:20260424T173935
CREATED:20250929T122505Z
LAST-MODIFIED:20250929T122514Z
UID:34586-1761229800-1761229800@www.ville-saint-saulve.fr
SUMMARY:Activité seniors : Atelier manuel
DESCRIPTION:Atelier manuel avec LiseCréa\nSculpture tout de rose vêtu pour octobre rose. \nLimité à 10 personnes \nRetrouvez le calendrier des animations seniors 2025 en cliquant ici ! \nActivité réservée aux retraités et seniors saint-saulviens\nInscriptions dans la limite des places disponibles et renseignements auprès du service Seniors du pôle accompagner au 03 27 45 05 80 ou par mail à seniors@ville-saint-saulve.fr
URL:https://www.ville-saint-saulve.fr/event/activite-seniors-atelier-manuel-7/
LOCATION:Salle du Bosquet\, Av. Guillaume Apollinaire\, 59880 Saint-Saulve\, Saint-Saulve\, 59880
END:VEVENT
END:VCALENDAR