BEGIN:VCALENDAR
VERSION:2.0
PRODID:-//Ville de Saint Saulve - ECPv6.15.20//NONSGML v1.0//EN
CALSCALE:GREGORIAN
METHOD:PUBLISH
X-ORIGINAL-URL:https://www.ville-saint-saulve.fr
X-WR-CALDESC:Évènements pour Ville de Saint Saulve
REFRESH-INTERVAL;VALUE=DURATION:PT1H
X-Robots-Tag:noindex
X-PUBLISHED-TTL:PT1H
BEGIN:VTIMEZONE
TZID:Europe/Paris
BEGIN:DAYLIGHT
TZOFFSETFROM:+0100
TZOFFSETTO:+0200
TZNAME:CEST
DTSTART:20240331T010000
END:DAYLIGHT
BEGIN:STANDARD
TZOFFSETFROM:+0200
TZOFFSETTO:+0100
TZNAME:CET
DTSTART:20241027T010000
END:STANDARD
BEGIN:DAYLIGHT
TZOFFSETFROM:+0100
TZOFFSETTO:+0200
TZNAME:CEST
DTSTART:20250330T010000
END:DAYLIGHT
BEGIN:STANDARD
TZOFFSETFROM:+0200
TZOFFSETTO:+0100
TZNAME:CET
DTSTART:20251026T010000
END:STANDARD
BEGIN:DAYLIGHT
TZOFFSETFROM:+0100
TZOFFSETTO:+0200
TZNAME:CEST
DTSTART:20260329T010000
END:DAYLIGHT
BEGIN:STANDARD
TZOFFSETFROM:+0200
TZOFFSETTO:+0100
TZNAME:CET
DTSTART:20261025T010000
END:STANDARD
END:VTIMEZONE
BEGIN:VEVENT
DTSTART;TZID=Europe/Paris:20251215T090000
DTEND;TZID=Europe/Paris:20251215T110000
DTSTAMP:20260424T144746
CREATED:20251212T112632Z
LAST-MODIFIED:20251212T112706Z
UID:35213-1765789200-1765796400@www.ville-saint-saulve.fr
SUMMARY:Réunion de la commission de contrôle des listes électorales
DESCRIPTION:
URL:https://www.ville-saint-saulve.fr/event/reunion-de-la-commission-des-listes-electorales/
LOCATION:Mairie\, 146 Rue Jean jaures\, St-Saulve\, Haut-de-France\, 59880\, France
END:VEVENT
BEGIN:VEVENT
DTSTART;TZID=Europe/Paris:20251215T100000
DTEND;TZID=Europe/Paris:20251215T100000
DTSTAMP:20260424T144746
CREATED:20251202T095151Z
LAST-MODIFIED:20251202T095154Z
UID:35176-1765792800-1765792800@www.ville-saint-saulve.fr
SUMMARY:Activité seniors : Taï Chi (COMPLET)
DESCRIPTION:Taï Chi COMPLET\nLimité à 10 personnes\n \nRetrouvez le calendrier des animations seniors 2025 en cliquant ici ! \nActivité réservée aux retraités et seniors saint-saulviens\nInscriptions dans la limite des places disponibles et renseignements auprès du service Seniors du pôle accompagner au 03 27 45 05 80 ou par mail à seniors@ville-saint-saulve.fr
URL:https://www.ville-saint-saulve.fr/event/activite-seniors-tai-chi-complet-2/
LOCATION:Salle des sports Coubertin\, 33 Rue Roger Salengro\, Saint-Saulve\, 59880\, France
END:VEVENT
END:VCALENDAR