BEGIN:VCALENDAR
VERSION:2.0
PRODID:-//Ville de Saint Saulve - ECPv6.15.20//NONSGML v1.0//EN
CALSCALE:GREGORIAN
METHOD:PUBLISH
X-WR-CALNAME:Ville de Saint Saulve
X-ORIGINAL-URL:https://www.ville-saint-saulve.fr
X-WR-CALDESC:Évènements pour Ville de Saint Saulve
REFRESH-INTERVAL;VALUE=DURATION:PT1H
X-Robots-Tag:noindex
X-PUBLISHED-TTL:PT1H
BEGIN:VTIMEZONE
TZID:Europe/Paris
BEGIN:DAYLIGHT
TZOFFSETFROM:+0100
TZOFFSETTO:+0200
TZNAME:CEST
DTSTART:20240331T010000
END:DAYLIGHT
BEGIN:STANDARD
TZOFFSETFROM:+0200
TZOFFSETTO:+0100
TZNAME:CET
DTSTART:20241027T010000
END:STANDARD
BEGIN:DAYLIGHT
TZOFFSETFROM:+0100
TZOFFSETTO:+0200
TZNAME:CEST
DTSTART:20250330T010000
END:DAYLIGHT
BEGIN:STANDARD
TZOFFSETFROM:+0200
TZOFFSETTO:+0100
TZNAME:CET
DTSTART:20251026T010000
END:STANDARD
BEGIN:DAYLIGHT
TZOFFSETFROM:+0100
TZOFFSETTO:+0200
TZNAME:CEST
DTSTART:20260329T010000
END:DAYLIGHT
BEGIN:STANDARD
TZOFFSETFROM:+0200
TZOFFSETTO:+0100
TZNAME:CET
DTSTART:20261025T010000
END:STANDARD
END:VTIMEZONE
BEGIN:VEVENT
DTSTART;TZID=Europe/Paris:20251219T180000
DTEND;TZID=Europe/Paris:20251219T210000
DTSTAMP:20260424T144616
CREATED:20251211T084116Z
LAST-MODIFIED:20251211T084120Z
UID:35205-1766167200-1766178000@www.ville-saint-saulve.fr
SUMMARY:Pool Party
DESCRIPTION:🎉 Pool Party à la piscine municipale 🎶 \nVenez profiter d’une soirée au bord de l’eau ! \nNous vous invitons à une Pool Party\, animée par un DJ qui mettra l’ambiance avec des sons frais et entraînants. 🌊💃🕺 \n🗓 Date : Vendredi 19 décembre⏰ Heure : De 18h00 à 21h00📍 Lieu : Piscine municipale \n🎧 Au programme : \n\n\nMusique avec notre DJ \n\n\nAmbiance festive et conviviale \n\n\nEntrée gratuite et ouverte à tous ! \n\n\nVenez avec vos amis\, votre bonne humeur et préparez-vous à vous amuser dans l’eau et sur la piste de danse ! \n🔥 À ne pas manquer !
URL:https://www.ville-saint-saulve.fr/event/pool-party-4/
LOCATION:Piscine municipale\, 2 Av. Robert Schuman\, Saint-Saulve\, 59880\, France
ATTACH;FMTTYPE=image/jpeg:https://www.ville-saint-saulve.fr/wp-content/uploads/affiche_pool_party_dec_2025_web-scaled.jpg
END:VEVENT
BEGIN:VEVENT
DTSTART;TZID=Europe/Paris:20251219T203000
DTEND;TZID=Europe/Paris:20251219T203000
DTSTAMP:20260424T144616
CREATED:20251205T133536Z
LAST-MODIFIED:20251205T133551Z
UID:35193-1766176200-1766176200@www.ville-saint-saulve.fr
SUMMARY:CONCERT GOSPEL
DESCRIPTION:ELLES & ILS REVIENNENT ! \n\n\n\nVous les avez manqué en 2023 ? \n\nPas de problèmes\, les revoilà ! \n\n\nDans quelques semaines\, la MJC va vibrer aux timbres envoûtant\, puissant et majestueux des chanteuses et chanteurs de la troupe Gospel United. \n\n\nUn merveilleux moment en perspective\, pour débuter les vacances de Noël en beauté. \n\n\n\n La MJC ne sera pas accessible avant l’ouverture des portes\, à 20h. Aucune entrée n’y sera autorisée en amont.\n\n\n Réservez par mail\, SMS ou appels. Ne laissez pas de messages vocaux. Nous vous rappelons si vous n’avez pas réussi à nous joindre. Merci.\nbayart.p@ville-saint-saulve.fr\n07 89 40 48 03
URL:https://www.ville-saint-saulve.fr/event/35193/
LOCATION:Espace Athena\, 2 Pl. du 8 Mai 1945\, Saint-Saulve\, 59880\, France
ATTACH;FMTTYPE=image/jpeg:https://www.ville-saint-saulve.fr/wp-content/uploads/affiche_concert_gospel_2025_mjc-scaled.jpg
END:VEVENT
END:VCALENDAR