BEGIN:VCALENDAR
VERSION:2.0
PRODID:-//Ville de Saint Saulve - ECPv6.15.20//NONSGML v1.0//EN
CALSCALE:GREGORIAN
METHOD:PUBLISH
X-ORIGINAL-URL:https://www.ville-saint-saulve.fr
X-WR-CALDESC:Évènements pour Ville de Saint Saulve
REFRESH-INTERVAL;VALUE=DURATION:PT1H
X-Robots-Tag:noindex
X-PUBLISHED-TTL:PT1H
BEGIN:VTIMEZONE
TZID:Europe/Paris
BEGIN:DAYLIGHT
TZOFFSETFROM:+0100
TZOFFSETTO:+0200
TZNAME:CEST
DTSTART:20250330T010000
END:DAYLIGHT
BEGIN:STANDARD
TZOFFSETFROM:+0200
TZOFFSETTO:+0100
TZNAME:CET
DTSTART:20251026T010000
END:STANDARD
BEGIN:DAYLIGHT
TZOFFSETFROM:+0100
TZOFFSETTO:+0200
TZNAME:CEST
DTSTART:20260329T010000
END:DAYLIGHT
BEGIN:STANDARD
TZOFFSETFROM:+0200
TZOFFSETTO:+0100
TZNAME:CET
DTSTART:20261025T010000
END:STANDARD
BEGIN:DAYLIGHT
TZOFFSETFROM:+0100
TZOFFSETTO:+0200
TZNAME:CEST
DTSTART:20270328T010000
END:DAYLIGHT
BEGIN:STANDARD
TZOFFSETFROM:+0200
TZOFFSETTO:+0100
TZNAME:CET
DTSTART:20271031T010000
END:STANDARD
END:VTIMEZONE
BEGIN:VEVENT
DTSTART;TZID=Europe/Paris:20260110T180000
DTEND;TZID=Europe/Paris:20260110T180000
DTSTAMP:20260424T131837
CREATED:20251223T130456Z
LAST-MODIFIED:20251223T130501Z
UID:35386-1768068000-1768068000@www.ville-saint-saulve.fr
SUMMARY:Concert du nouvel et voeux du Maire
DESCRIPTION:CONCERT DU NOUVEL AN \n\n\n\nVous voulez commencer l’année avec des étoiles plein les yeux ? C’est ici que ça se passe ! À l’occasion des voeux du maire\, l’orchestre de Saint-Saulve donnera un concert de toute beauté\, ponctué de nombreuses surprises. \nUn véritable enchantement vous attend.\n\nVenez nombreux.ses !
URL:https://www.ville-saint-saulve.fr/event/concert-du-nouvel-et-voeux-du-maire/
LOCATION:Salle des sports Coubertin\, 33 Rue Roger Salengro\, Saint-Saulve\, 59880\, France
ATTACH;FMTTYPE=image/jpeg:https://www.ville-saint-saulve.fr/wp-content/uploads/affiche_concert_nouvel_an_web-scaled.jpg
END:VEVENT
END:VCALENDAR