BEGIN:VCALENDAR
VERSION:2.0
PRODID:-//Ville de Saint Saulve - ECPv6.15.20//NONSGML v1.0//EN
CALSCALE:GREGORIAN
METHOD:PUBLISH
X-ORIGINAL-URL:https://www.ville-saint-saulve.fr
X-WR-CALDESC:Évènements pour Ville de Saint Saulve
REFRESH-INTERVAL;VALUE=DURATION:PT1H
X-Robots-Tag:noindex
X-PUBLISHED-TTL:PT1H
BEGIN:VTIMEZONE
TZID:Europe/Paris
BEGIN:DAYLIGHT
TZOFFSETFROM:+0100
TZOFFSETTO:+0200
TZNAME:CEST
DTSTART:20250330T010000
END:DAYLIGHT
BEGIN:STANDARD
TZOFFSETFROM:+0200
TZOFFSETTO:+0100
TZNAME:CET
DTSTART:20251026T010000
END:STANDARD
BEGIN:DAYLIGHT
TZOFFSETFROM:+0100
TZOFFSETTO:+0200
TZNAME:CEST
DTSTART:20260329T010000
END:DAYLIGHT
BEGIN:STANDARD
TZOFFSETFROM:+0200
TZOFFSETTO:+0100
TZNAME:CET
DTSTART:20261025T010000
END:STANDARD
BEGIN:DAYLIGHT
TZOFFSETFROM:+0100
TZOFFSETTO:+0200
TZNAME:CEST
DTSTART:20270328T010000
END:DAYLIGHT
BEGIN:STANDARD
TZOFFSETFROM:+0200
TZOFFSETTO:+0100
TZNAME:CET
DTSTART:20271031T010000
END:STANDARD
END:VTIMEZONE
BEGIN:VEVENT
DTSTART;TZID=Europe/Paris:20260111T093000
DTEND;TZID=Europe/Paris:20260111T130000
DTSTAMP:20260424T131904
CREATED:20251205T130248Z
LAST-MODIFIED:20251205T130253Z
UID:35186-1768123800-1768136400@www.ville-saint-saulve.fr
SUMMARY:Marché du terroir et de l'artisanat
DESCRIPTION:
URL:https://www.ville-saint-saulve.fr/event/marche-du-terroir-et-de-lartisanat-24/
LOCATION:O’Centr’Halle\, 144 rue Jean Jaurès\, Saint-Saulve\, 59880\, France
ATTACH;FMTTYPE=image/jpeg:https://www.ville-saint-saulve.fr/wp-content/uploads/affiche_marche_du_terroir_hiver_2025-scaled.jpg
END:VEVENT
BEGIN:VEVENT
DTSTART;TZID=Europe/Paris:20260111T100000
DTEND;TZID=Europe/Paris:20260111T100000
DTSTAMP:20260424T131904
CREATED:20260108T152420Z
LAST-MODIFIED:20260108T152425Z
UID:35404-1768125600-1768125600@www.ville-saint-saulve.fr
SUMMARY:Assemblée générale du Comité des fêtes du Bas-Marais
DESCRIPTION:Le comité des fêtes du Bas-Marais vous invite à son assemblée générale \nle dimanche 11 janvier à 10h\nà la salle des fêtes de Saint-Saulve
URL:https://www.ville-saint-saulve.fr/event/assemblee-generale-du-comite-des-fetes-du-bas-marais-2/
LOCATION:Salle des Fêtes\, 8 place Louis Maillard\, Saint-Saulve\, Hauts-de-France\, 59880\, France
END:VEVENT
BEGIN:VEVENT
DTSTART;TZID=Europe/Paris:20260111T143000
DTEND;TZID=Europe/Paris:20260111T143000
DTSTAMP:20260424T131904
CREATED:20260106T135753Z
LAST-MODIFIED:20260106T135801Z
UID:35397-1768141800-1768141800@www.ville-saint-saulve.fr
SUMMARY:LOTO
DESCRIPTION:Dimanche 11 janvier à partir de 14h30\nLoto organisé par l’association Saint-Saulve Football\, à la salle des fêtes.\nÀ la clé\, 3200 € en bons d’achat. \nOuverture des portes à 11h30 \nBuvette et restauration sur place\nRéservations au 06 64 53 06 38
URL:https://www.ville-saint-saulve.fr/event/loto/
LOCATION:Salle des Fêtes\, 8 place Louis Maillard\, Saint-Saulve\, Hauts-de-France\, 59880\, France
ATTACH;FMTTYPE=image/jpeg:https://www.ville-saint-saulve.fr/wp-content/uploads/affiche_loto_11_janvier_football-scaled.jpg
END:VEVENT
END:VCALENDAR