BEGIN:VCALENDAR
VERSION:2.0
PRODID:-//Ville de Saint Saulve - ECPv6.15.20//NONSGML v1.0//EN
CALSCALE:GREGORIAN
METHOD:PUBLISH
X-ORIGINAL-URL:https://www.ville-saint-saulve.fr
X-WR-CALDESC:Évènements pour Ville de Saint Saulve
REFRESH-INTERVAL;VALUE=DURATION:PT1H
X-Robots-Tag:noindex
X-PUBLISHED-TTL:PT1H
BEGIN:VTIMEZONE
TZID:Europe/Paris
BEGIN:DAYLIGHT
TZOFFSETFROM:+0100
TZOFFSETTO:+0200
TZNAME:CEST
DTSTART:20250330T010000
END:DAYLIGHT
BEGIN:STANDARD
TZOFFSETFROM:+0200
TZOFFSETTO:+0100
TZNAME:CET
DTSTART:20251026T010000
END:STANDARD
BEGIN:DAYLIGHT
TZOFFSETFROM:+0100
TZOFFSETTO:+0200
TZNAME:CEST
DTSTART:20260329T010000
END:DAYLIGHT
BEGIN:STANDARD
TZOFFSETFROM:+0200
TZOFFSETTO:+0100
TZNAME:CET
DTSTART:20261025T010000
END:STANDARD
BEGIN:DAYLIGHT
TZOFFSETFROM:+0100
TZOFFSETTO:+0200
TZNAME:CEST
DTSTART:20270328T010000
END:DAYLIGHT
BEGIN:STANDARD
TZOFFSETFROM:+0200
TZOFFSETTO:+0100
TZNAME:CET
DTSTART:20271031T010000
END:STANDARD
END:VTIMEZONE
BEGIN:VEVENT
DTSTART;TZID=Europe/Paris:20260118T160000
DTEND;TZID=Europe/Paris:20260118T160000
DTSTAMP:20260424T131907
CREATED:20260106T154314Z
LAST-MODIFIED:20260106T155635Z
UID:35399-1768752000-1768752000@www.ville-saint-saulve.fr
SUMMARY:CONCERT SPIRITUEL : POUR LE TEMPS DE NOËL
DESCRIPTION:L’ensemble de la chorale EXULTATE DEO donne en concert le dimanche 18 janvier à 16h00. À l’église Saint-Martin de Saint-Saulve. \nOeuvre de : Charpentier\, Buxtehude\, Vivaldi\, Giorgi\, Praetorius\, Kirkpatrick\, Alain\, Beaurent\, Maerten. \nEntrée Libre
URL:https://www.ville-saint-saulve.fr/event/concert-spirituel-pour-le-temps-de-noel/
LOCATION:Église Saint-Martin\, Pl. Francisco Ferrer\, Saint-Saulve\, 59880\, France
ATTACH;FMTTYPE=image/jpeg:https://www.ville-saint-saulve.fr/wp-content/uploads/Flyer-concert-St-Saulve-18-01-26-scaled.jpg
END:VEVENT
END:VCALENDAR