BEGIN:VCALENDAR
VERSION:2.0
PRODID:-//Ville de Saint Saulve - ECPv6.15.20//NONSGML v1.0//EN
CALSCALE:GREGORIAN
METHOD:PUBLISH
X-ORIGINAL-URL:https://www.ville-saint-saulve.fr
X-WR-CALDESC:Évènements pour Ville de Saint Saulve
REFRESH-INTERVAL;VALUE=DURATION:PT1H
X-Robots-Tag:noindex
X-PUBLISHED-TTL:PT1H
BEGIN:VTIMEZONE
TZID:Europe/Paris
BEGIN:DAYLIGHT
TZOFFSETFROM:+0100
TZOFFSETTO:+0200
TZNAME:CEST
DTSTART:20250330T010000
END:DAYLIGHT
BEGIN:STANDARD
TZOFFSETFROM:+0200
TZOFFSETTO:+0100
TZNAME:CET
DTSTART:20251026T010000
END:STANDARD
BEGIN:DAYLIGHT
TZOFFSETFROM:+0100
TZOFFSETTO:+0200
TZNAME:CEST
DTSTART:20260329T010000
END:DAYLIGHT
BEGIN:STANDARD
TZOFFSETFROM:+0200
TZOFFSETTO:+0100
TZNAME:CET
DTSTART:20261025T010000
END:STANDARD
BEGIN:DAYLIGHT
TZOFFSETFROM:+0100
TZOFFSETTO:+0200
TZNAME:CEST
DTSTART:20270328T010000
END:DAYLIGHT
BEGIN:STANDARD
TZOFFSETFROM:+0200
TZOFFSETTO:+0100
TZNAME:CET
DTSTART:20271031T010000
END:STANDARD
END:VTIMEZONE
BEGIN:VEVENT
DTSTART;TZID=Europe/Paris:20260130T180000
DTEND;TZID=Europe/Paris:20260130T180000
DTSTAMP:20260424T115826
CREATED:20260115T143807Z
LAST-MODIFIED:20260115T143813Z
UID:35437-1769796000-1769796000@www.ville-saint-saulve.fr
SUMMARY:NUITS DE LA LECTURE
DESCRIPTION:NUITS DE LA LECTURE \n\n\n\nPlutôt rat des villes ou rat des champs ?\nDe tout temps\, la littérature nous a embarqué à travers des plaines marbrées de brume\, des montagnes cisaillant le ciel bleu\, ou dans l’agitation bruyante et fourmillante des pavés des bourgs.\n\nDeux ambiances\, deux atmosphères\, deux attraits distincts mais ô combien inspirants !\n\n\n Venez découvrir cet univers à la bibliothèque pour tous\, lors d’une soirée chaleureuse et intime. Laissez vous porter par les histoires qui y seront comptées et par l’agréable humeur qui y règne toujours.
URL:https://www.ville-saint-saulve.fr/event/nuits-de-la-lecture/
LOCATION:Bibliothèque Pour Tous\, Espace Athena\, Pl. du 8 Mai 1945\, Saint-Saulve\, 59880\, France
ATTACH;FMTTYPE=image/jpeg:https://www.ville-saint-saulve.fr/wp-content/uploads/251110_AFFICHE-A3-PARTENAIRES_BD-scaled.jpeg
END:VEVENT
END:VCALENDAR