BEGIN:VCALENDAR
VERSION:2.0
PRODID:-//Ville de Saint Saulve - ECPv6.15.20//NONSGML v1.0//EN
CALSCALE:GREGORIAN
METHOD:PUBLISH
X-ORIGINAL-URL:https://www.ville-saint-saulve.fr
X-WR-CALDESC:Évènements pour Ville de Saint Saulve
REFRESH-INTERVAL;VALUE=DURATION:PT1H
X-Robots-Tag:noindex
X-PUBLISHED-TTL:PT1H
BEGIN:VTIMEZONE
TZID:Europe/Paris
BEGIN:DAYLIGHT
TZOFFSETFROM:+0100
TZOFFSETTO:+0200
TZNAME:CEST
DTSTART:20250330T010000
END:DAYLIGHT
BEGIN:STANDARD
TZOFFSETFROM:+0200
TZOFFSETTO:+0100
TZNAME:CET
DTSTART:20251026T010000
END:STANDARD
BEGIN:DAYLIGHT
TZOFFSETFROM:+0100
TZOFFSETTO:+0200
TZNAME:CEST
DTSTART:20260329T010000
END:DAYLIGHT
BEGIN:STANDARD
TZOFFSETFROM:+0200
TZOFFSETTO:+0100
TZNAME:CET
DTSTART:20261025T010000
END:STANDARD
BEGIN:DAYLIGHT
TZOFFSETFROM:+0100
TZOFFSETTO:+0200
TZNAME:CEST
DTSTART:20270328T010000
END:DAYLIGHT
BEGIN:STANDARD
TZOFFSETFROM:+0200
TZOFFSETTO:+0100
TZNAME:CET
DTSTART:20271031T010000
END:STANDARD
END:VTIMEZONE
BEGIN:VEVENT
DTSTART;TZID=Europe/Paris:20260220T173000
DTEND;TZID=Europe/Paris:20260220T173000
DTSTAMP:20260424T192636
CREATED:20260203T091608Z
LAST-MODIFIED:20260203T091614Z
UID:35630-1771608600-1771608600@www.ville-saint-saulve.fr
SUMMARY:Concours de belote
DESCRIPTION:TOURNOI DE BELOTE \n\n\n\nLe Comité des fêtes du Bas-Marais organise un tournoi de belote le vendredi 20 février\, à la salle des fêtes.\n\n\n\nOuverture des portes à 17h30\nDébut des jeux à 18h30\n\n\n\nInscription par personne : 5€\n\n Inscription au 06 36 13 80 98 ou 06 14 13 03 90\n Restauration et buvette sur place
URL:https://www.ville-saint-saulve.fr/event/concours-de-belote-2/
LOCATION:Salle des Fêtes\, 8 place Louis Maillard\, Saint-Saulve\, Hauts-de-France\, 59880\, France
END:VEVENT
END:VCALENDAR