BEGIN:VCALENDAR
VERSION:2.0
PRODID:-//Ville de Saint Saulve - ECPv6.15.20//NONSGML v1.0//EN
CALSCALE:GREGORIAN
METHOD:PUBLISH
X-ORIGINAL-URL:https://www.ville-saint-saulve.fr
X-WR-CALDESC:Évènements pour Ville de Saint Saulve
REFRESH-INTERVAL;VALUE=DURATION:PT1H
X-Robots-Tag:noindex
X-PUBLISHED-TTL:PT1H
BEGIN:VTIMEZONE
TZID:Europe/Paris
BEGIN:DAYLIGHT
TZOFFSETFROM:+0100
TZOFFSETTO:+0200
TZNAME:CEST
DTSTART:20250330T010000
END:DAYLIGHT
BEGIN:STANDARD
TZOFFSETFROM:+0200
TZOFFSETTO:+0100
TZNAME:CET
DTSTART:20251026T010000
END:STANDARD
BEGIN:DAYLIGHT
TZOFFSETFROM:+0100
TZOFFSETTO:+0200
TZNAME:CEST
DTSTART:20260329T010000
END:DAYLIGHT
BEGIN:STANDARD
TZOFFSETFROM:+0200
TZOFFSETTO:+0100
TZNAME:CET
DTSTART:20261025T010000
END:STANDARD
BEGIN:DAYLIGHT
TZOFFSETFROM:+0100
TZOFFSETTO:+0200
TZNAME:CEST
DTSTART:20270328T010000
END:DAYLIGHT
BEGIN:STANDARD
TZOFFSETFROM:+0200
TZOFFSETTO:+0100
TZNAME:CET
DTSTART:20271031T010000
END:STANDARD
END:VTIMEZONE
BEGIN:VEVENT
DTSTART;TZID=Europe/Paris:20260226T140000
DTEND;TZID=Europe/Paris:20260226T160000
DTSTAMP:20260424T102959
CREATED:20260224T093823Z
LAST-MODIFIED:20260224T093842Z
UID:35796-1772114400-1772121600@www.ville-saint-saulve.fr
SUMMARY:Atelier bricolage [COMPLET]
DESCRIPTION:Les ateliers bricolage sont de retour !\n\n\n\nBonne nouvelle ! Les ateliers bricolage reprennent pour de nouveaux moments de partage\, d’apprentissage et de création \n\n\nEnvie d’apprendre à manier les outils\, de fabriquer un objet en bois ou de réaliser de petits aménagements chez vous ? Rejoignez-nous pour un atelier convivial\, accessible à toutes et tous\, débutant(e)s comme initié(e)s.\n\n\nAccompagné(e) pas à pas par des animateurs passionnés\, vous pourrez tester\, expérimenter et repartir avec vos propres réalisations.\n\n\n\n GRATUIT\n\n\n Renseignements au 06 13 68 78 63\n\n\n\n Inscription obligatoire\nPar mail : animations@ville-saint-saulve.fr\n\n\n\nOn a hâte de vous retrouver pour bricoler ensemble !
URL:https://www.ville-saint-saulve.fr/event/atelier-bricolage/
LOCATION:Salle des Sports Schuman\, Avenue Robert Schuman\, Saint-Saulve\, Hauts-de-France\, 59880\, France
ATTACH;FMTTYPE=image/jpeg:https://www.ville-saint-saulve.fr/wp-content/uploads/flyer_ateliers_bricolage.jpg
END:VEVENT
BEGIN:VEVENT
DTSTART;TZID=Europe/Paris:20260226T143000
DTEND;TZID=Europe/Paris:20260226T163000
DTSTAMP:20260424T102959
CREATED:20260202T160528Z
LAST-MODIFIED:20260202T160620Z
UID:35628-1772116200-1772123400@www.ville-saint-saulve.fr
SUMMARY:Activité seniors : Atelier manuel
DESCRIPTION:Avec Lise Créa\nCoeurs et douceurs: sculpture\, créer une composition autour de l’amour de soi\, l’amitié\, la tendresse. A offrir à une personne de son choix. \nLimité à 8 personnes\n \nRetrouvez le calendrier des animations seniors 2026 en cliquant ici ! \nActivité réservée aux retraités et seniors saint-saulviens\nInscriptions dans la limite des places disponibles et renseignements auprès du service Seniors du pôle accompagner au 03 27 45 05 80 ou par mail à seniors@ville-saint-saulve.fr
URL:https://www.ville-saint-saulve.fr/event/activite-seniors-atelier-manuel-11/
LOCATION:O’Centr’Halle\, 144 rue Jean Jaurès\, Saint-Saulve\, 59880\, France
END:VEVENT
END:VCALENDAR