BEGIN:VCALENDAR
VERSION:2.0
PRODID:-//Ville de Saint Saulve - ECPv6.15.20//NONSGML v1.0//EN
CALSCALE:GREGORIAN
METHOD:PUBLISH
X-ORIGINAL-URL:https://www.ville-saint-saulve.fr
X-WR-CALDESC:Évènements pour Ville de Saint Saulve
REFRESH-INTERVAL;VALUE=DURATION:PT1H
X-Robots-Tag:noindex
X-PUBLISHED-TTL:PT1H
BEGIN:VTIMEZONE
TZID:Europe/Paris
BEGIN:DAYLIGHT
TZOFFSETFROM:+0100
TZOFFSETTO:+0200
TZNAME:CEST
DTSTART:20250330T010000
END:DAYLIGHT
BEGIN:STANDARD
TZOFFSETFROM:+0200
TZOFFSETTO:+0100
TZNAME:CET
DTSTART:20251026T010000
END:STANDARD
BEGIN:DAYLIGHT
TZOFFSETFROM:+0100
TZOFFSETTO:+0200
TZNAME:CEST
DTSTART:20260329T010000
END:DAYLIGHT
BEGIN:STANDARD
TZOFFSETFROM:+0200
TZOFFSETTO:+0100
TZNAME:CET
DTSTART:20261025T010000
END:STANDARD
BEGIN:DAYLIGHT
TZOFFSETFROM:+0100
TZOFFSETTO:+0200
TZNAME:CEST
DTSTART:20270328T010000
END:DAYLIGHT
BEGIN:STANDARD
TZOFFSETFROM:+0200
TZOFFSETTO:+0100
TZNAME:CET
DTSTART:20271031T010000
END:STANDARD
END:VTIMEZONE
BEGIN:VEVENT
DTSTART;TZID=Europe/Paris:20260307T100000
DTEND;TZID=Europe/Paris:20260307T120000
DTSTAMP:20260424T102959
CREATED:20260224T093941Z
LAST-MODIFIED:20260224T093941Z
UID:35799-1772877600-1772884800@www.ville-saint-saulve.fr
SUMMARY:Atelier bricolage
DESCRIPTION:Les ateliers bricolage sont de retour !\n\n\n\nBonne nouvelle ! Les ateliers bricolage reprennent pour de nouveaux moments de partage\, d’apprentissage et de création \n\n\nEnvie d’apprendre à manier les outils\, de fabriquer un objet en bois ou de réaliser de petits aménagements chez vous ? Rejoignez-nous pour un atelier convivial\, accessible à toutes et tous\, débutant(e)s comme initié(e)s.\n\n\nAccompagné(e) pas à pas par des animateurs passionnés\, vous pourrez tester\, expérimenter et repartir avec vos propres réalisations.\n\n\n\n GRATUIT\n\n\n Renseignements au 06 13 68 78 63\n\n\n\n Inscription obligatoire\nPar mail : animations@ville-saint-saulve.fr\n\n\n\nOn a hâte de vous retrouver pour bricoler ensemble !
URL:https://www.ville-saint-saulve.fr/event/atelier-bricolage-2/
LOCATION:Salle des Sports Schuman\, Avenue Robert Schuman\, Saint-Saulve\, Hauts-de-France\, 59880\, France
ATTACH;FMTTYPE=image/jpeg:https://www.ville-saint-saulve.fr/wp-content/uploads/flyer_ateliers_bricolage.jpg
END:VEVENT
BEGIN:VEVENT
DTSTART;TZID=Europe/Paris:20260307T190000
DTEND;TZID=Europe/Paris:20260307T190000
DTSTAMP:20260424T102959
CREATED:20260119T080923Z
LAST-MODIFIED:20260119T080930Z
UID:35448-1772910000-1772910000@www.ville-saint-saulve.fr
SUMMARY:Grand souper dansant
DESCRIPTION:L’Amicale Laïque des écoles du Rôleur et Herbinière-Lebert organise un grand souper dansant le samedi 7 mars à partir de 19h\, à la salle des fêtes. \n\nAu menu : Couscous ou assiette froide\n\nRenseignements et réservations :\n06 68 85 92 34 / 03 27 45 15 23\nvhochart9@gmail.com
URL:https://www.ville-saint-saulve.fr/event/grand-souper-dansant-4/
LOCATION:Salle des Fêtes\, 8 place Louis Maillard\, Saint-Saulve\, Hauts-de-France\, 59880\, France
END:VEVENT
END:VCALENDAR