BEGIN:VCALENDAR
VERSION:2.0
PRODID:-//Ville de Saint Saulve - ECPv6.15.20//NONSGML v1.0//EN
CALSCALE:GREGORIAN
METHOD:PUBLISH
X-ORIGINAL-URL:https://www.ville-saint-saulve.fr
X-WR-CALDESC:Évènements pour Ville de Saint Saulve
REFRESH-INTERVAL;VALUE=DURATION:PT1H
X-Robots-Tag:noindex
X-PUBLISHED-TTL:PT1H
BEGIN:VTIMEZONE
TZID:Europe/Paris
BEGIN:DAYLIGHT
TZOFFSETFROM:+0100
TZOFFSETTO:+0200
TZNAME:CEST
DTSTART:20250330T010000
END:DAYLIGHT
BEGIN:STANDARD
TZOFFSETFROM:+0200
TZOFFSETTO:+0100
TZNAME:CET
DTSTART:20251026T010000
END:STANDARD
BEGIN:DAYLIGHT
TZOFFSETFROM:+0100
TZOFFSETTO:+0200
TZNAME:CEST
DTSTART:20260329T010000
END:DAYLIGHT
BEGIN:STANDARD
TZOFFSETFROM:+0200
TZOFFSETTO:+0100
TZNAME:CET
DTSTART:20261025T010000
END:STANDARD
BEGIN:DAYLIGHT
TZOFFSETFROM:+0100
TZOFFSETTO:+0200
TZNAME:CEST
DTSTART:20270328T010000
END:DAYLIGHT
BEGIN:STANDARD
TZOFFSETFROM:+0200
TZOFFSETTO:+0100
TZNAME:CET
DTSTART:20271031T010000
END:STANDARD
END:VTIMEZONE
BEGIN:VEVENT
DTSTART;TZID=Europe/Paris:20260320T183000
DTEND;TZID=Europe/Paris:20260320T203000
DTSTAMP:20260424T135130
CREATED:20260304T104409Z
LAST-MODIFIED:20260304T104414Z
UID:35901-1774031400-1774038600@www.ville-saint-saulve.fr
SUMMARY:Petite enfance : soirée famille
DESCRIPTION:SEMAINE NATIONALE DE LA PETITE ENFANCE : SOIRÉE FAMILLE \n\n\n\nDans le cadre de la Semaine Nationale de la Petite Enfance\, placée cette année sous le signe “Des équilibres”\, la Maison de la Petite Enfance vous donne rendez-vous pour une soirée conviviale à partager en famille.\n\n\n\n Vendredi 20 mars\n de 18h30 à 20h30\n Maison de la petite enfance – Espace Cécile Gallez\n\n\n\n Thème de la soirée : “Le self des émotions”\n\n\n\nAu programme :\n Yoga parent\n Espace snoezelen (détente sensorielle)\n Atelier manuel\n\n\n\nUn moment privilégié pour partager\, explorer ses émotions\, se détendre et trouver ensemble son équilibre… petits et grands réunis \n\n\n\nNous vous attendons nombreux pour cette belle soirée en famille !
URL:https://www.ville-saint-saulve.fr/event/petite-enfance-soiree-famille/
LOCATION:Espace Cécile Gallez\, 4 Av. Robert Schuman\, Saint-Saulve\, 59880\, France
ATTACH;FMTTYPE=image/jpeg:https://www.ville-saint-saulve.fr/wp-content/uploads/affiche_semaine_petite_enfance_soiree_famille-scaled.jpg
END:VEVENT
END:VCALENDAR