BEGIN:VCALENDAR
VERSION:2.0
PRODID:-//Ville de Saint Saulve - ECPv6.15.20//NONSGML v1.0//EN
CALSCALE:GREGORIAN
METHOD:PUBLISH
X-WR-CALNAME:Ville de Saint Saulve
X-ORIGINAL-URL:https://www.ville-saint-saulve.fr
X-WR-CALDESC:Évènements pour Ville de Saint Saulve
REFRESH-INTERVAL;VALUE=DURATION:PT1H
X-Robots-Tag:noindex
X-PUBLISHED-TTL:PT1H
BEGIN:VTIMEZONE
TZID:Europe/Paris
BEGIN:DAYLIGHT
TZOFFSETFROM:+0100
TZOFFSETTO:+0200
TZNAME:CEST
DTSTART:20250330T010000
END:DAYLIGHT
BEGIN:STANDARD
TZOFFSETFROM:+0200
TZOFFSETTO:+0100
TZNAME:CET
DTSTART:20251026T010000
END:STANDARD
BEGIN:DAYLIGHT
TZOFFSETFROM:+0100
TZOFFSETTO:+0200
TZNAME:CEST
DTSTART:20260329T010000
END:DAYLIGHT
BEGIN:STANDARD
TZOFFSETFROM:+0200
TZOFFSETTO:+0100
TZNAME:CET
DTSTART:20261025T010000
END:STANDARD
BEGIN:DAYLIGHT
TZOFFSETFROM:+0100
TZOFFSETTO:+0200
TZNAME:CEST
DTSTART:20270328T010000
END:DAYLIGHT
BEGIN:STANDARD
TZOFFSETFROM:+0200
TZOFFSETTO:+0100
TZNAME:CET
DTSTART:20271031T010000
END:STANDARD
END:VTIMEZONE
BEGIN:VEVENT
DTSTART;TZID=Europe/Paris:20260421T080000
DTEND;TZID=Europe/Paris:20260507T170000
DTSTAMP:20260424T090336
CREATED:20260416T125656Z
LAST-MODIFIED:20260416T125702Z
UID:36509-1776758400-1778173200@www.ville-saint-saulve.fr
SUMMARY:COMMERCES EN FÊTE
DESCRIPTION:COMMERCES EN FÊTE !\n\n\nC’est le moment de vous rendre dans vos commerces de proximité\, pour tenter de remporter l’un des nombreux cadeaux offerts par vos commerçants\, pour un montant total d’environ 1 200 euros !
URL:https://www.ville-saint-saulve.fr/event/commerces-en-fete-4/
ATTACH;FMTTYPE=image/jpeg:https://www.ville-saint-saulve.fr/wp-content/uploads/affiche_commerces_en_fete_2026_web-scaled.jpg
END:VEVENT
BEGIN:VEVENT
DTSTART;TZID=Europe/Paris:20260425T160000
DTEND;TZID=Europe/Paris:20260425T203000
DTSTAMP:20260424T090336
CREATED:20260413T142943Z
LAST-MODIFIED:20260413T142946Z
UID:36468-1777132800-1777149000@www.ville-saint-saulve.fr
SUMMARY:ESCALE DES BELLES BRETELLES
DESCRIPTION:ESCALE DES BELLES BRETELLES !\n\nAmbiance guinguette & accordéon ce samedi 25 avril\, dans le cadre exceptionnel du parc du château Fortier.\n\n\nVous pourrez vous amuser avec les jeux anciens mis à votre disposition\, avant le concert d’Alexis & Lucas Passion\, qui revisitent les titres festifs d’hier et d’aujourd’hui\, à l’accordéon.\nL’occasion de danser\, rire\, chanter\, jouer…\n\n\nUn avant-goût du Hainaut Belles Bretelles Festival\, qui aura lieu les 23\, 24 & 25 mai 2026\, à Hergnies. 
URL:https://www.ville-saint-saulve.fr/event/escale-des-belles-bretelles/
LOCATION:Château Fortier\, 44 Rue Henri Barbusse\, Saint-Saulve\, Sélectionner un État :\, 59880\, France
ATTACH;FMTTYPE=image/jpeg:https://www.ville-saint-saulve.fr/wp-content/uploads/affiche_belles_bretelles_20261-scaled.jpg
ORGANIZER;CN="Service Culture":MAILTO:bayart.p@ville-saint-saulve.fr
END:VEVENT
BEGIN:VEVENT
DTSTART;TZID=Europe/Paris:20260426T090000
DTEND;TZID=Europe/Paris:20260426T090000
DTSTAMP:20260424T090336
CREATED:20260327T131546Z
LAST-MODIFIED:20260327T131639Z
UID:36090-1777194000-1777194000@www.ville-saint-saulve.fr
SUMMARY:Parcours du coeur 2026
DESCRIPTION: Les Parcours du Cœur reviennent à Saint-Saulve ! \n\n Dimanche 26 avril\n Départ à 9h – Salle de sport Coubertin\n\n 2 parcours : 5\,5km et 14 km dans les rues de Saint-Saulve !\n\nVenez bouger pour votre santé\, dans une ambiance conviviale. Choisissez le parcours qui vous correspond le mieux ! En famille\, entre amis ou en solo\, on vous attend nombreux ! 
URL:https://www.ville-saint-saulve.fr/event/parcours-du-coeur-2026/
LOCATION:Salle des sports Coubertin\, 33 Rue Roger Salengro\, Saint-Saulve\, 59880\, France
ATTACH;FMTTYPE=image/jpeg:https://www.ville-saint-saulve.fr/wp-content/uploads/affiche-pdc-2026-scaled-e1774617261582.jpeg
END:VEVENT
BEGIN:VEVENT
DTSTART;TZID=Europe/Paris:20260427T183000
DTEND;TZID=Europe/Paris:20260427T183000
DTSTAMP:20260424T090336
CREATED:20260414T145337Z
LAST-MODIFIED:20260414T145745Z
UID:36484-1777314600-1777314600@www.ville-saint-saulve.fr
SUMMARY:Réunion du conseil municipal
DESCRIPTION:Le conseil municipal se réunira le lundi 27 avril à 18h30 à l’hôtel de ville. \nConsulter l’ordre du jour
URL:https://www.ville-saint-saulve.fr/event/reunion-du-conseil-municipal-23/
LOCATION:Mairie\, 146 Rue Jean jaures\, St-Saulve\, Haut-de-France\, 59880\, France
ATTACH;FMTTYPE=image/jpeg:https://www.ville-saint-saulve.fr/wp-content/uploads/2022/11/316417265_541470508017172_8437615211820158479_n.jpeg
END:VEVENT
BEGIN:VEVENT
DTSTART;TZID=Europe/Paris:20260428T140000
DTEND;TZID=Europe/Paris:20260428T140000
DTSTAMP:20260424T090336
CREATED:20260401T090717Z
LAST-MODIFIED:20260401T090725Z
UID:36135-1777384800-1777384800@www.ville-saint-saulve.fr
SUMMARY:Activité seniors : Sortie au Port de Bruay [COMPLET]
DESCRIPTION:Sortie au port de Bruay\n[COMPLET] \nRendez-vous sur place \nLimité à 15 personnes\nGRATUIT \nRetrouvez le calendrier des animations seniors 2026 en cliquant ici ! \nActivité réservée aux retraités et seniors saint-saulviens\nInscriptions dans la limite des places disponibles et renseignements auprès du service Seniors du pôle accompagner au 03 27 45 05 80 ou par mail à seniors@ville-saint-saulve.fr
URL:https://www.ville-saint-saulve.fr/event/activite-seniors-sortie-au-port-de-bruay-complet/
LOCATION:O’Centr’Halle\, 144 rue Jean Jaurès\, Saint-Saulve\, 59880\, France
END:VEVENT
BEGIN:VEVENT
DTSTART;TZID=Europe/Paris:20260430T140000
DTEND;TZID=Europe/Paris:20260430T140000
DTSTAMP:20260424T090336
CREATED:20260401T090835Z
LAST-MODIFIED:20260401T090839Z
UID:36137-1777557600-1777557600@www.ville-saint-saulve.fr
SUMMARY:Activité Seniors - Jeu de piste Saint-Saulve Éternelle
DESCRIPTION:Découverte des endroits emblématiques de la ville grâce à un jeu de piste\n> Départ du CCAS à 14h \nRetrouvez le calendrier des animations seniors 2024 en cliquant ici ! \nActivité réservée aux retraités et seniors saint-saulviens\nInscriptions dans la limite des places disponibles et renseignements auprès du service Seniors du pôle accompagner au 03 27 45 05 80 ou par mail à seniors@ville-saint-saulve.fr
URL:https://www.ville-saint-saulve.fr/event/activite-seniors-jeu-de-piste-saint-saulve-eternelle-5/
LOCATION:CCAS\, 140 Rue Jean jaures\, SAINT-SAULVE\, Sélectionner un État :\, 59880\, France
END:VEVENT
BEGIN:VEVENT
DTSTART;TZID=Europe/Paris:20260501T103000
DTEND;TZID=Europe/Paris:20260501T103000
DTSTAMP:20260424T090336
CREATED:20260420T080534Z
LAST-MODIFIED:20260420T080548Z
UID:36540-1777631400-1777631400@www.ville-saint-saulve.fr
SUMMARY:CONCERT DU 1er MAI & MÉDAILLÉS DU TRAVAIL
DESCRIPTION:À l’occasion du 1er mai\, fête du travail\, la municipalité vous invite à un concert de l’Harmonie Municipale suivie de la remise des médailles du travail.
URL:https://www.ville-saint-saulve.fr/event/concert-du-1er-mai-medailles-du-travail/
LOCATION:Espace Athena\, 2 Pl. du 8 Mai 1945\, Saint-Saulve\, 59880\, France
ATTACH;FMTTYPE=image/png:https://www.ville-saint-saulve.fr/wp-content/uploads/affiche-1er-mai-2-scaled.png
END:VEVENT
BEGIN:VEVENT
DTSTART;TZID=Europe/Paris:20260503T080000
DTEND;TZID=Europe/Paris:20260503T130000
DTSTAMP:20260424T090336
CREATED:20260416T125157Z
LAST-MODIFIED:20260416T125202Z
UID:36503-1777795200-1777813200@www.ville-saint-saulve.fr
SUMMARY:MARCHÉ DES SAVEURS & DES SENTEURS
DESCRIPTION:Chaque année\, la Ville célèbre le retour du printemps de la plus jolie manière\, en vous offrant une connexion avec la nature\, dans l’écrin de l’Orangeraie.\nAu milieu des fleurs et des animaux\, vous passerez un moment de douceur et de quiétude ; vous pourrez déguster des produits locaux et acheter de quoi fleurir votre jardin !\nLe tout dans l’ambiance familiale et chaleureuse inhérente à Saint-Saulve.
URL:https://www.ville-saint-saulve.fr/event/marche-des-saveurs-des-senteurs/
LOCATION:Parc de l’Orangeraie\, Saint-Saulve\, 59880\, France
ATTACH;FMTTYPE=image/jpeg:https://www.ville-saint-saulve.fr/wp-content/uploads/affiche_marche_saveurs_senteurs_terroir2-scaled.jpg
END:VEVENT
BEGIN:VEVENT
DTSTART;TZID=Europe/Paris:20260503T140000
DTEND;TZID=Europe/Paris:20260503T140000
DTSTAMP:20260424T090336
CREATED:20260414T075830Z
LAST-MODIFIED:20260414T075834Z
UID:36473-1777816800-1777816800@www.ville-saint-saulve.fr
SUMMARY:Super loto traditionnel
DESCRIPTION:Dimanche 3 mai à partir de 14h\nSuper Loto traditionnel organisé par le club de supporters du foot loisir\, à la salle des fêtes.\nÀ la clé\, 4352 € en bons d’achat de 16 à 1000€. \n12 tirages durant l’après-midi + 2 tirages spéciaux. \nEntrée gratuite – Ouvert à tous\nRéservations au 06 98 88 50 29
URL:https://www.ville-saint-saulve.fr/event/super-loto-traditionnel-50/
LOCATION:Salle des Fêtes\, 8 place Louis Maillard\, Saint-Saulve\, Hauts-de-France\, 59880\, France
ATTACH;FMTTYPE=image/jpeg:https://www.ville-saint-saulve.fr/wp-content/uploads/loto.jpg
END:VEVENT
BEGIN:VEVENT
DTSTART;VALUE=DATE:20260504
DTEND;VALUE=DATE:20260507
DTSTAMP:20260424T090336
CREATED:20260417T072321Z
LAST-MODIFIED:20260417T072321Z
UID:36535-1777852800-1778111999@www.ville-saint-saulve.fr
SUMMARY:Exposition : la vie quotidienne sous l'occupation allemande
DESCRIPTION:
URL:https://www.ville-saint-saulve.fr/event/exposition-la-vie-quotidienne-sous-loccupation-allemande/
LOCATION:Salle des Fêtes\, 8 place Louis Maillard\, Saint-Saulve\, Hauts-de-France\, 59880\, France
ATTACH;FMTTYPE=image/jpeg:https://www.ville-saint-saulve.fr/wp-content/uploads/affiche_8_mai_2026_web-scaled.jpg
END:VEVENT
BEGIN:VEVENT
DTSTART;TZID=Europe/Paris:20260508T103000
DTEND;TZID=Europe/Paris:20260508T103000
DTSTAMP:20260424T090336
CREATED:20260417T072156Z
LAST-MODIFIED:20260417T072203Z
UID:36533-1778236200-1778236200@www.ville-saint-saulve.fr
SUMMARY:Commémoration du 8 mai 1945
DESCRIPTION:L’heure du devoir citoyen a bientôt sonné ! \n\n\n\nNous comptons sur votre présence au monument aux morts\, le vendredi 8 mai\, pour honorer ensemble – toutes générations confondues – la mémoire des soldats disparus. \n\n\nPlus que jamais\, cet acte symbolique nécessaire résonne très fort ! Plus que jamais\, ce rassemblement est un acte de paix. Une paix toujours fragile\, que chaque citoyen se doit de défendre.
URL:https://www.ville-saint-saulve.fr/event/commemoration-du-8-mai-1945/
LOCATION:Église Saint-Martin\, Pl. Francisco Ferrer\, Saint-Saulve\, 59880\, France
ATTACH;FMTTYPE=image/jpeg:https://www.ville-saint-saulve.fr/wp-content/uploads/affiche_8_mai_2026_web-scaled.jpg
END:VEVENT
BEGIN:VEVENT
DTSTART;TZID=Europe/Paris:20260508T140000
DTEND;TZID=Europe/Paris:20260508T170000
DTSTAMP:20260424T090336
CREATED:20260417T072451Z
LAST-MODIFIED:20260417T072516Z
UID:36537-1778248800-1778259600@www.ville-saint-saulve.fr
SUMMARY:Exposition : la vie quotidienne sous l'occupation allemande
DESCRIPTION:
URL:https://www.ville-saint-saulve.fr/event/exposition-la-vie-quotidienne-sous-loccupation-allemande-2/
LOCATION:Salle des Fêtes\, 8 place Louis Maillard\, Saint-Saulve\, Hauts-de-France\, 59880\, France
ATTACH;FMTTYPE=image/jpeg:https://www.ville-saint-saulve.fr/wp-content/uploads/affiche_8_mai_2026_web-scaled.jpg
END:VEVENT
BEGIN:VEVENT
DTSTART;TZID=Europe/Paris:20260606T083000
DTEND;TZID=Europe/Paris:20260606T163000
DTSTAMP:20260424T090336
CREATED:20260330T144831Z
LAST-MODIFIED:20260330T144831Z
UID:36112-1780734600-1780763400@www.ville-saint-saulve.fr
SUMMARY:BROCANTE : EHPAD LES CHARMILLES
DESCRIPTION:
URL:https://www.ville-saint-saulve.fr/event/brocante-ehpad-les-charmilles/
LOCATION:Charmilles\, 1411 rue Jean Jaurès\, Saint-Saulve\, 59880
ATTACH;FMTTYPE=image/png:https://www.ville-saint-saulve.fr/wp-content/uploads/BROCANTE-CHARMILLES-scaled.png
ORGANIZER;CN="Au Charmes D'antant":MAILTO:laureen.gicart@hotmail.fr
END:VEVENT
BEGIN:VEVENT
DTSTART;TZID=Europe/Paris:20260619T210000
DTEND;TZID=Europe/Paris:20260619T220000
DTSTAMP:20260424T090336
CREATED:20260416T125454Z
LAST-MODIFIED:20260416T125501Z
UID:36506-1781902800-1781906400@www.ville-saint-saulve.fr
SUMMARY:FÊTE DE LA MUSIQUE - COLDPLAYED
DESCRIPTION:VOUS AVEZ RENDEZ-VOUS LE 19 JUIN\, POUR UNE SOIRÉE EXCEPTIONNELLE\, AVEC UN TRIBUTE DE TALENT !IL Y AURA DE QUOI SE RAVITAILLER SUR PLACE !AMBIANCE GARANTIE !
URL:https://www.ville-saint-saulve.fr/event/fete-de-la-musique-coldplayed/
LOCATION:Boulodrome\, Rue Henri Barbusse\, 59880 Saint-Saulve\, Saint-Saulve\, 59880\, France
ATTACH;FMTTYPE=image/jpeg:https://www.ville-saint-saulve.fr/wp-content/uploads/affiche_fete_de_la_musique_2026_web-scaled.jpg
ORGANIZER;CN="Service Culture":MAILTO:bayart.p@ville-saint-saulve.fr
END:VEVENT
BEGIN:VEVENT
DTSTART;TZID=Europe/Paris:20260906T080000
DTEND;TZID=Europe/Paris:20260906T080000
DTSTAMP:20260424T090336
CREATED:20260116T101442Z
LAST-MODIFIED:20260116T101454Z
UID:35444-1788681600-1788681600@www.ville-saint-saulve.fr
SUMMARY:Brocante des fêtes du Marais
DESCRIPTION:
URL:https://www.ville-saint-saulve.fr/event/brocante-des-fetes-du-marais/
LOCATION:Quartier du Bas-Marais\, Rue du bas marais\, Saint-Saulve\, 59880\, France
END:VEVENT
END:VCALENDAR