BEGIN:VCALENDAR
VERSION:2.0
PRODID:-//Ville de Saint Saulve - ECPv6.15.20//NONSGML v1.0//EN
CALSCALE:GREGORIAN
METHOD:PUBLISH
X-WR-CALNAME:Ville de Saint Saulve
X-ORIGINAL-URL:https://www.ville-saint-saulve.fr
X-WR-CALDESC:Évènements pour Ville de Saint Saulve
REFRESH-INTERVAL;VALUE=DURATION:PT1H
X-Robots-Tag:noindex
X-PUBLISHED-TTL:PT1H
BEGIN:VTIMEZONE
TZID:Europe/Paris
BEGIN:DAYLIGHT
TZOFFSETFROM:+0100
TZOFFSETTO:+0200
TZNAME:CEST
DTSTART:19760328T000000
END:DAYLIGHT
BEGIN:STANDARD
TZOFFSETFROM:+0200
TZOFFSETTO:+0100
TZNAME:CET
DTSTART:19760925T230000
END:STANDARD
BEGIN:DAYLIGHT
TZOFFSETFROM:+0100
TZOFFSETTO:+0200
TZNAME:CEST
DTSTART:19770403T010000
END:DAYLIGHT
BEGIN:STANDARD
TZOFFSETFROM:+0200
TZOFFSETTO:+0100
TZNAME:CET
DTSTART:19770925T010000
END:STANDARD
BEGIN:DAYLIGHT
TZOFFSETFROM:+0100
TZOFFSETTO:+0200
TZNAME:CEST
DTSTART:19780402T010000
END:DAYLIGHT
BEGIN:STANDARD
TZOFFSETFROM:+0200
TZOFFSETTO:+0100
TZNAME:CET
DTSTART:19781001T010000
END:STANDARD
BEGIN:DAYLIGHT
TZOFFSETFROM:+0100
TZOFFSETTO:+0200
TZNAME:CEST
DTSTART:19790401T010000
END:DAYLIGHT
BEGIN:STANDARD
TZOFFSETFROM:+0200
TZOFFSETTO:+0100
TZNAME:CET
DTSTART:19790930T010000
END:STANDARD
BEGIN:DAYLIGHT
TZOFFSETFROM:+0100
TZOFFSETTO:+0200
TZNAME:CEST
DTSTART:19800406T010000
END:DAYLIGHT
BEGIN:STANDARD
TZOFFSETFROM:+0200
TZOFFSETTO:+0100
TZNAME:CET
DTSTART:19800928T010000
END:STANDARD
BEGIN:DAYLIGHT
TZOFFSETFROM:+0100
TZOFFSETTO:+0200
TZNAME:CEST
DTSTART:19810329T010000
END:DAYLIGHT
BEGIN:STANDARD
TZOFFSETFROM:+0200
TZOFFSETTO:+0100
TZNAME:CET
DTSTART:19810927T010000
END:STANDARD
BEGIN:DAYLIGHT
TZOFFSETFROM:+0100
TZOFFSETTO:+0200
TZNAME:CEST
DTSTART:19820328T010000
END:DAYLIGHT
BEGIN:STANDARD
TZOFFSETFROM:+0200
TZOFFSETTO:+0100
TZNAME:CET
DTSTART:19820926T010000
END:STANDARD
BEGIN:DAYLIGHT
TZOFFSETFROM:+0100
TZOFFSETTO:+0200
TZNAME:CEST
DTSTART:19830327T010000
END:DAYLIGHT
BEGIN:STANDARD
TZOFFSETFROM:+0200
TZOFFSETTO:+0100
TZNAME:CET
DTSTART:19830925T010000
END:STANDARD
BEGIN:DAYLIGHT
TZOFFSETFROM:+0100
TZOFFSETTO:+0200
TZNAME:CEST
DTSTART:19840325T010000
END:DAYLIGHT
BEGIN:STANDARD
TZOFFSETFROM:+0200
TZOFFSETTO:+0100
TZNAME:CET
DTSTART:19840930T010000
END:STANDARD
BEGIN:DAYLIGHT
TZOFFSETFROM:+0100
TZOFFSETTO:+0200
TZNAME:CEST
DTSTART:19850331T010000
END:DAYLIGHT
BEGIN:STANDARD
TZOFFSETFROM:+0200
TZOFFSETTO:+0100
TZNAME:CET
DTSTART:19850929T010000
END:STANDARD
BEGIN:DAYLIGHT
TZOFFSETFROM:+0100
TZOFFSETTO:+0200
TZNAME:CEST
DTSTART:19860330T010000
END:DAYLIGHT
BEGIN:STANDARD
TZOFFSETFROM:+0200
TZOFFSETTO:+0100
TZNAME:CET
DTSTART:19860928T010000
END:STANDARD
BEGIN:DAYLIGHT
TZOFFSETFROM:+0100
TZOFFSETTO:+0200
TZNAME:CEST
DTSTART:19870329T010000
END:DAYLIGHT
BEGIN:STANDARD
TZOFFSETFROM:+0200
TZOFFSETTO:+0100
TZNAME:CET
DTSTART:19870927T010000
END:STANDARD
BEGIN:DAYLIGHT
TZOFFSETFROM:+0100
TZOFFSETTO:+0200
TZNAME:CEST
DTSTART:19880327T010000
END:DAYLIGHT
BEGIN:STANDARD
TZOFFSETFROM:+0200
TZOFFSETTO:+0100
TZNAME:CET
DTSTART:19880925T010000
END:STANDARD
BEGIN:DAYLIGHT
TZOFFSETFROM:+0100
TZOFFSETTO:+0200
TZNAME:CEST
DTSTART:19890326T010000
END:DAYLIGHT
BEGIN:STANDARD
TZOFFSETFROM:+0200
TZOFFSETTO:+0100
TZNAME:CET
DTSTART:19890924T010000
END:STANDARD
BEGIN:DAYLIGHT
TZOFFSETFROM:+0100
TZOFFSETTO:+0200
TZNAME:CEST
DTSTART:19900325T010000
END:DAYLIGHT
BEGIN:STANDARD
TZOFFSETFROM:+0200
TZOFFSETTO:+0100
TZNAME:CET
DTSTART:19900930T010000
END:STANDARD
BEGIN:DAYLIGHT
TZOFFSETFROM:+0100
TZOFFSETTO:+0200
TZNAME:CEST
DTSTART:19910331T010000
END:DAYLIGHT
BEGIN:STANDARD
TZOFFSETFROM:+0200
TZOFFSETTO:+0100
TZNAME:CET
DTSTART:19910929T010000
END:STANDARD
BEGIN:DAYLIGHT
TZOFFSETFROM:+0100
TZOFFSETTO:+0200
TZNAME:CEST
DTSTART:19920329T010000
END:DAYLIGHT
BEGIN:STANDARD
TZOFFSETFROM:+0200
TZOFFSETTO:+0100
TZNAME:CET
DTSTART:19920927T010000
END:STANDARD
BEGIN:DAYLIGHT
TZOFFSETFROM:+0100
TZOFFSETTO:+0200
TZNAME:CEST
DTSTART:19930328T010000
END:DAYLIGHT
BEGIN:STANDARD
TZOFFSETFROM:+0200
TZOFFSETTO:+0100
TZNAME:CET
DTSTART:19930926T010000
END:STANDARD
BEGIN:DAYLIGHT
TZOFFSETFROM:+0100
TZOFFSETTO:+0200
TZNAME:CEST
DTSTART:19940327T010000
END:DAYLIGHT
BEGIN:STANDARD
TZOFFSETFROM:+0200
TZOFFSETTO:+0100
TZNAME:CET
DTSTART:19940925T010000
END:STANDARD
BEGIN:DAYLIGHT
TZOFFSETFROM:+0100
TZOFFSETTO:+0200
TZNAME:CEST
DTSTART:19950326T010000
END:DAYLIGHT
BEGIN:STANDARD
TZOFFSETFROM:+0200
TZOFFSETTO:+0100
TZNAME:CET
DTSTART:19950924T010000
END:STANDARD
BEGIN:DAYLIGHT
TZOFFSETFROM:+0100
TZOFFSETTO:+0200
TZNAME:CEST
DTSTART:19960331T010000
END:DAYLIGHT
BEGIN:STANDARD
TZOFFSETFROM:+0200
TZOFFSETTO:+0100
TZNAME:CET
DTSTART:19961027T010000
END:STANDARD
BEGIN:DAYLIGHT
TZOFFSETFROM:+0100
TZOFFSETTO:+0200
TZNAME:CEST
DTSTART:19970330T010000
END:DAYLIGHT
BEGIN:STANDARD
TZOFFSETFROM:+0200
TZOFFSETTO:+0100
TZNAME:CET
DTSTART:19971026T010000
END:STANDARD
BEGIN:DAYLIGHT
TZOFFSETFROM:+0100
TZOFFSETTO:+0200
TZNAME:CEST
DTSTART:19980329T010000
END:DAYLIGHT
BEGIN:STANDARD
TZOFFSETFROM:+0200
TZOFFSETTO:+0100
TZNAME:CET
DTSTART:19981025T010000
END:STANDARD
BEGIN:DAYLIGHT
TZOFFSETFROM:+0100
TZOFFSETTO:+0200
TZNAME:CEST
DTSTART:19990328T010000
END:DAYLIGHT
BEGIN:STANDARD
TZOFFSETFROM:+0200
TZOFFSETTO:+0100
TZNAME:CET
DTSTART:19991031T010000
END:STANDARD
BEGIN:DAYLIGHT
TZOFFSETFROM:+0100
TZOFFSETTO:+0200
TZNAME:CEST
DTSTART:20000326T010000
END:DAYLIGHT
BEGIN:STANDARD
TZOFFSETFROM:+0200
TZOFFSETTO:+0100
TZNAME:CET
DTSTART:20001029T010000
END:STANDARD
BEGIN:DAYLIGHT
TZOFFSETFROM:+0100
TZOFFSETTO:+0200
TZNAME:CEST
DTSTART:20010325T010000
END:DAYLIGHT
BEGIN:STANDARD
TZOFFSETFROM:+0200
TZOFFSETTO:+0100
TZNAME:CET
DTSTART:20011028T010000
END:STANDARD
BEGIN:DAYLIGHT
TZOFFSETFROM:+0100
TZOFFSETTO:+0200
TZNAME:CEST
DTSTART:20020331T010000
END:DAYLIGHT
BEGIN:STANDARD
TZOFFSETFROM:+0200
TZOFFSETTO:+0100
TZNAME:CET
DTSTART:20021027T010000
END:STANDARD
BEGIN:DAYLIGHT
TZOFFSETFROM:+0100
TZOFFSETTO:+0200
TZNAME:CEST
DTSTART:20030330T010000
END:DAYLIGHT
BEGIN:STANDARD
TZOFFSETFROM:+0200
TZOFFSETTO:+0100
TZNAME:CET
DTSTART:20031026T010000
END:STANDARD
BEGIN:DAYLIGHT
TZOFFSETFROM:+0100
TZOFFSETTO:+0200
TZNAME:CEST
DTSTART:20040328T010000
END:DAYLIGHT
BEGIN:STANDARD
TZOFFSETFROM:+0200
TZOFFSETTO:+0100
TZNAME:CET
DTSTART:20041031T010000
END:STANDARD
BEGIN:DAYLIGHT
TZOFFSETFROM:+0100
TZOFFSETTO:+0200
TZNAME:CEST
DTSTART:20050327T010000
END:DAYLIGHT
BEGIN:STANDARD
TZOFFSETFROM:+0200
TZOFFSETTO:+0100
TZNAME:CET
DTSTART:20051030T010000
END:STANDARD
BEGIN:DAYLIGHT
TZOFFSETFROM:+0100
TZOFFSETTO:+0200
TZNAME:CEST
DTSTART:20060326T010000
END:DAYLIGHT
BEGIN:STANDARD
TZOFFSETFROM:+0200
TZOFFSETTO:+0100
TZNAME:CET
DTSTART:20061029T010000
END:STANDARD
BEGIN:DAYLIGHT
TZOFFSETFROM:+0100
TZOFFSETTO:+0200
TZNAME:CEST
DTSTART:20070325T010000
END:DAYLIGHT
BEGIN:STANDARD
TZOFFSETFROM:+0200
TZOFFSETTO:+0100
TZNAME:CET
DTSTART:20071028T010000
END:STANDARD
BEGIN:DAYLIGHT
TZOFFSETFROM:+0100
TZOFFSETTO:+0200
TZNAME:CEST
DTSTART:20080330T010000
END:DAYLIGHT
BEGIN:STANDARD
TZOFFSETFROM:+0200
TZOFFSETTO:+0100
TZNAME:CET
DTSTART:20081026T010000
END:STANDARD
BEGIN:DAYLIGHT
TZOFFSETFROM:+0100
TZOFFSETTO:+0200
TZNAME:CEST
DTSTART:20090329T010000
END:DAYLIGHT
BEGIN:STANDARD
TZOFFSETFROM:+0200
TZOFFSETTO:+0100
TZNAME:CET
DTSTART:20091025T010000
END:STANDARD
BEGIN:DAYLIGHT
TZOFFSETFROM:+0100
TZOFFSETTO:+0200
TZNAME:CEST
DTSTART:20100328T010000
END:DAYLIGHT
BEGIN:STANDARD
TZOFFSETFROM:+0200
TZOFFSETTO:+0100
TZNAME:CET
DTSTART:20101031T010000
END:STANDARD
BEGIN:DAYLIGHT
TZOFFSETFROM:+0100
TZOFFSETTO:+0200
TZNAME:CEST
DTSTART:20110327T010000
END:DAYLIGHT
BEGIN:STANDARD
TZOFFSETFROM:+0200
TZOFFSETTO:+0100
TZNAME:CET
DTSTART:20111030T010000
END:STANDARD
BEGIN:DAYLIGHT
TZOFFSETFROM:+0100
TZOFFSETTO:+0200
TZNAME:CEST
DTSTART:20120325T010000
END:DAYLIGHT
BEGIN:STANDARD
TZOFFSETFROM:+0200
TZOFFSETTO:+0100
TZNAME:CET
DTSTART:20121028T010000
END:STANDARD
BEGIN:DAYLIGHT
TZOFFSETFROM:+0100
TZOFFSETTO:+0200
TZNAME:CEST
DTSTART:20130331T010000
END:DAYLIGHT
BEGIN:STANDARD
TZOFFSETFROM:+0200
TZOFFSETTO:+0100
TZNAME:CET
DTSTART:20131027T010000
END:STANDARD
BEGIN:DAYLIGHT
TZOFFSETFROM:+0100
TZOFFSETTO:+0200
TZNAME:CEST
DTSTART:20140330T010000
END:DAYLIGHT
BEGIN:STANDARD
TZOFFSETFROM:+0200
TZOFFSETTO:+0100
TZNAME:CET
DTSTART:20141026T010000
END:STANDARD
BEGIN:DAYLIGHT
TZOFFSETFROM:+0100
TZOFFSETTO:+0200
TZNAME:CEST
DTSTART:20150329T010000
END:DAYLIGHT
BEGIN:STANDARD
TZOFFSETFROM:+0200
TZOFFSETTO:+0100
TZNAME:CET
DTSTART:20151025T010000
END:STANDARD
BEGIN:DAYLIGHT
TZOFFSETFROM:+0100
TZOFFSETTO:+0200
TZNAME:CEST
DTSTART:20160327T010000
END:DAYLIGHT
BEGIN:STANDARD
TZOFFSETFROM:+0200
TZOFFSETTO:+0100
TZNAME:CET
DTSTART:20161030T010000
END:STANDARD
BEGIN:DAYLIGHT
TZOFFSETFROM:+0100
TZOFFSETTO:+0200
TZNAME:CEST
DTSTART:20170326T010000
END:DAYLIGHT
BEGIN:STANDARD
TZOFFSETFROM:+0200
TZOFFSETTO:+0100
TZNAME:CET
DTSTART:20171029T010000
END:STANDARD
BEGIN:DAYLIGHT
TZOFFSETFROM:+0100
TZOFFSETTO:+0200
TZNAME:CEST
DTSTART:20180325T010000
END:DAYLIGHT
BEGIN:STANDARD
TZOFFSETFROM:+0200
TZOFFSETTO:+0100
TZNAME:CET
DTSTART:20181028T010000
END:STANDARD
BEGIN:DAYLIGHT
TZOFFSETFROM:+0100
TZOFFSETTO:+0200
TZNAME:CEST
DTSTART:20190331T010000
END:DAYLIGHT
BEGIN:STANDARD
TZOFFSETFROM:+0200
TZOFFSETTO:+0100
TZNAME:CET
DTSTART:20191027T010000
END:STANDARD
BEGIN:DAYLIGHT
TZOFFSETFROM:+0100
TZOFFSETTO:+0200
TZNAME:CEST
DTSTART:20200329T010000
END:DAYLIGHT
BEGIN:STANDARD
TZOFFSETFROM:+0200
TZOFFSETTO:+0100
TZNAME:CET
DTSTART:20201025T010000
END:STANDARD
BEGIN:DAYLIGHT
TZOFFSETFROM:+0100
TZOFFSETTO:+0200
TZNAME:CEST
DTSTART:20210328T010000
END:DAYLIGHT
BEGIN:STANDARD
TZOFFSETFROM:+0200
TZOFFSETTO:+0100
TZNAME:CET
DTSTART:20211031T010000
END:STANDARD
BEGIN:DAYLIGHT
TZOFFSETFROM:+0100
TZOFFSETTO:+0200
TZNAME:CEST
DTSTART:20220327T010000
END:DAYLIGHT
BEGIN:STANDARD
TZOFFSETFROM:+0200
TZOFFSETTO:+0100
TZNAME:CET
DTSTART:20221030T010000
END:STANDARD
BEGIN:DAYLIGHT
TZOFFSETFROM:+0100
TZOFFSETTO:+0200
TZNAME:CEST
DTSTART:20230326T010000
END:DAYLIGHT
BEGIN:STANDARD
TZOFFSETFROM:+0200
TZOFFSETTO:+0100
TZNAME:CET
DTSTART:20231029T010000
END:STANDARD
BEGIN:DAYLIGHT
TZOFFSETFROM:+0100
TZOFFSETTO:+0200
TZNAME:CEST
DTSTART:20240331T010000
END:DAYLIGHT
BEGIN:STANDARD
TZOFFSETFROM:+0200
TZOFFSETTO:+0100
TZNAME:CET
DTSTART:20241027T010000
END:STANDARD
BEGIN:DAYLIGHT
TZOFFSETFROM:+0100
TZOFFSETTO:+0200
TZNAME:CEST
DTSTART:20250330T010000
END:DAYLIGHT
BEGIN:STANDARD
TZOFFSETFROM:+0200
TZOFFSETTO:+0100
TZNAME:CET
DTSTART:20251026T010000
END:STANDARD
BEGIN:DAYLIGHT
TZOFFSETFROM:+0100
TZOFFSETTO:+0200
TZNAME:CEST
DTSTART:20260329T010000
END:DAYLIGHT
BEGIN:STANDARD
TZOFFSETFROM:+0200
TZOFFSETTO:+0100
TZNAME:CET
DTSTART:20261025T010000
END:STANDARD
END:VTIMEZONE
BEGIN:VEVENT
DTSTART;TZID=Europe/Paris:20260426T031715
DTEND;TZID=Europe/Paris:20250518T000000
DTSTAMP:20260426T031715
CREATED:20250429T121405Z
LAST-MODIFIED:20250429T121409Z
UID:32160-0-1747526400@www.ville-saint-saulve.fr
SUMMARY:Spectacle Harmonia Sacra
DESCRIPTION:
URL:https://www.ville-saint-saulve.fr/event/spectacle-harmonia-sacra-2/
LOCATION:Espace Athena\, 2 Pl. du 8 Mai 1945\, Saint-Saulve\, 59880\, France
END:VEVENT
BEGIN:VEVENT
DTSTART;TZID=Europe/Paris:20231002T000000
DTEND;TZID=Europe/Paris:20231006T000000
DTSTAMP:20260426T031715
CREATED:20230917T140057Z
LAST-MODIFIED:20230915T151322Z
UID:24065-1696204800-1696550400@www.ville-saint-saulve.fr
SUMMARY:Semaine bleue
DESCRIPTION:Vieillir ensemble\, une chance à cultiver !\nLa semaine bleue : du 2 au 6 octobre \nDes animations dans les structures seniors\nCette année\, la Ville vous propose des animations tous les jours dans les différentes EHPAD. Il y en aura pour tous les goûts : sport\, jeux\, atelier détente et spectacle seront au programme !\nAttention : inscription obligatoire auprès de chaque EPHAD \nUn forum « Bien vieillir »\nLe Groupe Elsan organise un forum à la Polyclinique du Parc\, regroupant des stands d’information\, de prévention santé\, l’Hoscare’Tour mais aussi divers ateliers pour vous sensibiliser. Gratuit. Sans réservation. \nUne marche bleue intergénérationnelle\nVenez nombreux vêtus de bleu pour marcher les 5km à travers la ville\, en passant par les hébergements de personnes âgées. Grands-parents\, parents et enfants\, on compte sur vous !\nRendez-vous à 9h30\, à l’espace Cécile Gallez. \nUn spectacle musical des années folles\nC’est l’occasion de vous faire revivre ces années incroyables ! Chansons d’époque\, mais aussi clin d’œil aux reines du music-hall seront au rendez-vous. Ce show vous sera proposé dans la salle de spectacle de l’espace Athena. Pour les intéressés\, venez retirer vos tickets d’entrée à l’accueil du CCAS. \nTélécharger le programme complet
URL:https://www.ville-saint-saulve.fr/event/semaine-bleue/
ATTACH;FMTTYPE=image/jpeg:https://www.ville-saint-saulve.fr/wp-content/uploads/affiche_semaine_bleue_2023_web-scaled.jpg
END:VEVENT
BEGIN:VEVENT
DTSTART;TZID=Europe/Paris:20231004T093000
DTEND;TZID=Europe/Paris:20231004T093000
DTSTAMP:20260426T031715
CREATED:20230918T115750Z
LAST-MODIFIED:20230918T115919Z
UID:24069-1696411800-1696411800@www.ville-saint-saulve.fr
SUMMARY:Marche bleue
DESCRIPTION:Une marche bleue intergénérationnelle\nVenez nombreux vêtus de bleu pour marcher les 5km à travers la ville\, en passant par les hébergements de personnes âgées. Grands-parents\, parents et enfants\, on compte sur vous !\nRendez-vous à 9h30\, à l’espace Cécile Gallez. \nTélécharger le programme complet
URL:https://www.ville-saint-saulve.fr/event/marche-bleue/
LOCATION:Espace Cécile Gallez\, 4 Av. Robert Schuman\, Saint-Saulve\, 59880\, France
ATTACH;FMTTYPE=image/jpeg:https://www.ville-saint-saulve.fr/wp-content/uploads/affiche_marche_bleue_2023_web-scaled.jpg
END:VEVENT
BEGIN:VEVENT
DTSTART;TZID=Europe/Paris:20231008T090000
DTEND;TZID=Europe/Paris:20231008T130000
DTSTAMP:20260426T031715
CREATED:20230321T110019Z
LAST-MODIFIED:20230321T110019Z
UID:22234-1696755600-1696770000@www.ville-saint-saulve.fr
SUMMARY:Le Petit Marché du terroir
DESCRIPTION:Le Petit Marché du terroir\nDernière date pour 2023 de ce rendez-vous mensuel : 12 novembre.
URL:https://www.ville-saint-saulve.fr/event/le-petit-marche-du-terroir-7/
LOCATION:Mairie\, 146 Rue Jean jaures\, St-Saulve\, Haut-de-France\, 59880\, France
ATTACH;FMTTYPE=image/jpeg:https://www.ville-saint-saulve.fr/wp-content/uploads/affiche_marche_terroir_2023-scaled.jpg
END:VEVENT
BEGIN:VEVENT
DTSTART;TZID=Europe/Paris:20231010T090000
DTEND;TZID=Europe/Paris:20231010T170000
DTSTAMP:20260426T031715
CREATED:20230926T061528Z
LAST-MODIFIED:20230922T073119Z
UID:24174-1696928400-1696957200@www.ville-saint-saulve.fr
SUMMARY:Octobre rose
DESCRIPTION:Télécharger le programme complet
URL:https://www.ville-saint-saulve.fr/event/octobre-rose/
ATTACH;FMTTYPE=image/jpeg:https://www.ville-saint-saulve.fr/wp-content/uploads/affiche_octobre_rose_2023_web.jpg
END:VEVENT
BEGIN:VEVENT
DTSTART;TZID=Europe/Paris:20231015T103000
DTEND;TZID=Europe/Paris:20231015T120000
DTSTAMP:20260426T031715
CREATED:20231005T142449Z
LAST-MODIFIED:20231005T142545Z
UID:24316-1697365800-1697371200@www.ville-saint-saulve.fr
SUMMARY:Atelier prévention des chutes
DESCRIPTION:L’Association Saint-Saulvienne d’Aïki Goshindo (A.S.S.A.G.) propose un atelier axé sur la coordination motrice ainsi que sur la prévention des chutes. Cet atelier s’adresse aux séniors mais également aux adultes désireux de découvrir des exercices qu’ils pourront adopter pour eux-mêmes ou pour les aînés de leur entourage.\nL’atelier permettra d’obtenir des pistes de travail pour prévenir les troubles de l’équilibre et de la motricité et d’éviter les risques liés aux chutes. \n\n\nIl se déroulera à la salle Coubertin de Saint-Saulve le dimanche 15 octobre 2023 de 10h30 à 12h00 et sera gratuit.  \n\n\nRenseignements et inscriptions au : 06 73 37 42 31 ou 06 33 39 64 14. 
URL:https://www.ville-saint-saulve.fr/event/atelier-prevention-des-chutes/
LOCATION:Salle des sports Coubertin\, 33 Rue Roger Salengro\, Saint-Saulve\, 59880\, France
ORGANIZER;CN="Association d'Aiki-Goshindo":MAILTO:sliwinskijpaul@gmail.com
END:VEVENT
BEGIN:VEVENT
DTSTART;TZID=Europe/Paris:20231015T150000
DTEND;TZID=Europe/Paris:20231015T150000
DTSTAMP:20260426T031715
CREATED:20231002T094254Z
LAST-MODIFIED:20231002T134651Z
UID:24247-1697382000-1697382000@www.ville-saint-saulve.fr
SUMMARY:Super loto traditionnel
DESCRIPTION:Dimanche 15 octobre à partir de 15h : \nSuper Loto traditionnel organisé par l’association K-Danse à la salle des fêtes.\n12 tirages durant l’après-midi + 1 spécial\, à la clé\, 4 000 € en bons d’achat de 15 à 1000 €.\nEntrée gratuite – Réservations au 06 98 88 50 29. \nPass vaccinal obligatoire
URL:https://www.ville-saint-saulve.fr/event/super-loto-traditionnel-8/
LOCATION:Salle des Fêtes\, 8 place Louis Maillard\, Saint-Saulve\, Hauts-de-France\, 59880\, France
ATTACH;FMTTYPE=image/jpeg:https://www.ville-saint-saulve.fr/wp-content/uploads/loto.jpg
END:VEVENT
BEGIN:VEVENT
DTSTART;TZID=Europe/Paris:20231016T140000
DTEND;TZID=Europe/Paris:20231016T160000
DTSTAMP:20260426T031715
CREATED:20230901T092249Z
LAST-MODIFIED:20230901T092306Z
UID:23643-1697464800-1697472000@www.ville-saint-saulve.fr
SUMMARY:Activité Seniors - Atelier Fortier
DESCRIPTION:L’atelier Fortier\nTout au long de l’année\, divers ateliers proposés par les animateurs du Centre Fortier tels que confection de peluches\, couture\, scrapbooking\, modelage\, mosaïque\, jeux de société\, etc. \nRetrouvez le calendrier des animations seniors 2023 en cliquant ici ! \nActivité réservée aux Saint-Saulviens\nInscriptions dans la limite des places disponibles et renseignements auprès du service Seniors du pôle accompagner au 03 27 45 65 79 ou par mail à seniors@ville-saint-saulve.fr
URL:https://www.ville-saint-saulve.fr/event/activite-seniors-atelier-fortier-7/
LOCATION:Centre de loisirs Fortier\, 44 Rue Henri Barbusse\, Saint-Saulve\, 59880\, France
END:VEVENT
BEGIN:VEVENT
DTSTART;VALUE=DATE:20231017
DTEND;VALUE=DATE:20231018
DTSTAMP:20260426T031715
CREATED:20230901T093212Z
LAST-MODIFIED:20230915T100018Z
UID:23645-1697500800-1697587199@www.ville-saint-saulve.fr
SUMMARY:Activité Seniors - Sortie champignons
DESCRIPTION:Sortie champignons\nRetrouvez le calendrier des animations seniors 2023 en cliquant ici ! \nActivité réservée aux Saint-Saulviens retraités\nInscriptions dans la limite des places disponibles et renseignements auprès du service Seniors du pôle accompagner au 03 27 45 65 79 ou par mail à seniors@ville-saint-saulve.fr
URL:https://www.ville-saint-saulve.fr/event/activite-seniors-sortie-champignons/
END:VEVENT
BEGIN:VEVENT
DTSTART;VALUE=DATE:20231022
DTEND;VALUE=DATE:20231113
DTSTAMP:20260426T031715
CREATED:20231005T081148Z
LAST-MODIFIED:20231005T081218Z
UID:24309-1697932800-1699833599@www.ville-saint-saulve.fr
SUMMARY:Tennis : tournoi de doubles
DESCRIPTION:Le Tennis Club de Saint-Saulve organise un tournoi de doubles (dames – messieurs – mixtes). \nInscriptions en ligne
URL:https://www.ville-saint-saulve.fr/event/tennis-tournoi-de-doubles/
LOCATION:Tennis Club\, 839 Rue du Roleur\, Saint-Saulve\, Sélectionner un État :\, 59880\, France
ATTACH;FMTTYPE=image/jpeg:https://www.ville-saint-saulve.fr/wp-content/uploads/affiche_tournoi_tennis.jpeg
ORGANIZER;CN="Tennis Club":MAILTO:tc.saint-saulve@fft.fr
END:VEVENT
BEGIN:VEVENT
DTSTART;TZID=Europe/Paris:20231022T073000
DTEND;TZID=Europe/Paris:20231022T073000
DTSTAMP:20260426T031715
CREATED:20231005T075903Z
LAST-MODIFIED:20231005T075949Z
UID:24303-1697959800-1697959800@www.ville-saint-saulve.fr
SUMMARY:31e Rando-Raid des trois vallées
DESCRIPTION:Le Vélo Club Amicale de Saint-Saulve organise sont 31e rando-raid des trois vallées avec 4 parcours aux choix (11km-26km-41km-54km). \nDépart libre à partir dès 7h30 à la salle Schuman – Inscriptions jusqu’à 9h30\nGratuit pour les moins de 14 ans \n 
URL:https://www.ville-saint-saulve.fr/event/31e-rando-raid/
LOCATION:Salle des Sports Schuman\, Avenue Robert Schuman\, Saint-Saulve\, Hauts-de-France\, 59880\, France
ATTACH;FMTTYPE=image/jpeg:https://www.ville-saint-saulve.fr/wp-content/uploads/affiche-2vtt-2023-scaled.jpg
ORGANIZER;CN="V%C3%A9lo Club Amicale Saint-Saulve":MAILTO:fabeca@sfr.fr
END:VEVENT
BEGIN:VEVENT
DTSTART;TZID=Europe/Paris:20231022T140000
DTEND;TZID=Europe/Paris:20231022T140000
DTSTAMP:20260426T031716
CREATED:20231012T143052Z
LAST-MODIFIED:20231012T143552Z
UID:24483-1697983200-1697983200@www.ville-saint-saulve.fr
SUMMARY:Super loto traditionnel
DESCRIPTION:Dimanche 22 octobre à partir de 14h : \nSuper Loto traditionnel organisé par l’association Olympique de Saint-Saulve à la salle des fêtes.\n12 tirages durant l’après-midi + 1 intermédiaire et 2 spéciaux\, à la clé\, 4 370 € en bons d’achat de 15 à 1000 €.\nEntrée gratuite – Réservations au 06 98 88 50 29. \nRestauration sur place
URL:https://www.ville-saint-saulve.fr/event/super-loto-traditionnel-9/
LOCATION:Salle des Fêtes\, 8 place Louis Maillard\, Saint-Saulve\, Hauts-de-France\, 59880\, France
ATTACH;FMTTYPE=image/jpeg:https://www.ville-saint-saulve.fr/wp-content/uploads/loto.jpg
END:VEVENT
BEGIN:VEVENT
DTSTART;TZID=Europe/Paris:20231023T091500
DTEND;TZID=Europe/Paris:20231023T091500
DTSTAMP:20260426T031716
CREATED:20231017T073340Z
LAST-MODIFIED:20231017T073653Z
UID:24634-1698052500-1698052500@www.ville-saint-saulve.fr
SUMMARY:Ensemble parta'jouons
DESCRIPTION:REPRISE DES ACTIVITÉS INTERGÉNÉRATIONNELLES\nMoments de partage entre enfants et seniors\nLa maison de la petite enfance et le service seniors de la Ville s’associent pour proposer aux seniors des activités au sein de l’espace Cécile Gallez afin de créer du lien et de leur faire partager des moments de joie\, de rire et de convivialité. \nParticipez à un atelier sensoriel autour de l’automne avec la crèche familiale.\nCollage de matières sur un gabarit citrouille à partir d’un album jeunesse « Mes petits trésors » \nUne limite est fixée à 3 seniors par activité\, si vous êtes intéressés\, inscrivez-vous auprès du service seniors au 03 27 45 65 79 ou par mail à l’adresse seniors@ville-saint-saulve.fr \nRetrouvez le programme pour la fin de l’année
URL:https://www.ville-saint-saulve.fr/event/ensemble-partajouons/
LOCATION:Espace Cécile Gallez\, 4 Av. Robert Schuman\, Saint-Saulve\, 59880\, France
ATTACH;FMTTYPE=image/jpeg:https://www.ville-saint-saulve.fr/wp-content/uploads/affiche_activites_intergenerationnelles.jpg
END:VEVENT
BEGIN:VEVENT
DTSTART;TZID=Europe/Paris:20231024T190000
DTEND;TZID=Europe/Paris:20231024T190000
DTSTAMP:20260426T031716
CREATED:20231010T062847Z
LAST-MODIFIED:20231018T152340Z
UID:24368-1698174000-1698174000@www.ville-saint-saulve.fr
SUMMARY:Réunion du conseil municipal
DESCRIPTION:Le conseil municipal se réunira le mardi 24 octobre à 19h à l’hôtel de ville. \nConsultez l’ordre du jour
URL:https://www.ville-saint-saulve.fr/event/reunion-du-conseil-municipal-8/
LOCATION:Mairie\, 146 Rue Jean jaures\, St-Saulve\, Haut-de-France\, 59880\, France
ATTACH;FMTTYPE=image/jpeg:https://www.ville-saint-saulve.fr/wp-content/uploads/2022/11/316417265_541470508017172_8437615211820158479_n.jpeg
END:VEVENT
BEGIN:VEVENT
DTSTART;TZID=Europe/Paris:20231026T200000
DTEND;TZID=Europe/Paris:20231026T200000
DTSTAMP:20260426T031716
CREATED:20230901T094133Z
LAST-MODIFIED:20230901T094221Z
UID:23647-1698350400-1698350400@www.ville-saint-saulve.fr
SUMMARY:Activité Seniors - Découverte du système solaire
DESCRIPTION:Découverte du système solaire et observation de la Lune\, de Jupiter et Saturne\nLimité à 15 personnes \nRetrouvez le calendrier des animations seniors 2023 en cliquant ici ! \nActivité réservée aux Saint-Saulviens retraités\nInscriptions dans la limite des places disponibles et renseignements auprès du service Seniors du pôle accompagner au 03 27 45 65 79 ou par mail à seniors@ville-saint-saulve.fr
URL:https://www.ville-saint-saulve.fr/event/activite-seniors-decouverte-du-systeme-solaire/
LOCATION:Observatoire Uranie\, 839 Rue du Roleur\, Saint-Saulve\, 59880\, France
END:VEVENT
BEGIN:VEVENT
DTSTART;TZID=Europe/Paris:20231027T173000
DTEND;TZID=Europe/Paris:20231027T173000
DTSTAMP:20260426T031716
CREATED:20231023T070315Z
LAST-MODIFIED:20231023T070459Z
UID:24757-1698427800-1698427800@www.ville-saint-saulve.fr
SUMMARY:Ecorifique Challenge
DESCRIPTION:Viens braver ta peur de l’écologie !\nLe Conseil Municipal des jeunes organise un rallye éco-citoyen aux couleurs d’Halloween ! Cet Ecorifique Challenge\, accessible à tous\, sera ponctué d’énigmes\, de jeux et de distribution de bonbons et cadeaux. \nSuivez le parcours\, étapes par étapes\, du parc Fortier à la salle des sports Schuman\, autour d’une sensibilisation à l’environnement et à notre cadre de vie. A l’arrivée\, un super quiz couronné de récompenses vous attend\, avant la super soirée d’Halloween ! \nViens déguisé et avec ta lampe de poche ! \nDécouvre le parcours et le reste du programme ici.
URL:https://www.ville-saint-saulve.fr/event/ecorifique-challenge/
LOCATION:Parc Fortier\, 44 Rue Henri Barbusse\, Saint-Saulve\, Hauts-de-France\, 59880\, France
ATTACH;FMTTYPE=image/jpeg:https://www.ville-saint-saulve.fr/wp-content/uploads/affiche_hallogreen-scaled.jpg
END:VEVENT
BEGIN:VEVENT
DTSTART;VALUE=DATE:20231028
DTEND;VALUE=DATE:20231030
DTSTAMP:20260426T031716
CREATED:20231011T072551Z
LAST-MODIFIED:20231011T072556Z
UID:24454-1698451200-1698623999@www.ville-saint-saulve.fr
SUMMARY:Opération Toussaint
DESCRIPTION:Opération « Toussaint solidaire » au cimetière\n\nLes 28\, 29 octobre et 1er novembre\, des bénévoles seront présents comme chaque année\, au cimetière pour aider au nettoyage et au fleurissement des tombes.\n\n\nLe service Emploi-Formation de la Ville constitue une brigade de volontaires prêts à donner quelques heures de leur temps pour une action citoyenne et solidaire à l’occasion des fêtes de la Toussaint.\n\n\nLes bénévoles seront à votre disposition les 28\, 29 octobre et le 1er novembre de 9h à 16h. Ils seront reconnaissables à leur chasuble fluorescente.
URL:https://www.ville-saint-saulve.fr/event/operation-toussaint/
LOCATION:Cimetière\, Rue Charles Giraud\, Saint-Saulve\, Sélectionner un État :\, 59880\, France
ATTACH;FMTTYPE=image/jpeg:https://www.ville-saint-saulve.fr/wp-content/uploads/aff_operation_toussaint-scaled.jpg
END:VEVENT
BEGIN:VEVENT
DTSTART;TZID=Europe/Paris:20231028T160000
DTEND;TZID=Europe/Paris:20231028T193000
DTSTAMP:20260426T031716
CREATED:20231013T090454Z
LAST-MODIFIED:20231013T090512Z
UID:24572-1698508800-1698521400@www.ville-saint-saulve.fr
SUMMARY:Marche d'Halloween
DESCRIPTION:L’association K-Danse organise en collaboration avec la Ville une marche d’Halloween le samedi 28 octobre de 16h à 19h30 au parc du Rôleur. \nVenez avec votre plus beau déguisement d’Halloween. \nAccès au parc côté collège et city stade \nSoupe au potiron offerte\nBonbons pour enfants \nPAF : 3€
URL:https://www.ville-saint-saulve.fr/event/marche-dhalloween/
LOCATION:Parc du Rôleur\, Rue du Roleur\, Saint-Saulve\, 59880\, France
ATTACH;FMTTYPE=image/jpeg:https://www.ville-saint-saulve.fr/wp-content/uploads/affiche_marche_halloween-scaled.jpg
END:VEVENT
BEGIN:VEVENT
DTSTART;TZID=Europe/Paris:20231031T090000
DTEND;TZID=Europe/Paris:20231031T120000
DTSTAMP:20260426T031716
CREATED:20231020T080716Z
LAST-MODIFIED:20231020T080716Z
UID:24720-1698742800-1698753600@www.ville-saint-saulve.fr
SUMMARY:Inscriptions Restos du Coeur
DESCRIPTION:Lancement de la campagne d’hiver pour les Restos du Coeur. Les inscriptions auront lieux les mardi 31 octobre\, jeudi 2 novembre de 9h à 12h et mardi 7 novembre de 14h à 17h\, à la salle des fêtes\, sur conditions de ressources\, à présenter.
URL:https://www.ville-saint-saulve.fr/event/inscriptions-restos-du-coeur/
LOCATION:Salle des Fêtes\, 8 place Louis Maillard\, Saint-Saulve\, Hauts-de-France\, 59880\, France
ATTACH;FMTTYPE=image/jpeg:https://www.ville-saint-saulve.fr/wp-content/uploads/les-restos-du-coeurs.jpg
END:VEVENT
END:VCALENDAR