BEGIN:VCALENDAR
VERSION:2.0
PRODID:-//Ville de Saint Saulve - ECPv6.15.20//NONSGML v1.0//EN
CALSCALE:GREGORIAN
METHOD:PUBLISH
X-ORIGINAL-URL:https://www.ville-saint-saulve.fr
X-WR-CALDESC:Évènements pour Ville de Saint Saulve
REFRESH-INTERVAL;VALUE=DURATION:PT1H
X-Robots-Tag:noindex
X-PUBLISHED-TTL:PT1H
BEGIN:VTIMEZONE
TZID:Europe/Paris
BEGIN:DAYLIGHT
TZOFFSETFROM:+0100
TZOFFSETTO:+0200
TZNAME:CEST
DTSTART:19760328T000000
END:DAYLIGHT
BEGIN:STANDARD
TZOFFSETFROM:+0200
TZOFFSETTO:+0100
TZNAME:CET
DTSTART:19760925T230000
END:STANDARD
BEGIN:DAYLIGHT
TZOFFSETFROM:+0100
TZOFFSETTO:+0200
TZNAME:CEST
DTSTART:19770403T010000
END:DAYLIGHT
BEGIN:STANDARD
TZOFFSETFROM:+0200
TZOFFSETTO:+0100
TZNAME:CET
DTSTART:19770925T010000
END:STANDARD
BEGIN:DAYLIGHT
TZOFFSETFROM:+0100
TZOFFSETTO:+0200
TZNAME:CEST
DTSTART:19780402T010000
END:DAYLIGHT
BEGIN:STANDARD
TZOFFSETFROM:+0200
TZOFFSETTO:+0100
TZNAME:CET
DTSTART:19781001T010000
END:STANDARD
BEGIN:DAYLIGHT
TZOFFSETFROM:+0100
TZOFFSETTO:+0200
TZNAME:CEST
DTSTART:19790401T010000
END:DAYLIGHT
BEGIN:STANDARD
TZOFFSETFROM:+0200
TZOFFSETTO:+0100
TZNAME:CET
DTSTART:19790930T010000
END:STANDARD
BEGIN:DAYLIGHT
TZOFFSETFROM:+0100
TZOFFSETTO:+0200
TZNAME:CEST
DTSTART:19800406T010000
END:DAYLIGHT
BEGIN:STANDARD
TZOFFSETFROM:+0200
TZOFFSETTO:+0100
TZNAME:CET
DTSTART:19800928T010000
END:STANDARD
BEGIN:DAYLIGHT
TZOFFSETFROM:+0100
TZOFFSETTO:+0200
TZNAME:CEST
DTSTART:19810329T010000
END:DAYLIGHT
BEGIN:STANDARD
TZOFFSETFROM:+0200
TZOFFSETTO:+0100
TZNAME:CET
DTSTART:19810927T010000
END:STANDARD
BEGIN:DAYLIGHT
TZOFFSETFROM:+0100
TZOFFSETTO:+0200
TZNAME:CEST
DTSTART:19820328T010000
END:DAYLIGHT
BEGIN:STANDARD
TZOFFSETFROM:+0200
TZOFFSETTO:+0100
TZNAME:CET
DTSTART:19820926T010000
END:STANDARD
BEGIN:DAYLIGHT
TZOFFSETFROM:+0100
TZOFFSETTO:+0200
TZNAME:CEST
DTSTART:19830327T010000
END:DAYLIGHT
BEGIN:STANDARD
TZOFFSETFROM:+0200
TZOFFSETTO:+0100
TZNAME:CET
DTSTART:19830925T010000
END:STANDARD
BEGIN:DAYLIGHT
TZOFFSETFROM:+0100
TZOFFSETTO:+0200
TZNAME:CEST
DTSTART:19840325T010000
END:DAYLIGHT
BEGIN:STANDARD
TZOFFSETFROM:+0200
TZOFFSETTO:+0100
TZNAME:CET
DTSTART:19840930T010000
END:STANDARD
BEGIN:DAYLIGHT
TZOFFSETFROM:+0100
TZOFFSETTO:+0200
TZNAME:CEST
DTSTART:19850331T010000
END:DAYLIGHT
BEGIN:STANDARD
TZOFFSETFROM:+0200
TZOFFSETTO:+0100
TZNAME:CET
DTSTART:19850929T010000
END:STANDARD
BEGIN:DAYLIGHT
TZOFFSETFROM:+0100
TZOFFSETTO:+0200
TZNAME:CEST
DTSTART:19860330T010000
END:DAYLIGHT
BEGIN:STANDARD
TZOFFSETFROM:+0200
TZOFFSETTO:+0100
TZNAME:CET
DTSTART:19860928T010000
END:STANDARD
BEGIN:DAYLIGHT
TZOFFSETFROM:+0100
TZOFFSETTO:+0200
TZNAME:CEST
DTSTART:19870329T010000
END:DAYLIGHT
BEGIN:STANDARD
TZOFFSETFROM:+0200
TZOFFSETTO:+0100
TZNAME:CET
DTSTART:19870927T010000
END:STANDARD
BEGIN:DAYLIGHT
TZOFFSETFROM:+0100
TZOFFSETTO:+0200
TZNAME:CEST
DTSTART:19880327T010000
END:DAYLIGHT
BEGIN:STANDARD
TZOFFSETFROM:+0200
TZOFFSETTO:+0100
TZNAME:CET
DTSTART:19880925T010000
END:STANDARD
BEGIN:DAYLIGHT
TZOFFSETFROM:+0100
TZOFFSETTO:+0200
TZNAME:CEST
DTSTART:19890326T010000
END:DAYLIGHT
BEGIN:STANDARD
TZOFFSETFROM:+0200
TZOFFSETTO:+0100
TZNAME:CET
DTSTART:19890924T010000
END:STANDARD
BEGIN:DAYLIGHT
TZOFFSETFROM:+0100
TZOFFSETTO:+0200
TZNAME:CEST
DTSTART:19900325T010000
END:DAYLIGHT
BEGIN:STANDARD
TZOFFSETFROM:+0200
TZOFFSETTO:+0100
TZNAME:CET
DTSTART:19900930T010000
END:STANDARD
BEGIN:DAYLIGHT
TZOFFSETFROM:+0100
TZOFFSETTO:+0200
TZNAME:CEST
DTSTART:19910331T010000
END:DAYLIGHT
BEGIN:STANDARD
TZOFFSETFROM:+0200
TZOFFSETTO:+0100
TZNAME:CET
DTSTART:19910929T010000
END:STANDARD
BEGIN:DAYLIGHT
TZOFFSETFROM:+0100
TZOFFSETTO:+0200
TZNAME:CEST
DTSTART:19920329T010000
END:DAYLIGHT
BEGIN:STANDARD
TZOFFSETFROM:+0200
TZOFFSETTO:+0100
TZNAME:CET
DTSTART:19920927T010000
END:STANDARD
BEGIN:DAYLIGHT
TZOFFSETFROM:+0100
TZOFFSETTO:+0200
TZNAME:CEST
DTSTART:19930328T010000
END:DAYLIGHT
BEGIN:STANDARD
TZOFFSETFROM:+0200
TZOFFSETTO:+0100
TZNAME:CET
DTSTART:19930926T010000
END:STANDARD
BEGIN:DAYLIGHT
TZOFFSETFROM:+0100
TZOFFSETTO:+0200
TZNAME:CEST
DTSTART:19940327T010000
END:DAYLIGHT
BEGIN:STANDARD
TZOFFSETFROM:+0200
TZOFFSETTO:+0100
TZNAME:CET
DTSTART:19940925T010000
END:STANDARD
BEGIN:DAYLIGHT
TZOFFSETFROM:+0100
TZOFFSETTO:+0200
TZNAME:CEST
DTSTART:19950326T010000
END:DAYLIGHT
BEGIN:STANDARD
TZOFFSETFROM:+0200
TZOFFSETTO:+0100
TZNAME:CET
DTSTART:19950924T010000
END:STANDARD
BEGIN:DAYLIGHT
TZOFFSETFROM:+0100
TZOFFSETTO:+0200
TZNAME:CEST
DTSTART:19960331T010000
END:DAYLIGHT
BEGIN:STANDARD
TZOFFSETFROM:+0200
TZOFFSETTO:+0100
TZNAME:CET
DTSTART:19961027T010000
END:STANDARD
BEGIN:DAYLIGHT
TZOFFSETFROM:+0100
TZOFFSETTO:+0200
TZNAME:CEST
DTSTART:19970330T010000
END:DAYLIGHT
BEGIN:STANDARD
TZOFFSETFROM:+0200
TZOFFSETTO:+0100
TZNAME:CET
DTSTART:19971026T010000
END:STANDARD
BEGIN:DAYLIGHT
TZOFFSETFROM:+0100
TZOFFSETTO:+0200
TZNAME:CEST
DTSTART:19980329T010000
END:DAYLIGHT
BEGIN:STANDARD
TZOFFSETFROM:+0200
TZOFFSETTO:+0100
TZNAME:CET
DTSTART:19981025T010000
END:STANDARD
BEGIN:DAYLIGHT
TZOFFSETFROM:+0100
TZOFFSETTO:+0200
TZNAME:CEST
DTSTART:19990328T010000
END:DAYLIGHT
BEGIN:STANDARD
TZOFFSETFROM:+0200
TZOFFSETTO:+0100
TZNAME:CET
DTSTART:19991031T010000
END:STANDARD
BEGIN:DAYLIGHT
TZOFFSETFROM:+0100
TZOFFSETTO:+0200
TZNAME:CEST
DTSTART:20000326T010000
END:DAYLIGHT
BEGIN:STANDARD
TZOFFSETFROM:+0200
TZOFFSETTO:+0100
TZNAME:CET
DTSTART:20001029T010000
END:STANDARD
BEGIN:DAYLIGHT
TZOFFSETFROM:+0100
TZOFFSETTO:+0200
TZNAME:CEST
DTSTART:20010325T010000
END:DAYLIGHT
BEGIN:STANDARD
TZOFFSETFROM:+0200
TZOFFSETTO:+0100
TZNAME:CET
DTSTART:20011028T010000
END:STANDARD
BEGIN:DAYLIGHT
TZOFFSETFROM:+0100
TZOFFSETTO:+0200
TZNAME:CEST
DTSTART:20020331T010000
END:DAYLIGHT
BEGIN:STANDARD
TZOFFSETFROM:+0200
TZOFFSETTO:+0100
TZNAME:CET
DTSTART:20021027T010000
END:STANDARD
BEGIN:DAYLIGHT
TZOFFSETFROM:+0100
TZOFFSETTO:+0200
TZNAME:CEST
DTSTART:20030330T010000
END:DAYLIGHT
BEGIN:STANDARD
TZOFFSETFROM:+0200
TZOFFSETTO:+0100
TZNAME:CET
DTSTART:20031026T010000
END:STANDARD
BEGIN:DAYLIGHT
TZOFFSETFROM:+0100
TZOFFSETTO:+0200
TZNAME:CEST
DTSTART:20040328T010000
END:DAYLIGHT
BEGIN:STANDARD
TZOFFSETFROM:+0200
TZOFFSETTO:+0100
TZNAME:CET
DTSTART:20041031T010000
END:STANDARD
BEGIN:DAYLIGHT
TZOFFSETFROM:+0100
TZOFFSETTO:+0200
TZNAME:CEST
DTSTART:20050327T010000
END:DAYLIGHT
BEGIN:STANDARD
TZOFFSETFROM:+0200
TZOFFSETTO:+0100
TZNAME:CET
DTSTART:20051030T010000
END:STANDARD
BEGIN:DAYLIGHT
TZOFFSETFROM:+0100
TZOFFSETTO:+0200
TZNAME:CEST
DTSTART:20060326T010000
END:DAYLIGHT
BEGIN:STANDARD
TZOFFSETFROM:+0200
TZOFFSETTO:+0100
TZNAME:CET
DTSTART:20061029T010000
END:STANDARD
BEGIN:DAYLIGHT
TZOFFSETFROM:+0100
TZOFFSETTO:+0200
TZNAME:CEST
DTSTART:20070325T010000
END:DAYLIGHT
BEGIN:STANDARD
TZOFFSETFROM:+0200
TZOFFSETTO:+0100
TZNAME:CET
DTSTART:20071028T010000
END:STANDARD
BEGIN:DAYLIGHT
TZOFFSETFROM:+0100
TZOFFSETTO:+0200
TZNAME:CEST
DTSTART:20080330T010000
END:DAYLIGHT
BEGIN:STANDARD
TZOFFSETFROM:+0200
TZOFFSETTO:+0100
TZNAME:CET
DTSTART:20081026T010000
END:STANDARD
BEGIN:DAYLIGHT
TZOFFSETFROM:+0100
TZOFFSETTO:+0200
TZNAME:CEST
DTSTART:20090329T010000
END:DAYLIGHT
BEGIN:STANDARD
TZOFFSETFROM:+0200
TZOFFSETTO:+0100
TZNAME:CET
DTSTART:20091025T010000
END:STANDARD
BEGIN:DAYLIGHT
TZOFFSETFROM:+0100
TZOFFSETTO:+0200
TZNAME:CEST
DTSTART:20100328T010000
END:DAYLIGHT
BEGIN:STANDARD
TZOFFSETFROM:+0200
TZOFFSETTO:+0100
TZNAME:CET
DTSTART:20101031T010000
END:STANDARD
BEGIN:DAYLIGHT
TZOFFSETFROM:+0100
TZOFFSETTO:+0200
TZNAME:CEST
DTSTART:20110327T010000
END:DAYLIGHT
BEGIN:STANDARD
TZOFFSETFROM:+0200
TZOFFSETTO:+0100
TZNAME:CET
DTSTART:20111030T010000
END:STANDARD
BEGIN:DAYLIGHT
TZOFFSETFROM:+0100
TZOFFSETTO:+0200
TZNAME:CEST
DTSTART:20120325T010000
END:DAYLIGHT
BEGIN:STANDARD
TZOFFSETFROM:+0200
TZOFFSETTO:+0100
TZNAME:CET
DTSTART:20121028T010000
END:STANDARD
BEGIN:DAYLIGHT
TZOFFSETFROM:+0100
TZOFFSETTO:+0200
TZNAME:CEST
DTSTART:20130331T010000
END:DAYLIGHT
BEGIN:STANDARD
TZOFFSETFROM:+0200
TZOFFSETTO:+0100
TZNAME:CET
DTSTART:20131027T010000
END:STANDARD
BEGIN:DAYLIGHT
TZOFFSETFROM:+0100
TZOFFSETTO:+0200
TZNAME:CEST
DTSTART:20140330T010000
END:DAYLIGHT
BEGIN:STANDARD
TZOFFSETFROM:+0200
TZOFFSETTO:+0100
TZNAME:CET
DTSTART:20141026T010000
END:STANDARD
BEGIN:DAYLIGHT
TZOFFSETFROM:+0100
TZOFFSETTO:+0200
TZNAME:CEST
DTSTART:20150329T010000
END:DAYLIGHT
BEGIN:STANDARD
TZOFFSETFROM:+0200
TZOFFSETTO:+0100
TZNAME:CET
DTSTART:20151025T010000
END:STANDARD
BEGIN:DAYLIGHT
TZOFFSETFROM:+0100
TZOFFSETTO:+0200
TZNAME:CEST
DTSTART:20160327T010000
END:DAYLIGHT
BEGIN:STANDARD
TZOFFSETFROM:+0200
TZOFFSETTO:+0100
TZNAME:CET
DTSTART:20161030T010000
END:STANDARD
BEGIN:DAYLIGHT
TZOFFSETFROM:+0100
TZOFFSETTO:+0200
TZNAME:CEST
DTSTART:20170326T010000
END:DAYLIGHT
BEGIN:STANDARD
TZOFFSETFROM:+0200
TZOFFSETTO:+0100
TZNAME:CET
DTSTART:20171029T010000
END:STANDARD
BEGIN:DAYLIGHT
TZOFFSETFROM:+0100
TZOFFSETTO:+0200
TZNAME:CEST
DTSTART:20180325T010000
END:DAYLIGHT
BEGIN:STANDARD
TZOFFSETFROM:+0200
TZOFFSETTO:+0100
TZNAME:CET
DTSTART:20181028T010000
END:STANDARD
BEGIN:DAYLIGHT
TZOFFSETFROM:+0100
TZOFFSETTO:+0200
TZNAME:CEST
DTSTART:20190331T010000
END:DAYLIGHT
BEGIN:STANDARD
TZOFFSETFROM:+0200
TZOFFSETTO:+0100
TZNAME:CET
DTSTART:20191027T010000
END:STANDARD
BEGIN:DAYLIGHT
TZOFFSETFROM:+0100
TZOFFSETTO:+0200
TZNAME:CEST
DTSTART:20200329T010000
END:DAYLIGHT
BEGIN:STANDARD
TZOFFSETFROM:+0200
TZOFFSETTO:+0100
TZNAME:CET
DTSTART:20201025T010000
END:STANDARD
BEGIN:DAYLIGHT
TZOFFSETFROM:+0100
TZOFFSETTO:+0200
TZNAME:CEST
DTSTART:20210328T010000
END:DAYLIGHT
BEGIN:STANDARD
TZOFFSETFROM:+0200
TZOFFSETTO:+0100
TZNAME:CET
DTSTART:20211031T010000
END:STANDARD
BEGIN:DAYLIGHT
TZOFFSETFROM:+0100
TZOFFSETTO:+0200
TZNAME:CEST
DTSTART:20220327T010000
END:DAYLIGHT
BEGIN:STANDARD
TZOFFSETFROM:+0200
TZOFFSETTO:+0100
TZNAME:CET
DTSTART:20221030T010000
END:STANDARD
BEGIN:DAYLIGHT
TZOFFSETFROM:+0100
TZOFFSETTO:+0200
TZNAME:CEST
DTSTART:20230326T010000
END:DAYLIGHT
BEGIN:STANDARD
TZOFFSETFROM:+0200
TZOFFSETTO:+0100
TZNAME:CET
DTSTART:20231029T010000
END:STANDARD
BEGIN:DAYLIGHT
TZOFFSETFROM:+0100
TZOFFSETTO:+0200
TZNAME:CEST
DTSTART:20240331T010000
END:DAYLIGHT
BEGIN:STANDARD
TZOFFSETFROM:+0200
TZOFFSETTO:+0100
TZNAME:CET
DTSTART:20241027T010000
END:STANDARD
BEGIN:DAYLIGHT
TZOFFSETFROM:+0100
TZOFFSETTO:+0200
TZNAME:CEST
DTSTART:20250330T010000
END:DAYLIGHT
BEGIN:STANDARD
TZOFFSETFROM:+0200
TZOFFSETTO:+0100
TZNAME:CET
DTSTART:20251026T010000
END:STANDARD
BEGIN:DAYLIGHT
TZOFFSETFROM:+0100
TZOFFSETTO:+0200
TZNAME:CEST
DTSTART:20260329T010000
END:DAYLIGHT
BEGIN:STANDARD
TZOFFSETFROM:+0200
TZOFFSETTO:+0100
TZNAME:CET
DTSTART:20261025T010000
END:STANDARD
END:VTIMEZONE
BEGIN:VEVENT
DTSTART;TZID=Europe/Paris:20260426T014725
DTEND;TZID=Europe/Paris:20250518T000000
DTSTAMP:20260426T014725
CREATED:20250429T121405Z
LAST-MODIFIED:20250429T121409Z
UID:32160-0-1747526400@www.ville-saint-saulve.fr
SUMMARY:Spectacle Harmonia Sacra
DESCRIPTION:
URL:https://www.ville-saint-saulve.fr/event/spectacle-harmonia-sacra-2/
LOCATION:Espace Athena\, 2 Pl. du 8 Mai 1945\, Saint-Saulve\, 59880\, France
END:VEVENT
BEGIN:VEVENT
DTSTART;VALUE=DATE:20231022
DTEND;VALUE=DATE:20231113
DTSTAMP:20260426T014725
CREATED:20231005T081148Z
LAST-MODIFIED:20231005T081218Z
UID:24309-1697932800-1699833599@www.ville-saint-saulve.fr
SUMMARY:Tennis : tournoi de doubles
DESCRIPTION:Le Tennis Club de Saint-Saulve organise un tournoi de doubles (dames – messieurs – mixtes). \nInscriptions en ligne
URL:https://www.ville-saint-saulve.fr/event/tennis-tournoi-de-doubles/
LOCATION:Tennis Club\, 839 Rue du Roleur\, Saint-Saulve\, Sélectionner un État :\, 59880\, France
ATTACH;FMTTYPE=image/jpeg:https://www.ville-saint-saulve.fr/wp-content/uploads/affiche_tournoi_tennis.jpeg
ORGANIZER;CN="Tennis Club":MAILTO:tc.saint-saulve@fft.fr
END:VEVENT
BEGIN:VEVENT
DTSTART;TZID=Europe/Paris:20231101T090000
DTEND;TZID=Europe/Paris:20231101T160000
DTSTAMP:20260426T014725
CREATED:20231011T072636Z
LAST-MODIFIED:20231011T072641Z
UID:24457-1698829200-1698854400@www.ville-saint-saulve.fr
SUMMARY:Opération Toussaint
DESCRIPTION:Opération « Toussaint solidaire » au cimetière\n\nLes 28\, 29 octobre et 1er novembre\, des bénévoles seront présents comme chaque année\, au cimetière pour aider au nettoyage et au fleurissement des tombes.\n\n\nLe service Emploi-Formation de la Ville constitue une brigade de volontaires prêts à donner quelques heures de leur temps pour une action citoyenne et solidaire à l’occasion des fêtes de la Toussaint.\n\n\nLes bénévoles seront à votre disposition les 28\, 29 octobre et le 1er novembre de 9h à 16h. Ils seront reconnaissables à leur chasuble fluorescente.
URL:https://www.ville-saint-saulve.fr/event/operation-toussaint-2/
LOCATION:Cimetière\, Rue Charles Giraud\, Saint-Saulve\, Sélectionner un État :\, 59880\, France
ATTACH;FMTTYPE=image/jpeg:https://www.ville-saint-saulve.fr/wp-content/uploads/aff_operation_toussaint-scaled.jpg
END:VEVENT
BEGIN:VEVENT
DTSTART;TZID=Europe/Paris:20231101T140000
DTEND;TZID=Europe/Paris:20231101T140000
DTSTAMP:20260426T014725
CREATED:20231023T070014Z
LAST-MODIFIED:20231023T070020Z
UID:24754-1698847200-1698847200@www.ville-saint-saulve.fr
SUMMARY:Super loto traditionnel
DESCRIPTION:Mercredi 1er novembre à partir de 14h : \nSuper Loto traditionnel organisé par l’association S’Point Boys de Saint-Saulve à la salle des fêtes.\n12 tirages durant l’après-midi + tirages spéciaux\, à la clé\, 4 652 € en bons d’achat de 16 à 1000 €.\nEntrée gratuite – Réservations au 06 98 88 50 29. \nRestauration sur place
URL:https://www.ville-saint-saulve.fr/event/super-loto-traditionnel-10/
LOCATION:Salle des Fêtes\, 8 place Louis Maillard\, Saint-Saulve\, Hauts-de-France\, 59880\, France
ATTACH;FMTTYPE=image/jpeg:https://www.ville-saint-saulve.fr/wp-content/uploads/loto.jpg
END:VEVENT
BEGIN:VEVENT
DTSTART;TZID=Europe/Paris:20231102T090000
DTEND;TZID=Europe/Paris:20231102T120000
DTSTAMP:20260426T014725
CREATED:20231020T081116Z
LAST-MODIFIED:20231020T081116Z
UID:24722-1698915600-1698926400@www.ville-saint-saulve.fr
SUMMARY:Inscriptions Restos du Coeur
DESCRIPTION:Lancement de la campagne d’hiver pour les Restos du Coeur. Les inscriptions auront lieux les mardi 31 octobre\, jeudi 2 novembre de 9h à 12h et mardi 7 novembre de 14h à 17h\, à la salle des fêtes\, sur conditions de ressources\, à présenter.
URL:https://www.ville-saint-saulve.fr/event/inscriptions-restos-du-coeur-2/
LOCATION:Salle des Fêtes\, 8 place Louis Maillard\, Saint-Saulve\, Hauts-de-France\, 59880\, France
ATTACH;FMTTYPE=image/jpeg:https://www.ville-saint-saulve.fr/wp-content/uploads/les-restos-du-coeurs.jpg
END:VEVENT
BEGIN:VEVENT
DTSTART;TZID=Europe/Paris:20231107T140000
DTEND;TZID=Europe/Paris:20231107T170000
DTSTAMP:20260426T014725
CREATED:20231020T081232Z
LAST-MODIFIED:20231020T081232Z
UID:24724-1699365600-1699376400@www.ville-saint-saulve.fr
SUMMARY:Inscriptions Restos du Coeur
DESCRIPTION:Lancement de la campagne d’hiver pour les Restos du Coeur. Les inscriptions auront lieux les mardi 31 octobre\, jeudi 2 novembre de 9h à 12h et mardi 7 novembre de 14h à 17h\, à la salle des fêtes\, sur conditions de ressources\, à présenter.
URL:https://www.ville-saint-saulve.fr/event/inscriptions-restos-du-coeur-3/
LOCATION:Salle des Fêtes\, 8 place Louis Maillard\, Saint-Saulve\, Hauts-de-France\, 59880\, France
ATTACH;FMTTYPE=image/jpeg:https://www.ville-saint-saulve.fr/wp-content/uploads/les-restos-du-coeurs.jpg
END:VEVENT
BEGIN:VEVENT
DTSTART;TZID=Europe/Paris:20231111T110000
DTEND;TZID=Europe/Paris:20231111T110000
DTSTAMP:20260426T014725
CREATED:20231023T070946Z
LAST-MODIFIED:20231023T071012Z
UID:24762-1699700400-1699700400@www.ville-saint-saulve.fr
SUMMARY:Commémoration de l'Armistice 1918
DESCRIPTION:Rendez-vous au Monument aux Morts
URL:https://www.ville-saint-saulve.fr/event/commemoration-de-larmistice-1918/
LOCATION:Église Saint-Martin\, Pl. Francisco Ferrer\, Saint-Saulve\, 59880\, France
ATTACH;FMTTYPE=image/jpeg:https://www.ville-saint-saulve.fr/wp-content/uploads/flyer_appel_11_novembre.jpg
END:VEVENT
BEGIN:VEVENT
DTSTART;TZID=Europe/Paris:20231112T090000
DTEND;TZID=Europe/Paris:20231112T130000
DTSTAMP:20260426T014725
CREATED:20230321T110046Z
LAST-MODIFIED:20230321T110046Z
UID:22236-1699779600-1699794000@www.ville-saint-saulve.fr
SUMMARY:Le Petit Marché du terroir
DESCRIPTION:Le Petit Marché du terroir
URL:https://www.ville-saint-saulve.fr/event/le-petit-marche-du-terroir-8/
LOCATION:Mairie\, 146 Rue Jean jaures\, St-Saulve\, Haut-de-France\, 59880\, France
ATTACH;FMTTYPE=image/jpeg:https://www.ville-saint-saulve.fr/wp-content/uploads/affiche_marche_terroir_2023-scaled.jpg
END:VEVENT
BEGIN:VEVENT
DTSTART;VALUE=DATE:20231118
DTEND;VALUE=DATE:20231120
DTSTAMP:20260426T014725
CREATED:20231106T093203Z
LAST-MODIFIED:20231106T093910Z
UID:25027-1700265600-1700438399@www.ville-saint-saulve.fr
SUMMARY:Salon de la BD à Valenciennes
DESCRIPTION:L’association Val en Bulles de Valenciennes organise avec le Lions Club Valenciennes Athènes du Nord son 16ème salon international de la Bande Dessinée à la Cité des Congrès 1\, esplanade des Rives Créatives de l’Escaut à Anzin\, les 18 novembre de 10h30 à 19h et 19 novembre 2023 de 10h à 18h. \nPlus de soixante auteurs seront présents et pourront dédicacer leurs œuvres. Ils viendront de tous horizons Etats Unis\, Italie\, Espagne\, Portugal\, Allemagne\, Belgique et bien entendu France.\nLes BD franco-belge\, les comics et les mangas seront représentés ─ L’auteur invité d’honneur est Achdé\, dessinateur de Lucky Luke ─ 28 exposants proposeront des livres neufs et d’occasion ainsi que des figurines.\nLes étudiants de RUBICA\, école d’animations et de design des Serres Numériques feront des démonstrations. Un stand avec des imprimantes 3D sera également présent.\nUn espace enfants se tiendra dans la salle et dans l’auditorium adjacent durant les deux jours avec en particulier\, des contes\, dessins\, un stand de maquillage\, des masques et une « cheese box ».\nIl y aura également des expositions\, L’ombre d’antan sur la 1ère guerre mondiale\, Arsène Lupin et Fluide glacial en plus d’Astérix et Superman. \nEntrée 5€\, 3€ pour les étudiants\, gratuit pour les moins de 12 ans\nBuvette\, petite restauration et friandises\nParcours fléché ; Parking gratuit\nSite internet : www.valenbulles.fr \nPage Facebook\nInformations au 06 79 50 05 63
URL:https://www.ville-saint-saulve.fr/event/salon-de-la-bd-a-valenciennes/
LOCATION:Cité des Congrès\, 1\, esplanade des Rives Créatives de l’Escaut\, Anzin\, 59410\, France
ATTACH;FMTTYPE=image/jpeg:https://www.ville-saint-saulve.fr/wp-content/uploads/AFFICHE-300X420_2023.jpg
END:VEVENT
BEGIN:VEVENT
DTSTART;TZID=Europe/Paris:20231118T180000
DTEND;TZID=Europe/Paris:20231118T180000
DTSTAMP:20260426T014725
CREATED:20231023T071256Z
LAST-MODIFIED:20231023T071302Z
UID:24766-1700330400-1700330400@www.ville-saint-saulve.fr
SUMMARY:Concert de Sainte-Cécile
DESCRIPTION:
URL:https://www.ville-saint-saulve.fr/event/concert-de-sainte-cecile/
LOCATION:Salle des Fêtes\, 8 place Louis Maillard\, Saint-Saulve\, Hauts-de-France\, 59880\, France
ATTACH;FMTTYPE=image/jpeg:https://www.ville-saint-saulve.fr/wp-content/uploads/affiche_concert_sainte-cecile-scaled.jpg
END:VEVENT
BEGIN:VEVENT
DTSTART;TZID=Europe/Paris:20231119T140000
DTEND;TZID=Europe/Paris:20231119T140000
DTSTAMP:20260426T014725
CREATED:20231109T100420Z
LAST-MODIFIED:20231109T100425Z
UID:25310-1700402400-1700402400@www.ville-saint-saulve.fr
SUMMARY:Super loto traditionnel
DESCRIPTION:Dimanche 19 novembre à partir de 14h\nSuper Loto traditionnel organisé par l’amicale laïque des anciens élèves des écoles du centre à la salle des fêtes.\n12 tirages durant l’après-midi + 1 tirage intermédiaire et 2 tirages spéciaux\, à la clé\, 4 370 € en bons d’achat de 15 à 1000 €. \nRestauration sur place.\nEntrée gratuite – Réservations au 06 98 88 50 29.
URL:https://www.ville-saint-saulve.fr/event/super-loto-traditionnel-11/
LOCATION:Salle des Fêtes\, 8 place Louis Maillard\, Saint-Saulve\, Hauts-de-France\, 59880\, France
ATTACH;FMTTYPE=image/jpeg:https://www.ville-saint-saulve.fr/wp-content/uploads/loto.jpg
END:VEVENT
BEGIN:VEVENT
DTSTART;TZID=Europe/Paris:20231122T103000
DTEND;TZID=Europe/Paris:20231122T103000
DTSTAMP:20260426T014725
CREATED:20231017T073805Z
LAST-MODIFIED:20231017T073811Z
UID:24636-1700649000-1700649000@www.ville-saint-saulve.fr
SUMMARY:Ensemble parta'jouons
DESCRIPTION:REPRISE DES ACTIVITÉS INTERGÉNÉRATIONNELLES\nMoments de partage entre enfants et seniors\nLa maison de la petite enfance et le service seniors de la Ville s’associent pour proposer aux seniors des activités au sein de l’espace Cécile Gallez afin de créer du lien et de leur faire partager des moments de joie\, de rire et de convivialité. \nParticipez à un atelier culinaire avec la crèche collective. \nUne limite est fixée à 3 seniors par activité\, si vous êtes intéressés\, inscrivez-vous auprès du service seniors au 03 27 45 65 79 ou par mail à l’adresse seniors@ville-saint-saulve.fr \nRetrouvez le programme pour la fin de l’année
URL:https://www.ville-saint-saulve.fr/event/ensemble-partajouons-2/
LOCATION:Espace Cécile Gallez\, 4 Av. Robert Schuman\, Saint-Saulve\, 59880\, France
ATTACH;FMTTYPE=image/jpeg:https://www.ville-saint-saulve.fr/wp-content/uploads/affiche_activites_intergenerationnelles.jpg
END:VEVENT
BEGIN:VEVENT
DTSTART;TZID=Europe/Paris:20231124T190000
DTEND;TZID=Europe/Paris:20231124T190000
DTSTAMP:20260426T014725
CREATED:20231024T093059Z
LAST-MODIFIED:20231024T093106Z
UID:24787-1700852400-1700852400@www.ville-saint-saulve.fr
SUMMARY:Athena Blues Festival
DESCRIPTION:6e Athéna Blues Festival\n24 & 25 novembre\nComment présenter cette 6ème édition de l’Athéna Blues Festival sans remercier l’engagement passionné et la générosité des nombreux bénévoles de la MJC qui travaillent depuis plus de 10 ans à la programmation et à l’accueil du public.\nLes amateurs de blues des Hauts de France et du Hainaut ne s’y sont pas trompé\, l’événement est aujourd’hui incontournable.\nCette année encore\, le collectif Blues in Athéna vous a concocté une programmation dont elle a le secret : entre révélation de belles découvertes et têtes d’affiche internationales (France – Belgique – USA). \nVendredi 24 novembre dès 19 h :\nSecret Garden and the Dusty Men\nAWEK\nAlabama Mike \nEn prévente : par soirée : 21/ 18 €  – pass festival : 35 / 29 €\nSur place : par soirée : 23 / 20 € – pass festival : 37 / 31 €
URL:https://www.ville-saint-saulve.fr/event/athena-blues-festival/
LOCATION:Espace Athena\, 2 Pl. du 8 Mai 1945\, Saint-Saulve\, 59880\, France
ATTACH;FMTTYPE=image/jpeg:https://www.ville-saint-saulve.fr/wp-content/uploads/affiche-athena-blues-festival-2023-web.jpg
ORGANIZER;CN="MJC":MAILTO:accueil@mjc-athena.org
END:VEVENT
BEGIN:VEVENT
DTSTART;TZID=Europe/Paris:20231125T190000
DTEND;TZID=Europe/Paris:20231125T190000
DTSTAMP:20260426T014725
CREATED:20231024T093159Z
LAST-MODIFIED:20231024T093204Z
UID:24789-1700938800-1700938800@www.ville-saint-saulve.fr
SUMMARY:Athena Blues Festival
DESCRIPTION:6e Athéna Blues Festival\n24 & 25 novembre\nComment présenter cette 6ème édition de l’Athéna Blues Festival sans remercier l’engagement passionné et la générosité des nombreux bénévoles de la MJC qui travaillent depuis plus de 10 ans à la programmation et à l’accueil du public.\nLes amateurs de blues des Hauts de France et du Hainaut ne s’y sont pas trompé\, l’événement est aujourd’hui incontournable.\nCette année encore\, le collectif Blues in Athéna vous a concocté une programmation dont elle a le secret : entre révélation de belles découvertes et têtes d’affiche internationales (France – Belgique – USA). \nSamedi 25 novembre dès 19 h :\nBlackbird and The Red Fish\nTravelin Blue Kings\nThe Supersoul Brothers \nEn prévente : par soirée : 21/ 18 €  – pass festival : 35 / 29 €\nSur place : par soirée : 23 / 20 € – pass festival : 37 / 31 €
URL:https://www.ville-saint-saulve.fr/event/athena-blues-festival-2/
LOCATION:Espace Athena\, 2 Pl. du 8 Mai 1945\, Saint-Saulve\, 59880\, France
ATTACH;FMTTYPE=image/jpeg:https://www.ville-saint-saulve.fr/wp-content/uploads/affiche-athena-blues-festival-2023-web.jpg
ORGANIZER;CN="MJC":MAILTO:accueil@mjc-athena.org
END:VEVENT
BEGIN:VEVENT
DTSTART;TZID=Europe/Paris:20231126T140000
DTEND;TZID=Europe/Paris:20231126T140000
DTSTAMP:20260426T014725
CREATED:20231113T074935Z
LAST-MODIFIED:20231113T075115Z
UID:25384-1701007200-1701007200@www.ville-saint-saulve.fr
SUMMARY:Super loto traditionnel
DESCRIPTION:Dimanche 26 novembre à partir de 14h\nSuper Loto traditionnel organisé par le club des supporters de l’Olympique à la salle des fêtes.\n12 tirages durant l’après-midi + 1 tirage intermédiaire et 1 tirage spécial\, à la clé\, 4 150 € en bons d’achat de 15 à 1000 €.\n5€ le grand carton (4 cartons) pour la série de 4 tirages. \nRestauration sur place.\nEntrée gratuite – Réservations au 06 98 88 50 29.
URL:https://www.ville-saint-saulve.fr/event/super-loto-traditionnel-12/
LOCATION:Salle des Fêtes\, 8 place Louis Maillard\, Saint-Saulve\, Hauts-de-France\, 59880\, France
ATTACH;FMTTYPE=image/jpeg:https://www.ville-saint-saulve.fr/wp-content/uploads/loto.jpg
END:VEVENT
BEGIN:VEVENT
DTSTART;TZID=Europe/Paris:20231128T190000
DTEND;TZID=Europe/Paris:20231128T190000
DTSTAMP:20260426T014725
CREATED:20231123T074105Z
LAST-MODIFIED:20231123T074112Z
UID:25562-1701198000-1701198000@www.ville-saint-saulve.fr
SUMMARY:Réunion du conseil municipal
DESCRIPTION:Le conseil municipal se réunira le mardi 28 novembre à 19h à l’hôtel de ville. \nConsultez l’ordre du jour
URL:https://www.ville-saint-saulve.fr/event/reunion-du-conseil-municipal-9/
LOCATION:Mairie\, 146 Rue Jean jaures\, St-Saulve\, Haut-de-France\, 59880\, France
ATTACH;FMTTYPE=image/jpeg:https://www.ville-saint-saulve.fr/wp-content/uploads/2022/11/316417265_541470508017172_8437615211820158479_n.jpeg
END:VEVENT
BEGIN:VEVENT
DTSTART;TZID=Europe/Paris:20231130T183000
DTEND;TZID=Europe/Paris:20231130T183000
DTSTAMP:20260426T014725
CREATED:20231113T135308Z
LAST-MODIFIED:20231113T135333Z
UID:25389-1701369000-1701369000@www.ville-saint-saulve.fr
SUMMARY:Réunion publique à la Pépinière
DESCRIPTION:
URL:https://www.ville-saint-saulve.fr/event/reunion-publique-a-la-pepiniere/
LOCATION:Maison de quartier\, 1 Rue Blaise Pascal\, Saint-Saulve\, 59880\, France
ATTACH;FMTTYPE=image/png:https://www.ville-saint-saulve.fr/wp-content/uploads/Yellow-and-Blue-Business-News-Instagram-Post_20231113_101947_0000.png
END:VEVENT
END:VCALENDAR