BEGIN:VCALENDAR
VERSION:2.0
PRODID:-//Ville de Saint Saulve - ECPv6.15.20//NONSGML v1.0//EN
CALSCALE:GREGORIAN
METHOD:PUBLISH
X-ORIGINAL-URL:https://www.ville-saint-saulve.fr
X-WR-CALDESC:Évènements pour Ville de Saint Saulve
REFRESH-INTERVAL;VALUE=DURATION:PT1H
X-Robots-Tag:noindex
X-PUBLISHED-TTL:PT1H
BEGIN:VTIMEZONE
TZID:Europe/Paris
BEGIN:DAYLIGHT
TZOFFSETFROM:+0100
TZOFFSETTO:+0200
TZNAME:CEST
DTSTART:19760328T000000
END:DAYLIGHT
BEGIN:STANDARD
TZOFFSETFROM:+0200
TZOFFSETTO:+0100
TZNAME:CET
DTSTART:19760925T230000
END:STANDARD
BEGIN:DAYLIGHT
TZOFFSETFROM:+0100
TZOFFSETTO:+0200
TZNAME:CEST
DTSTART:19770403T010000
END:DAYLIGHT
BEGIN:STANDARD
TZOFFSETFROM:+0200
TZOFFSETTO:+0100
TZNAME:CET
DTSTART:19770925T010000
END:STANDARD
BEGIN:DAYLIGHT
TZOFFSETFROM:+0100
TZOFFSETTO:+0200
TZNAME:CEST
DTSTART:19780402T010000
END:DAYLIGHT
BEGIN:STANDARD
TZOFFSETFROM:+0200
TZOFFSETTO:+0100
TZNAME:CET
DTSTART:19781001T010000
END:STANDARD
BEGIN:DAYLIGHT
TZOFFSETFROM:+0100
TZOFFSETTO:+0200
TZNAME:CEST
DTSTART:19790401T010000
END:DAYLIGHT
BEGIN:STANDARD
TZOFFSETFROM:+0200
TZOFFSETTO:+0100
TZNAME:CET
DTSTART:19790930T010000
END:STANDARD
BEGIN:DAYLIGHT
TZOFFSETFROM:+0100
TZOFFSETTO:+0200
TZNAME:CEST
DTSTART:19800406T010000
END:DAYLIGHT
BEGIN:STANDARD
TZOFFSETFROM:+0200
TZOFFSETTO:+0100
TZNAME:CET
DTSTART:19800928T010000
END:STANDARD
BEGIN:DAYLIGHT
TZOFFSETFROM:+0100
TZOFFSETTO:+0200
TZNAME:CEST
DTSTART:19810329T010000
END:DAYLIGHT
BEGIN:STANDARD
TZOFFSETFROM:+0200
TZOFFSETTO:+0100
TZNAME:CET
DTSTART:19810927T010000
END:STANDARD
BEGIN:DAYLIGHT
TZOFFSETFROM:+0100
TZOFFSETTO:+0200
TZNAME:CEST
DTSTART:19820328T010000
END:DAYLIGHT
BEGIN:STANDARD
TZOFFSETFROM:+0200
TZOFFSETTO:+0100
TZNAME:CET
DTSTART:19820926T010000
END:STANDARD
BEGIN:DAYLIGHT
TZOFFSETFROM:+0100
TZOFFSETTO:+0200
TZNAME:CEST
DTSTART:19830327T010000
END:DAYLIGHT
BEGIN:STANDARD
TZOFFSETFROM:+0200
TZOFFSETTO:+0100
TZNAME:CET
DTSTART:19830925T010000
END:STANDARD
BEGIN:DAYLIGHT
TZOFFSETFROM:+0100
TZOFFSETTO:+0200
TZNAME:CEST
DTSTART:19840325T010000
END:DAYLIGHT
BEGIN:STANDARD
TZOFFSETFROM:+0200
TZOFFSETTO:+0100
TZNAME:CET
DTSTART:19840930T010000
END:STANDARD
BEGIN:DAYLIGHT
TZOFFSETFROM:+0100
TZOFFSETTO:+0200
TZNAME:CEST
DTSTART:19850331T010000
END:DAYLIGHT
BEGIN:STANDARD
TZOFFSETFROM:+0200
TZOFFSETTO:+0100
TZNAME:CET
DTSTART:19850929T010000
END:STANDARD
BEGIN:DAYLIGHT
TZOFFSETFROM:+0100
TZOFFSETTO:+0200
TZNAME:CEST
DTSTART:19860330T010000
END:DAYLIGHT
BEGIN:STANDARD
TZOFFSETFROM:+0200
TZOFFSETTO:+0100
TZNAME:CET
DTSTART:19860928T010000
END:STANDARD
BEGIN:DAYLIGHT
TZOFFSETFROM:+0100
TZOFFSETTO:+0200
TZNAME:CEST
DTSTART:19870329T010000
END:DAYLIGHT
BEGIN:STANDARD
TZOFFSETFROM:+0200
TZOFFSETTO:+0100
TZNAME:CET
DTSTART:19870927T010000
END:STANDARD
BEGIN:DAYLIGHT
TZOFFSETFROM:+0100
TZOFFSETTO:+0200
TZNAME:CEST
DTSTART:19880327T010000
END:DAYLIGHT
BEGIN:STANDARD
TZOFFSETFROM:+0200
TZOFFSETTO:+0100
TZNAME:CET
DTSTART:19880925T010000
END:STANDARD
BEGIN:DAYLIGHT
TZOFFSETFROM:+0100
TZOFFSETTO:+0200
TZNAME:CEST
DTSTART:19890326T010000
END:DAYLIGHT
BEGIN:STANDARD
TZOFFSETFROM:+0200
TZOFFSETTO:+0100
TZNAME:CET
DTSTART:19890924T010000
END:STANDARD
BEGIN:DAYLIGHT
TZOFFSETFROM:+0100
TZOFFSETTO:+0200
TZNAME:CEST
DTSTART:19900325T010000
END:DAYLIGHT
BEGIN:STANDARD
TZOFFSETFROM:+0200
TZOFFSETTO:+0100
TZNAME:CET
DTSTART:19900930T010000
END:STANDARD
BEGIN:DAYLIGHT
TZOFFSETFROM:+0100
TZOFFSETTO:+0200
TZNAME:CEST
DTSTART:19910331T010000
END:DAYLIGHT
BEGIN:STANDARD
TZOFFSETFROM:+0200
TZOFFSETTO:+0100
TZNAME:CET
DTSTART:19910929T010000
END:STANDARD
BEGIN:DAYLIGHT
TZOFFSETFROM:+0100
TZOFFSETTO:+0200
TZNAME:CEST
DTSTART:19920329T010000
END:DAYLIGHT
BEGIN:STANDARD
TZOFFSETFROM:+0200
TZOFFSETTO:+0100
TZNAME:CET
DTSTART:19920927T010000
END:STANDARD
BEGIN:DAYLIGHT
TZOFFSETFROM:+0100
TZOFFSETTO:+0200
TZNAME:CEST
DTSTART:19930328T010000
END:DAYLIGHT
BEGIN:STANDARD
TZOFFSETFROM:+0200
TZOFFSETTO:+0100
TZNAME:CET
DTSTART:19930926T010000
END:STANDARD
BEGIN:DAYLIGHT
TZOFFSETFROM:+0100
TZOFFSETTO:+0200
TZNAME:CEST
DTSTART:19940327T010000
END:DAYLIGHT
BEGIN:STANDARD
TZOFFSETFROM:+0200
TZOFFSETTO:+0100
TZNAME:CET
DTSTART:19940925T010000
END:STANDARD
BEGIN:DAYLIGHT
TZOFFSETFROM:+0100
TZOFFSETTO:+0200
TZNAME:CEST
DTSTART:19950326T010000
END:DAYLIGHT
BEGIN:STANDARD
TZOFFSETFROM:+0200
TZOFFSETTO:+0100
TZNAME:CET
DTSTART:19950924T010000
END:STANDARD
BEGIN:DAYLIGHT
TZOFFSETFROM:+0100
TZOFFSETTO:+0200
TZNAME:CEST
DTSTART:19960331T010000
END:DAYLIGHT
BEGIN:STANDARD
TZOFFSETFROM:+0200
TZOFFSETTO:+0100
TZNAME:CET
DTSTART:19961027T010000
END:STANDARD
BEGIN:DAYLIGHT
TZOFFSETFROM:+0100
TZOFFSETTO:+0200
TZNAME:CEST
DTSTART:19970330T010000
END:DAYLIGHT
BEGIN:STANDARD
TZOFFSETFROM:+0200
TZOFFSETTO:+0100
TZNAME:CET
DTSTART:19971026T010000
END:STANDARD
BEGIN:DAYLIGHT
TZOFFSETFROM:+0100
TZOFFSETTO:+0200
TZNAME:CEST
DTSTART:19980329T010000
END:DAYLIGHT
BEGIN:STANDARD
TZOFFSETFROM:+0200
TZOFFSETTO:+0100
TZNAME:CET
DTSTART:19981025T010000
END:STANDARD
BEGIN:DAYLIGHT
TZOFFSETFROM:+0100
TZOFFSETTO:+0200
TZNAME:CEST
DTSTART:19990328T010000
END:DAYLIGHT
BEGIN:STANDARD
TZOFFSETFROM:+0200
TZOFFSETTO:+0100
TZNAME:CET
DTSTART:19991031T010000
END:STANDARD
BEGIN:DAYLIGHT
TZOFFSETFROM:+0100
TZOFFSETTO:+0200
TZNAME:CEST
DTSTART:20000326T010000
END:DAYLIGHT
BEGIN:STANDARD
TZOFFSETFROM:+0200
TZOFFSETTO:+0100
TZNAME:CET
DTSTART:20001029T010000
END:STANDARD
BEGIN:DAYLIGHT
TZOFFSETFROM:+0100
TZOFFSETTO:+0200
TZNAME:CEST
DTSTART:20010325T010000
END:DAYLIGHT
BEGIN:STANDARD
TZOFFSETFROM:+0200
TZOFFSETTO:+0100
TZNAME:CET
DTSTART:20011028T010000
END:STANDARD
BEGIN:DAYLIGHT
TZOFFSETFROM:+0100
TZOFFSETTO:+0200
TZNAME:CEST
DTSTART:20020331T010000
END:DAYLIGHT
BEGIN:STANDARD
TZOFFSETFROM:+0200
TZOFFSETTO:+0100
TZNAME:CET
DTSTART:20021027T010000
END:STANDARD
BEGIN:DAYLIGHT
TZOFFSETFROM:+0100
TZOFFSETTO:+0200
TZNAME:CEST
DTSTART:20030330T010000
END:DAYLIGHT
BEGIN:STANDARD
TZOFFSETFROM:+0200
TZOFFSETTO:+0100
TZNAME:CET
DTSTART:20031026T010000
END:STANDARD
BEGIN:DAYLIGHT
TZOFFSETFROM:+0100
TZOFFSETTO:+0200
TZNAME:CEST
DTSTART:20040328T010000
END:DAYLIGHT
BEGIN:STANDARD
TZOFFSETFROM:+0200
TZOFFSETTO:+0100
TZNAME:CET
DTSTART:20041031T010000
END:STANDARD
BEGIN:DAYLIGHT
TZOFFSETFROM:+0100
TZOFFSETTO:+0200
TZNAME:CEST
DTSTART:20050327T010000
END:DAYLIGHT
BEGIN:STANDARD
TZOFFSETFROM:+0200
TZOFFSETTO:+0100
TZNAME:CET
DTSTART:20051030T010000
END:STANDARD
BEGIN:DAYLIGHT
TZOFFSETFROM:+0100
TZOFFSETTO:+0200
TZNAME:CEST
DTSTART:20060326T010000
END:DAYLIGHT
BEGIN:STANDARD
TZOFFSETFROM:+0200
TZOFFSETTO:+0100
TZNAME:CET
DTSTART:20061029T010000
END:STANDARD
BEGIN:DAYLIGHT
TZOFFSETFROM:+0100
TZOFFSETTO:+0200
TZNAME:CEST
DTSTART:20070325T010000
END:DAYLIGHT
BEGIN:STANDARD
TZOFFSETFROM:+0200
TZOFFSETTO:+0100
TZNAME:CET
DTSTART:20071028T010000
END:STANDARD
BEGIN:DAYLIGHT
TZOFFSETFROM:+0100
TZOFFSETTO:+0200
TZNAME:CEST
DTSTART:20080330T010000
END:DAYLIGHT
BEGIN:STANDARD
TZOFFSETFROM:+0200
TZOFFSETTO:+0100
TZNAME:CET
DTSTART:20081026T010000
END:STANDARD
BEGIN:DAYLIGHT
TZOFFSETFROM:+0100
TZOFFSETTO:+0200
TZNAME:CEST
DTSTART:20090329T010000
END:DAYLIGHT
BEGIN:STANDARD
TZOFFSETFROM:+0200
TZOFFSETTO:+0100
TZNAME:CET
DTSTART:20091025T010000
END:STANDARD
BEGIN:DAYLIGHT
TZOFFSETFROM:+0100
TZOFFSETTO:+0200
TZNAME:CEST
DTSTART:20100328T010000
END:DAYLIGHT
BEGIN:STANDARD
TZOFFSETFROM:+0200
TZOFFSETTO:+0100
TZNAME:CET
DTSTART:20101031T010000
END:STANDARD
BEGIN:DAYLIGHT
TZOFFSETFROM:+0100
TZOFFSETTO:+0200
TZNAME:CEST
DTSTART:20110327T010000
END:DAYLIGHT
BEGIN:STANDARD
TZOFFSETFROM:+0200
TZOFFSETTO:+0100
TZNAME:CET
DTSTART:20111030T010000
END:STANDARD
BEGIN:DAYLIGHT
TZOFFSETFROM:+0100
TZOFFSETTO:+0200
TZNAME:CEST
DTSTART:20120325T010000
END:DAYLIGHT
BEGIN:STANDARD
TZOFFSETFROM:+0200
TZOFFSETTO:+0100
TZNAME:CET
DTSTART:20121028T010000
END:STANDARD
BEGIN:DAYLIGHT
TZOFFSETFROM:+0100
TZOFFSETTO:+0200
TZNAME:CEST
DTSTART:20130331T010000
END:DAYLIGHT
BEGIN:STANDARD
TZOFFSETFROM:+0200
TZOFFSETTO:+0100
TZNAME:CET
DTSTART:20131027T010000
END:STANDARD
BEGIN:DAYLIGHT
TZOFFSETFROM:+0100
TZOFFSETTO:+0200
TZNAME:CEST
DTSTART:20140330T010000
END:DAYLIGHT
BEGIN:STANDARD
TZOFFSETFROM:+0200
TZOFFSETTO:+0100
TZNAME:CET
DTSTART:20141026T010000
END:STANDARD
BEGIN:DAYLIGHT
TZOFFSETFROM:+0100
TZOFFSETTO:+0200
TZNAME:CEST
DTSTART:20150329T010000
END:DAYLIGHT
BEGIN:STANDARD
TZOFFSETFROM:+0200
TZOFFSETTO:+0100
TZNAME:CET
DTSTART:20151025T010000
END:STANDARD
BEGIN:DAYLIGHT
TZOFFSETFROM:+0100
TZOFFSETTO:+0200
TZNAME:CEST
DTSTART:20160327T010000
END:DAYLIGHT
BEGIN:STANDARD
TZOFFSETFROM:+0200
TZOFFSETTO:+0100
TZNAME:CET
DTSTART:20161030T010000
END:STANDARD
BEGIN:DAYLIGHT
TZOFFSETFROM:+0100
TZOFFSETTO:+0200
TZNAME:CEST
DTSTART:20170326T010000
END:DAYLIGHT
BEGIN:STANDARD
TZOFFSETFROM:+0200
TZOFFSETTO:+0100
TZNAME:CET
DTSTART:20171029T010000
END:STANDARD
BEGIN:DAYLIGHT
TZOFFSETFROM:+0100
TZOFFSETTO:+0200
TZNAME:CEST
DTSTART:20180325T010000
END:DAYLIGHT
BEGIN:STANDARD
TZOFFSETFROM:+0200
TZOFFSETTO:+0100
TZNAME:CET
DTSTART:20181028T010000
END:STANDARD
BEGIN:DAYLIGHT
TZOFFSETFROM:+0100
TZOFFSETTO:+0200
TZNAME:CEST
DTSTART:20190331T010000
END:DAYLIGHT
BEGIN:STANDARD
TZOFFSETFROM:+0200
TZOFFSETTO:+0100
TZNAME:CET
DTSTART:20191027T010000
END:STANDARD
BEGIN:DAYLIGHT
TZOFFSETFROM:+0100
TZOFFSETTO:+0200
TZNAME:CEST
DTSTART:20200329T010000
END:DAYLIGHT
BEGIN:STANDARD
TZOFFSETFROM:+0200
TZOFFSETTO:+0100
TZNAME:CET
DTSTART:20201025T010000
END:STANDARD
BEGIN:DAYLIGHT
TZOFFSETFROM:+0100
TZOFFSETTO:+0200
TZNAME:CEST
DTSTART:20210328T010000
END:DAYLIGHT
BEGIN:STANDARD
TZOFFSETFROM:+0200
TZOFFSETTO:+0100
TZNAME:CET
DTSTART:20211031T010000
END:STANDARD
BEGIN:DAYLIGHT
TZOFFSETFROM:+0100
TZOFFSETTO:+0200
TZNAME:CEST
DTSTART:20220327T010000
END:DAYLIGHT
BEGIN:STANDARD
TZOFFSETFROM:+0200
TZOFFSETTO:+0100
TZNAME:CET
DTSTART:20221030T010000
END:STANDARD
BEGIN:DAYLIGHT
TZOFFSETFROM:+0100
TZOFFSETTO:+0200
TZNAME:CEST
DTSTART:20230326T010000
END:DAYLIGHT
BEGIN:STANDARD
TZOFFSETFROM:+0200
TZOFFSETTO:+0100
TZNAME:CET
DTSTART:20231029T010000
END:STANDARD
BEGIN:DAYLIGHT
TZOFFSETFROM:+0100
TZOFFSETTO:+0200
TZNAME:CEST
DTSTART:20240331T010000
END:DAYLIGHT
BEGIN:STANDARD
TZOFFSETFROM:+0200
TZOFFSETTO:+0100
TZNAME:CET
DTSTART:20241027T010000
END:STANDARD
BEGIN:DAYLIGHT
TZOFFSETFROM:+0100
TZOFFSETTO:+0200
TZNAME:CEST
DTSTART:20250330T010000
END:DAYLIGHT
BEGIN:STANDARD
TZOFFSETFROM:+0200
TZOFFSETTO:+0100
TZNAME:CET
DTSTART:20251026T010000
END:STANDARD
BEGIN:DAYLIGHT
TZOFFSETFROM:+0100
TZOFFSETTO:+0200
TZNAME:CEST
DTSTART:20260329T010000
END:DAYLIGHT
BEGIN:STANDARD
TZOFFSETFROM:+0200
TZOFFSETTO:+0100
TZNAME:CET
DTSTART:20261025T010000
END:STANDARD
END:VTIMEZONE
BEGIN:VEVENT
DTSTART;TZID=Europe/Paris:20260426T003820
DTEND;TZID=Europe/Paris:20250518T000000
DTSTAMP:20260426T003820
CREATED:20250429T121405Z
LAST-MODIFIED:20250429T121409Z
UID:32160-0-1747526400@www.ville-saint-saulve.fr
SUMMARY:Spectacle Harmonia Sacra
DESCRIPTION:
URL:https://www.ville-saint-saulve.fr/event/spectacle-harmonia-sacra-2/
LOCATION:Espace Athena\, 2 Pl. du 8 Mai 1945\, Saint-Saulve\, 59880\, France
END:VEVENT
BEGIN:VEVENT
DTSTART;TZID=Europe/Paris:20231202T090000
DTEND;TZID=Europe/Paris:20231202T180000
DTSTAMP:20260426T003820
CREATED:20231120T083539Z
LAST-MODIFIED:20231120T083545Z
UID:25503-1701507600-1701540000@www.ville-saint-saulve.fr
SUMMARY:Brocante en salle
DESCRIPTION:L’amicale du Rôleur organise sa traditionnelle brocante le samedi 2 décembre de 9h à 18h à la salle des fêtes.\n\n\n\nBuvette et petite restauration sur place\n\n\n\nRenseignements & réservations :\nVirginie Hochart – vhochart9@gmail.com\n6€ la table de 1m80\nVente alimentaire interdite
URL:https://www.ville-saint-saulve.fr/event/brocante-en-salle/
LOCATION:Salle des Fêtes\, 8 place Louis Maillard\, Saint-Saulve\, Hauts-de-France\, 59880\, France
ATTACH;FMTTYPE=image/jpeg:https://www.ville-saint-saulve.fr/wp-content/uploads/Affiche-brocante-decembre-2.jpg
ORGANIZER;CN="Amicale du R%C3%B4leur":MAILTO:vhochart9@gmail.com
END:VEVENT
BEGIN:VEVENT
DTSTART;TZID=Europe/Paris:20231202T100000
DTEND;TZID=Europe/Paris:20231202T150000
DTSTAMP:20260426T003820
CREATED:20231129T112318Z
LAST-MODIFIED:20231129T112518Z
UID:25636-1701511200-1701529200@www.ville-saint-saulve.fr
SUMMARY:Brocante de la bibliothèque pour tous
DESCRIPTION:
URL:https://www.ville-saint-saulve.fr/event/brocante-de-la-bibliotheque-pour-tous/
LOCATION:Espace Athena\, 2 Pl. du 8 Mai 1945\, Saint-Saulve\, 59880\, France
ATTACH;FMTTYPE=image/jpeg:https://www.ville-saint-saulve.fr/wp-content/uploads/2_20231129_120751_0001.jpg
END:VEVENT
BEGIN:VEVENT
DTSTART;TZID=Europe/Paris:20231202T100000
DTEND;TZID=Europe/Paris:20231202T170000
DTSTAMP:20260426T003820
CREATED:20231130T131629Z
LAST-MODIFIED:20231130T131636Z
UID:25646-1701511200-1701536400@www.ville-saint-saulve.fr
SUMMARY:Marché de Noël de la fondation Serbat
DESCRIPTION:
URL:https://www.ville-saint-saulve.fr/event/marche-de-noel-de-la-fondation-serbat/
LOCATION:Fondation Serbat\, 2 rue Charles Giraud\, Saint-Saulve\, 59880\, France
ATTACH;FMTTYPE=image/png:https://www.ville-saint-saulve.fr/wp-content/uploads/20231014_115143_0000.png
END:VEVENT
BEGIN:VEVENT
DTSTART;TZID=Europe/Paris:20231203T140000
DTEND;TZID=Europe/Paris:20231203T140000
DTSTAMP:20260426T003820
CREATED:20231120T083758Z
LAST-MODIFIED:20231120T083803Z
UID:25508-1701612000-1701612000@www.ville-saint-saulve.fr
SUMMARY:Super loto
DESCRIPTION:Gros week-end pour l’Amicale du Rôleur\, après la brocante en salle\, elle organise son super loto le dimanche 3 décembre à la salle des fêtes.\nRendez-vous à partir de 14h\, ouverture des portes à 11h.\nPlus de 5200€ en bons d’achat !\n\nBuvette et petite restauration sur place\n\n\n\nRéservations : 06 98 88 50 29
URL:https://www.ville-saint-saulve.fr/event/super-loto/
LOCATION:Salle des Fêtes\, 8 place Louis Maillard\, Saint-Saulve\, Hauts-de-France\, 59880\, France
ATTACH;FMTTYPE=image/jpeg:https://www.ville-saint-saulve.fr/wp-content/uploads/Taille-originale-LoTO-de-lamicale-du-roleur-21-×-29.7-cm-1-1-scaled.jpg
ORGANIZER;CN="Amicale du R%C3%B4leur":MAILTO:vhochart9@gmail.com
END:VEVENT
BEGIN:VEVENT
DTSTART;TZID=Europe/Paris:20231205T130000
DTEND;TZID=Europe/Paris:20231205T193000
DTSTAMP:20260426T003820
CREATED:20231114T114028Z
LAST-MODIFIED:20231114T114346Z
UID:25427-1701781200-1701804600@www.ville-saint-saulve.fr
SUMMARY:Activité Seniors - Sortie marché de Noël d'Arras
DESCRIPTION:Sortie au marché de Noël d’Arras\n\nLe service seniors avec le soutien de la Maison de quartier\, organise une sortie au Marché de Noël d’Arras\, réservée aux retraités\, le mardi 5 décembre 2023. Ne manquez pas cette occasion de parcourir les allées de l’un des plus beaux marchés de Noël de France !\n\n\nDépart : 13h au parking du Centre Fortier\, rue Henri Barbusse.\nRetour : 19h30\nTarif : 12.10 euros/personne (à régler par chèque à l’inscription\, à l’ordre de la Maison de quartier Saint-Saulve).\nTransport : autocars Finand\n\n\nRetrouvez le calendrier des animations seniors 2023 en cliquant ici ! \nActivité réservée aux Saint-Saulviens retraités\nInscriptions dans la limite des places disponibles et renseignements auprès du service Seniors du pôle accompagner au 03 27 45 65 79 ou par mail à seniors@ville-saint-saulve.fr
URL:https://www.ville-saint-saulve.fr/event/activite-seniors-sortie-marche-de-noel-darras/
END:VEVENT
BEGIN:VEVENT
DTSTART;TZID=Europe/Paris:20231207T140000
DTEND;TZID=Europe/Paris:20231207T160000
DTSTAMP:20260426T003820
CREATED:20231017T071351Z
LAST-MODIFIED:20231114T113609Z
UID:24631-1701957600-1701964800@www.ville-saint-saulve.fr
SUMMARY:Activité Seniors - Atelier Fortier
DESCRIPTION:L’atelier Fortier\nAnimation musicale \nRetrouvez le calendrier des animations seniors 2023 en cliquant ici ! \nActivité réservée aux Saint-Saulviens\nInscriptions dans la limite des places disponibles et renseignements auprès du service Seniors du pôle accompagner au 03 27 45 65 79 ou par mail à seniors@ville-saint-saulve.fr
URL:https://www.ville-saint-saulve.fr/event/activite-seniors-atelier-fortier-8/
LOCATION:Centre de loisirs Fortier\, 44 Rue Henri Barbusse\, Saint-Saulve\, 59880\, France
END:VEVENT
BEGIN:VEVENT
DTSTART;TZID=Europe/Paris:20231208T200000
DTEND;TZID=Europe/Paris:20231208T213000
DTSTAMP:20260426T003820
CREATED:20231023T071524Z
LAST-MODIFIED:20231128T125500Z
UID:24768-1702065600-1702071000@www.ville-saint-saulve.fr
SUMMARY:Les Féeries de Saint-Saulve
DESCRIPTION:Concert d’ouverture avec l’Harmonie municipale et chorale avec les écoles de Saint-Saulve \nTélécharger le programme complet
URL:https://www.ville-saint-saulve.fr/event/les-feeries-de-saint-saulve-3/
LOCATION:Salle des Fêtes\, 8 place Louis Maillard\, Saint-Saulve\, Hauts-de-France\, 59880\, France
ATTACH;FMTTYPE=image/jpeg:https://www.ville-saint-saulve.fr/wp-content/uploads/affiche_feeries_2023-scaled.jpg
END:VEVENT
BEGIN:VEVENT
DTSTART;TZID=Europe/Paris:20231209T160000
DTEND;TZID=Europe/Paris:20231209T200000
DTSTAMP:20260426T003820
CREATED:20231023T071619Z
LAST-MODIFIED:20231128T125653Z
UID:24770-1702137600-1702152000@www.ville-saint-saulve.fr
SUMMARY:Les Féeries de Saint-Saulve
DESCRIPTION:Parc Fortier\nVillage de Noël : 16h – 20h \nAnimations :  \n\n16 h - 19 h 30 : Manège\n16 h - 19 h 30 : Maquillage et activités manuelles\n16 h - 19 h 30 : Application Loomie\, scanne le QR code qui se trouve sur le totem pour télécharger l’application de réalité augmentée et profite d’une palette de jeux 3D interactifs au coeur du site.\n16 h - 19 h 30 : Balade en calèche autour de l’étang\n16 h - 19 h 30 : Spectacle de sculpture sur glace\n16 h - 16 h 30 : Quintet musical en déambulation\n16 h 30 - 17 h 15 : Jeune orchestre\n17 h 30 - 18 h : Quintet musical en déambulation\n18 h 15 - 19 h 15 : Apéro musical avec Eric et Thaïs\n19 h 30 - 20 h : Spectacle danses enflammées de la Compagnie des Cendres\n\nTélécharger le programme complet
URL:https://www.ville-saint-saulve.fr/event/les-feeries-de-saint-saulve-4/
LOCATION:Parc Fortier\, 44 Rue Henri Barbusse\, Saint-Saulve\, Hauts-de-France\, 59880\, France
ATTACH;FMTTYPE=image/jpeg:https://www.ville-saint-saulve.fr/wp-content/uploads/affiche_feeries_2023-scaled.jpg
END:VEVENT
BEGIN:VEVENT
DTSTART;TZID=Europe/Paris:20231210T093000
DTEND;TZID=Europe/Paris:20231210T130000
DTSTAMP:20260426T003820
CREATED:20231204T090218Z
LAST-MODIFIED:20231204T090218Z
UID:25670-1702200600-1702213200@www.ville-saint-saulve.fr
SUMMARY:Le Petit Marché du terroir
DESCRIPTION:Le Petit Marché du terroir
URL:https://www.ville-saint-saulve.fr/event/le-petit-marche-du-terroir-5/
LOCATION:Mairie\, 146 Rue Jean jaures\, St-Saulve\, Haut-de-France\, 59880\, France
ATTACH;FMTTYPE=image/jpeg:https://www.ville-saint-saulve.fr/wp-content/uploads/affiche_petit_marche_terroir_A3_noel_web-scaled.jpg
END:VEVENT
BEGIN:VEVENT
DTSTART;TZID=Europe/Paris:20231210T150000
DTEND;TZID=Europe/Paris:20231210T190000
DTSTAMP:20260426T003820
CREATED:20231023T071711Z
LAST-MODIFIED:20231128T125335Z
UID:24772-1702220400-1702234800@www.ville-saint-saulve.fr
SUMMARY:Les Féeries de Saint-Saulve
DESCRIPTION:Parking du centre Fortier\nThéâtre de marionnettes (60 places disponibles) à 15h \nParc Fortier\nVillage de Noël : 16h – 19h \nAnimations :  \n\n16 h - 19 h : Manège\n16 h - 18 h 30 : Maquillage et activités manuelles\,\n16 h - 19 h 30 : Application Loomie\n16 h - 19 h : Sculpture de ballons   \n16 h - 18 h 30 : Balade en calèche\n16 h - 16 h 30 : Déambulation batucada de Noël\n16 h 30 - 17 h : Animation musicale\n17 h - 17 h 30 : Déambulation batucada de Noël\n17 h 45 - 18 h : Remise des prix concours pull moche en famille\n18 h - 18 h 30 :  Animation musicale\n18 h 30 - 18 h 55 : Spectacle Dharma de la compagnie Cercle de feu\n\nTélécharger le programme complet
URL:https://www.ville-saint-saulve.fr/event/les-feeries-de-saint-saulve-5/
LOCATION:Parc Fortier\, 44 Rue Henri Barbusse\, Saint-Saulve\, Hauts-de-France\, 59880\, France
ATTACH;FMTTYPE=image/jpeg:https://www.ville-saint-saulve.fr/wp-content/uploads/affiche_feeries_2023-scaled.jpg
END:VEVENT
BEGIN:VEVENT
DTSTART;TZID=Europe/Paris:20231211T091500
DTEND;TZID=Europe/Paris:20231211T091500
DTSTAMP:20260426T003820
CREATED:20231017T073912Z
LAST-MODIFIED:20231017T073918Z
UID:24640-1702286100-1702286100@www.ville-saint-saulve.fr
SUMMARY:Ensemble parta'jouons
DESCRIPTION:REPRISE DES ACTIVITÉS INTERGÉNÉRATIONNELLES\nMoments de partage entre enfants et seniors\nLa maison de la petite enfance et le service seniors de la Ville s’associent pour proposer aux seniors des activités au sein de l’espace Cécile Gallez afin de créer du lien et de leur faire partager des moments de joie\, de rire et de convivialité. \nParticipez à un atelier sensoriel autour de Noël avec la crèche familiale.\nRéalisation d’une boule de Noël. \nUne limite est fixée à 3 seniors par activité\, si vous êtes intéressés\, inscrivez-vous auprès du service seniors au 03 27 45 65 79 ou par mail à l’adresse seniors@ville-saint-saulve.fr \nRetrouvez le programme pour la fin de l’année
URL:https://www.ville-saint-saulve.fr/event/ensemble-partajouons-3/
LOCATION:Espace Cécile Gallez\, 4 Av. Robert Schuman\, Saint-Saulve\, 59880\, France
ATTACH;FMTTYPE=image/jpeg:https://www.ville-saint-saulve.fr/wp-content/uploads/affiche_activites_intergenerationnelles.jpg
END:VEVENT
BEGIN:VEVENT
DTSTART;TZID=Europe/Paris:20231217T140000
DTEND;TZID=Europe/Paris:20231217T180000
DTSTAMP:20260426T003820
CREATED:20231023T071946Z
LAST-MODIFIED:20231129T094401Z
UID:24774-1702821600-1702836000@www.ville-saint-saulve.fr
SUMMARY:Noël du PIC
DESCRIPTION:Télécharger le programme complet
URL:https://www.ville-saint-saulve.fr/event/noel-du-pic/
LOCATION:Salle des Fêtes\, 8 place Louis Maillard\, Saint-Saulve\, Hauts-de-France\, 59880\, France
ATTACH;FMTTYPE=image/jpeg:https://www.ville-saint-saulve.fr/wp-content/uploads/aff_fete_noel_2023_web-scaled.jpg
END:VEVENT
BEGIN:VEVENT
DTSTART;TZID=Europe/Paris:20231217T180000
DTEND;TZID=Europe/Paris:20231217T180000
DTSTAMP:20260426T003820
CREATED:20231204T090508Z
LAST-MODIFIED:20231204T090513Z
UID:25674-1702836000-1702836000@www.ville-saint-saulve.fr
SUMMARY:Concert Gospel Christmas
DESCRIPTION:Les talentueux Gospel United vous donnent rendez-vous à l’église Saint-Martin\, dimanche 17 décembre\, pour fredonner et bouger sur les plus grands tubes du répertoire Gospel et les incontournables de Noël.\n\n\nSoyez au rendez-vous de ce concert GRATUIT\, qui vous garantira un moment de joie à partager en famille et entre amis\, teinté de magie\, à quelques jours des fêtes de fin d’années. Avec leurs voix puissantes et leur immuable bonne humeur\, les Gospel United vous feront passer\, à coup sûr\, un excellent moment !\n\n\n\nVenez nombreux !
URL:https://www.ville-saint-saulve.fr/event/concert-gospel-christmas/
LOCATION:Église Saint-Martin\, Pl. Francisco Ferrer\, Saint-Saulve\, 59880\, France
ATTACH;FMTTYPE=image/jpeg:https://www.ville-saint-saulve.fr/wp-content/uploads/affiche_concert_gospel.jpg
END:VEVENT
BEGIN:VEVENT
DTSTART;TZID=Europe/Paris:20231221T183000
DTEND;TZID=Europe/Paris:20231221T200000
DTSTAMP:20260426T003820
CREATED:20231214T085707Z
LAST-MODIFIED:20231214T085707Z
UID:25727-1703183400-1703188800@www.ville-saint-saulve.fr
SUMMARY:Cours de zumba douce avec Maureen
DESCRIPTION:
URL:https://www.ville-saint-saulve.fr/event/cours-de-zumba-douce-avec-maureen/
LOCATION:Salle des sports Coubertin\, 33 Rue Roger Salengro\, Saint-Saulve\, 59880\, France
ATTACH;FMTTYPE=image/jpeg:https://www.ville-saint-saulve.fr/wp-content/uploads/affiche_zumba_douce_essai-scaled.jpg
END:VEVENT
BEGIN:VEVENT
DTSTART;TZID=Europe/Paris:20231221T190000
DTEND;TZID=Europe/Paris:20231221T190000
DTSTAMP:20260426T003820
CREATED:20231215T154917Z
LAST-MODIFIED:20231215T155003Z
UID:25840-1703185200-1703185200@www.ville-saint-saulve.fr
SUMMARY:Réunion du conseil municipal
DESCRIPTION:Le conseil municipal se réunira le jeudi 21 décembre à 19h à l’hôtel de ville. \nConsultez l’ordre du jour
URL:https://www.ville-saint-saulve.fr/event/reunion-du-conseil-municipal-10/
LOCATION:Mairie\, 146 Rue Jean jaures\, St-Saulve\, Haut-de-France\, 59880\, France
ATTACH;FMTTYPE=image/jpeg:https://www.ville-saint-saulve.fr/wp-content/uploads/2022/11/316417265_541470508017172_8437615211820158479_n.jpeg
END:VEVENT
BEGIN:VEVENT
DTSTART;TZID=Europe/Paris:20231222T180000
DTEND;TZID=Europe/Paris:20231222T213000
DTSTAMP:20260426T003820
CREATED:20231215T104654Z
LAST-MODIFIED:20231215T104659Z
UID:25805-1703268000-1703280600@www.ville-saint-saulve.fr
SUMMARY:Pool Party
DESCRIPTION:L’équipe de la piscine municipale vous invite à une nouvelle pool party mais cette fois-ci sur le thème de Noël. \nEntrée gratuite – Ouvert à tous
URL:https://www.ville-saint-saulve.fr/event/pool-party/
LOCATION:Piscine municipale\, 2 Av. Robert Schuman\, Saint-Saulve\, 59880\, France
ATTACH;FMTTYPE=image/jpeg:https://www.ville-saint-saulve.fr/wp-content/uploads/pool_party_noel.jpeg
END:VEVENT
END:VCALENDAR