BEGIN:VCALENDAR
VERSION:2.0
PRODID:-//Ville de Saint Saulve - ECPv6.15.20//NONSGML v1.0//EN
CALSCALE:GREGORIAN
METHOD:PUBLISH
X-ORIGINAL-URL:https://www.ville-saint-saulve.fr
X-WR-CALDESC:Évènements pour Ville de Saint Saulve
REFRESH-INTERVAL;VALUE=DURATION:PT1H
X-Robots-Tag:noindex
X-PUBLISHED-TTL:PT1H
BEGIN:VTIMEZONE
TZID:Europe/Paris
BEGIN:DAYLIGHT
TZOFFSETFROM:+0100
TZOFFSETTO:+0200
TZNAME:CEST
DTSTART:19760328T000000
END:DAYLIGHT
BEGIN:STANDARD
TZOFFSETFROM:+0200
TZOFFSETTO:+0100
TZNAME:CET
DTSTART:19760925T230000
END:STANDARD
BEGIN:DAYLIGHT
TZOFFSETFROM:+0100
TZOFFSETTO:+0200
TZNAME:CEST
DTSTART:19770403T010000
END:DAYLIGHT
BEGIN:STANDARD
TZOFFSETFROM:+0200
TZOFFSETTO:+0100
TZNAME:CET
DTSTART:19770925T010000
END:STANDARD
BEGIN:DAYLIGHT
TZOFFSETFROM:+0100
TZOFFSETTO:+0200
TZNAME:CEST
DTSTART:19780402T010000
END:DAYLIGHT
BEGIN:STANDARD
TZOFFSETFROM:+0200
TZOFFSETTO:+0100
TZNAME:CET
DTSTART:19781001T010000
END:STANDARD
BEGIN:DAYLIGHT
TZOFFSETFROM:+0100
TZOFFSETTO:+0200
TZNAME:CEST
DTSTART:19790401T010000
END:DAYLIGHT
BEGIN:STANDARD
TZOFFSETFROM:+0200
TZOFFSETTO:+0100
TZNAME:CET
DTSTART:19790930T010000
END:STANDARD
BEGIN:DAYLIGHT
TZOFFSETFROM:+0100
TZOFFSETTO:+0200
TZNAME:CEST
DTSTART:19800406T010000
END:DAYLIGHT
BEGIN:STANDARD
TZOFFSETFROM:+0200
TZOFFSETTO:+0100
TZNAME:CET
DTSTART:19800928T010000
END:STANDARD
BEGIN:DAYLIGHT
TZOFFSETFROM:+0100
TZOFFSETTO:+0200
TZNAME:CEST
DTSTART:19810329T010000
END:DAYLIGHT
BEGIN:STANDARD
TZOFFSETFROM:+0200
TZOFFSETTO:+0100
TZNAME:CET
DTSTART:19810927T010000
END:STANDARD
BEGIN:DAYLIGHT
TZOFFSETFROM:+0100
TZOFFSETTO:+0200
TZNAME:CEST
DTSTART:19820328T010000
END:DAYLIGHT
BEGIN:STANDARD
TZOFFSETFROM:+0200
TZOFFSETTO:+0100
TZNAME:CET
DTSTART:19820926T010000
END:STANDARD
BEGIN:DAYLIGHT
TZOFFSETFROM:+0100
TZOFFSETTO:+0200
TZNAME:CEST
DTSTART:19830327T010000
END:DAYLIGHT
BEGIN:STANDARD
TZOFFSETFROM:+0200
TZOFFSETTO:+0100
TZNAME:CET
DTSTART:19830925T010000
END:STANDARD
BEGIN:DAYLIGHT
TZOFFSETFROM:+0100
TZOFFSETTO:+0200
TZNAME:CEST
DTSTART:19840325T010000
END:DAYLIGHT
BEGIN:STANDARD
TZOFFSETFROM:+0200
TZOFFSETTO:+0100
TZNAME:CET
DTSTART:19840930T010000
END:STANDARD
BEGIN:DAYLIGHT
TZOFFSETFROM:+0100
TZOFFSETTO:+0200
TZNAME:CEST
DTSTART:19850331T010000
END:DAYLIGHT
BEGIN:STANDARD
TZOFFSETFROM:+0200
TZOFFSETTO:+0100
TZNAME:CET
DTSTART:19850929T010000
END:STANDARD
BEGIN:DAYLIGHT
TZOFFSETFROM:+0100
TZOFFSETTO:+0200
TZNAME:CEST
DTSTART:19860330T010000
END:DAYLIGHT
BEGIN:STANDARD
TZOFFSETFROM:+0200
TZOFFSETTO:+0100
TZNAME:CET
DTSTART:19860928T010000
END:STANDARD
BEGIN:DAYLIGHT
TZOFFSETFROM:+0100
TZOFFSETTO:+0200
TZNAME:CEST
DTSTART:19870329T010000
END:DAYLIGHT
BEGIN:STANDARD
TZOFFSETFROM:+0200
TZOFFSETTO:+0100
TZNAME:CET
DTSTART:19870927T010000
END:STANDARD
BEGIN:DAYLIGHT
TZOFFSETFROM:+0100
TZOFFSETTO:+0200
TZNAME:CEST
DTSTART:19880327T010000
END:DAYLIGHT
BEGIN:STANDARD
TZOFFSETFROM:+0200
TZOFFSETTO:+0100
TZNAME:CET
DTSTART:19880925T010000
END:STANDARD
BEGIN:DAYLIGHT
TZOFFSETFROM:+0100
TZOFFSETTO:+0200
TZNAME:CEST
DTSTART:19890326T010000
END:DAYLIGHT
BEGIN:STANDARD
TZOFFSETFROM:+0200
TZOFFSETTO:+0100
TZNAME:CET
DTSTART:19890924T010000
END:STANDARD
BEGIN:DAYLIGHT
TZOFFSETFROM:+0100
TZOFFSETTO:+0200
TZNAME:CEST
DTSTART:19900325T010000
END:DAYLIGHT
BEGIN:STANDARD
TZOFFSETFROM:+0200
TZOFFSETTO:+0100
TZNAME:CET
DTSTART:19900930T010000
END:STANDARD
BEGIN:DAYLIGHT
TZOFFSETFROM:+0100
TZOFFSETTO:+0200
TZNAME:CEST
DTSTART:19910331T010000
END:DAYLIGHT
BEGIN:STANDARD
TZOFFSETFROM:+0200
TZOFFSETTO:+0100
TZNAME:CET
DTSTART:19910929T010000
END:STANDARD
BEGIN:DAYLIGHT
TZOFFSETFROM:+0100
TZOFFSETTO:+0200
TZNAME:CEST
DTSTART:19920329T010000
END:DAYLIGHT
BEGIN:STANDARD
TZOFFSETFROM:+0200
TZOFFSETTO:+0100
TZNAME:CET
DTSTART:19920927T010000
END:STANDARD
BEGIN:DAYLIGHT
TZOFFSETFROM:+0100
TZOFFSETTO:+0200
TZNAME:CEST
DTSTART:19930328T010000
END:DAYLIGHT
BEGIN:STANDARD
TZOFFSETFROM:+0200
TZOFFSETTO:+0100
TZNAME:CET
DTSTART:19930926T010000
END:STANDARD
BEGIN:DAYLIGHT
TZOFFSETFROM:+0100
TZOFFSETTO:+0200
TZNAME:CEST
DTSTART:19940327T010000
END:DAYLIGHT
BEGIN:STANDARD
TZOFFSETFROM:+0200
TZOFFSETTO:+0100
TZNAME:CET
DTSTART:19940925T010000
END:STANDARD
BEGIN:DAYLIGHT
TZOFFSETFROM:+0100
TZOFFSETTO:+0200
TZNAME:CEST
DTSTART:19950326T010000
END:DAYLIGHT
BEGIN:STANDARD
TZOFFSETFROM:+0200
TZOFFSETTO:+0100
TZNAME:CET
DTSTART:19950924T010000
END:STANDARD
BEGIN:DAYLIGHT
TZOFFSETFROM:+0100
TZOFFSETTO:+0200
TZNAME:CEST
DTSTART:19960331T010000
END:DAYLIGHT
BEGIN:STANDARD
TZOFFSETFROM:+0200
TZOFFSETTO:+0100
TZNAME:CET
DTSTART:19961027T010000
END:STANDARD
BEGIN:DAYLIGHT
TZOFFSETFROM:+0100
TZOFFSETTO:+0200
TZNAME:CEST
DTSTART:19970330T010000
END:DAYLIGHT
BEGIN:STANDARD
TZOFFSETFROM:+0200
TZOFFSETTO:+0100
TZNAME:CET
DTSTART:19971026T010000
END:STANDARD
BEGIN:DAYLIGHT
TZOFFSETFROM:+0100
TZOFFSETTO:+0200
TZNAME:CEST
DTSTART:19980329T010000
END:DAYLIGHT
BEGIN:STANDARD
TZOFFSETFROM:+0200
TZOFFSETTO:+0100
TZNAME:CET
DTSTART:19981025T010000
END:STANDARD
BEGIN:DAYLIGHT
TZOFFSETFROM:+0100
TZOFFSETTO:+0200
TZNAME:CEST
DTSTART:19990328T010000
END:DAYLIGHT
BEGIN:STANDARD
TZOFFSETFROM:+0200
TZOFFSETTO:+0100
TZNAME:CET
DTSTART:19991031T010000
END:STANDARD
BEGIN:DAYLIGHT
TZOFFSETFROM:+0100
TZOFFSETTO:+0200
TZNAME:CEST
DTSTART:20000326T010000
END:DAYLIGHT
BEGIN:STANDARD
TZOFFSETFROM:+0200
TZOFFSETTO:+0100
TZNAME:CET
DTSTART:20001029T010000
END:STANDARD
BEGIN:DAYLIGHT
TZOFFSETFROM:+0100
TZOFFSETTO:+0200
TZNAME:CEST
DTSTART:20010325T010000
END:DAYLIGHT
BEGIN:STANDARD
TZOFFSETFROM:+0200
TZOFFSETTO:+0100
TZNAME:CET
DTSTART:20011028T010000
END:STANDARD
BEGIN:DAYLIGHT
TZOFFSETFROM:+0100
TZOFFSETTO:+0200
TZNAME:CEST
DTSTART:20020331T010000
END:DAYLIGHT
BEGIN:STANDARD
TZOFFSETFROM:+0200
TZOFFSETTO:+0100
TZNAME:CET
DTSTART:20021027T010000
END:STANDARD
BEGIN:DAYLIGHT
TZOFFSETFROM:+0100
TZOFFSETTO:+0200
TZNAME:CEST
DTSTART:20030330T010000
END:DAYLIGHT
BEGIN:STANDARD
TZOFFSETFROM:+0200
TZOFFSETTO:+0100
TZNAME:CET
DTSTART:20031026T010000
END:STANDARD
BEGIN:DAYLIGHT
TZOFFSETFROM:+0100
TZOFFSETTO:+0200
TZNAME:CEST
DTSTART:20040328T010000
END:DAYLIGHT
BEGIN:STANDARD
TZOFFSETFROM:+0200
TZOFFSETTO:+0100
TZNAME:CET
DTSTART:20041031T010000
END:STANDARD
BEGIN:DAYLIGHT
TZOFFSETFROM:+0100
TZOFFSETTO:+0200
TZNAME:CEST
DTSTART:20050327T010000
END:DAYLIGHT
BEGIN:STANDARD
TZOFFSETFROM:+0200
TZOFFSETTO:+0100
TZNAME:CET
DTSTART:20051030T010000
END:STANDARD
BEGIN:DAYLIGHT
TZOFFSETFROM:+0100
TZOFFSETTO:+0200
TZNAME:CEST
DTSTART:20060326T010000
END:DAYLIGHT
BEGIN:STANDARD
TZOFFSETFROM:+0200
TZOFFSETTO:+0100
TZNAME:CET
DTSTART:20061029T010000
END:STANDARD
BEGIN:DAYLIGHT
TZOFFSETFROM:+0100
TZOFFSETTO:+0200
TZNAME:CEST
DTSTART:20070325T010000
END:DAYLIGHT
BEGIN:STANDARD
TZOFFSETFROM:+0200
TZOFFSETTO:+0100
TZNAME:CET
DTSTART:20071028T010000
END:STANDARD
BEGIN:DAYLIGHT
TZOFFSETFROM:+0100
TZOFFSETTO:+0200
TZNAME:CEST
DTSTART:20080330T010000
END:DAYLIGHT
BEGIN:STANDARD
TZOFFSETFROM:+0200
TZOFFSETTO:+0100
TZNAME:CET
DTSTART:20081026T010000
END:STANDARD
BEGIN:DAYLIGHT
TZOFFSETFROM:+0100
TZOFFSETTO:+0200
TZNAME:CEST
DTSTART:20090329T010000
END:DAYLIGHT
BEGIN:STANDARD
TZOFFSETFROM:+0200
TZOFFSETTO:+0100
TZNAME:CET
DTSTART:20091025T010000
END:STANDARD
BEGIN:DAYLIGHT
TZOFFSETFROM:+0100
TZOFFSETTO:+0200
TZNAME:CEST
DTSTART:20100328T010000
END:DAYLIGHT
BEGIN:STANDARD
TZOFFSETFROM:+0200
TZOFFSETTO:+0100
TZNAME:CET
DTSTART:20101031T010000
END:STANDARD
BEGIN:DAYLIGHT
TZOFFSETFROM:+0100
TZOFFSETTO:+0200
TZNAME:CEST
DTSTART:20110327T010000
END:DAYLIGHT
BEGIN:STANDARD
TZOFFSETFROM:+0200
TZOFFSETTO:+0100
TZNAME:CET
DTSTART:20111030T010000
END:STANDARD
BEGIN:DAYLIGHT
TZOFFSETFROM:+0100
TZOFFSETTO:+0200
TZNAME:CEST
DTSTART:20120325T010000
END:DAYLIGHT
BEGIN:STANDARD
TZOFFSETFROM:+0200
TZOFFSETTO:+0100
TZNAME:CET
DTSTART:20121028T010000
END:STANDARD
BEGIN:DAYLIGHT
TZOFFSETFROM:+0100
TZOFFSETTO:+0200
TZNAME:CEST
DTSTART:20130331T010000
END:DAYLIGHT
BEGIN:STANDARD
TZOFFSETFROM:+0200
TZOFFSETTO:+0100
TZNAME:CET
DTSTART:20131027T010000
END:STANDARD
BEGIN:DAYLIGHT
TZOFFSETFROM:+0100
TZOFFSETTO:+0200
TZNAME:CEST
DTSTART:20140330T010000
END:DAYLIGHT
BEGIN:STANDARD
TZOFFSETFROM:+0200
TZOFFSETTO:+0100
TZNAME:CET
DTSTART:20141026T010000
END:STANDARD
BEGIN:DAYLIGHT
TZOFFSETFROM:+0100
TZOFFSETTO:+0200
TZNAME:CEST
DTSTART:20150329T010000
END:DAYLIGHT
BEGIN:STANDARD
TZOFFSETFROM:+0200
TZOFFSETTO:+0100
TZNAME:CET
DTSTART:20151025T010000
END:STANDARD
BEGIN:DAYLIGHT
TZOFFSETFROM:+0100
TZOFFSETTO:+0200
TZNAME:CEST
DTSTART:20160327T010000
END:DAYLIGHT
BEGIN:STANDARD
TZOFFSETFROM:+0200
TZOFFSETTO:+0100
TZNAME:CET
DTSTART:20161030T010000
END:STANDARD
BEGIN:DAYLIGHT
TZOFFSETFROM:+0100
TZOFFSETTO:+0200
TZNAME:CEST
DTSTART:20170326T010000
END:DAYLIGHT
BEGIN:STANDARD
TZOFFSETFROM:+0200
TZOFFSETTO:+0100
TZNAME:CET
DTSTART:20171029T010000
END:STANDARD
BEGIN:DAYLIGHT
TZOFFSETFROM:+0100
TZOFFSETTO:+0200
TZNAME:CEST
DTSTART:20180325T010000
END:DAYLIGHT
BEGIN:STANDARD
TZOFFSETFROM:+0200
TZOFFSETTO:+0100
TZNAME:CET
DTSTART:20181028T010000
END:STANDARD
BEGIN:DAYLIGHT
TZOFFSETFROM:+0100
TZOFFSETTO:+0200
TZNAME:CEST
DTSTART:20190331T010000
END:DAYLIGHT
BEGIN:STANDARD
TZOFFSETFROM:+0200
TZOFFSETTO:+0100
TZNAME:CET
DTSTART:20191027T010000
END:STANDARD
BEGIN:DAYLIGHT
TZOFFSETFROM:+0100
TZOFFSETTO:+0200
TZNAME:CEST
DTSTART:20200329T010000
END:DAYLIGHT
BEGIN:STANDARD
TZOFFSETFROM:+0200
TZOFFSETTO:+0100
TZNAME:CET
DTSTART:20201025T010000
END:STANDARD
BEGIN:DAYLIGHT
TZOFFSETFROM:+0100
TZOFFSETTO:+0200
TZNAME:CEST
DTSTART:20210328T010000
END:DAYLIGHT
BEGIN:STANDARD
TZOFFSETFROM:+0200
TZOFFSETTO:+0100
TZNAME:CET
DTSTART:20211031T010000
END:STANDARD
BEGIN:DAYLIGHT
TZOFFSETFROM:+0100
TZOFFSETTO:+0200
TZNAME:CEST
DTSTART:20220327T010000
END:DAYLIGHT
BEGIN:STANDARD
TZOFFSETFROM:+0200
TZOFFSETTO:+0100
TZNAME:CET
DTSTART:20221030T010000
END:STANDARD
BEGIN:DAYLIGHT
TZOFFSETFROM:+0100
TZOFFSETTO:+0200
TZNAME:CEST
DTSTART:20230326T010000
END:DAYLIGHT
BEGIN:STANDARD
TZOFFSETFROM:+0200
TZOFFSETTO:+0100
TZNAME:CET
DTSTART:20231029T010000
END:STANDARD
BEGIN:DAYLIGHT
TZOFFSETFROM:+0100
TZOFFSETTO:+0200
TZNAME:CEST
DTSTART:20240331T010000
END:DAYLIGHT
BEGIN:STANDARD
TZOFFSETFROM:+0200
TZOFFSETTO:+0100
TZNAME:CET
DTSTART:20241027T010000
END:STANDARD
BEGIN:DAYLIGHT
TZOFFSETFROM:+0100
TZOFFSETTO:+0200
TZNAME:CEST
DTSTART:20250330T010000
END:DAYLIGHT
BEGIN:STANDARD
TZOFFSETFROM:+0200
TZOFFSETTO:+0100
TZNAME:CET
DTSTART:20251026T010000
END:STANDARD
BEGIN:DAYLIGHT
TZOFFSETFROM:+0100
TZOFFSETTO:+0200
TZNAME:CEST
DTSTART:20260329T010000
END:DAYLIGHT
BEGIN:STANDARD
TZOFFSETFROM:+0200
TZOFFSETTO:+0100
TZNAME:CET
DTSTART:20261025T010000
END:STANDARD
END:VTIMEZONE
BEGIN:VEVENT
DTSTART;TZID=Europe/Paris:20260425T154604
DTEND;TZID=Europe/Paris:20250518T000000
DTSTAMP:20260425T154604
CREATED:20250429T121405Z
LAST-MODIFIED:20250429T121409Z
UID:32160-0-1747526400@www.ville-saint-saulve.fr
SUMMARY:Spectacle Harmonia Sacra
DESCRIPTION:
URL:https://www.ville-saint-saulve.fr/event/spectacle-harmonia-sacra-2/
LOCATION:Espace Athena\, 2 Pl. du 8 Mai 1945\, Saint-Saulve\, 59880\, France
END:VEVENT
BEGIN:VEVENT
DTSTART;TZID=Europe/Paris:20240601T100000
DTEND;TZID=Europe/Paris:20240601T180000
DTSTAMP:20260425T154604
CREATED:20240515T124630Z
LAST-MODIFIED:20240521T065103Z
UID:27453-1717236000-1717264800@www.ville-saint-saulve.fr
SUMMARY:Rendez-vous aux jardins
DESCRIPTION:VENEZ PARTAGER UN MOMENT DE QUIÉTUDE\, EN HARMONIE AVEC LA NATURE \n\n\n\n Samedi 1er juin\, célébrons ensemble le jardin sous toutes ses formes\, lors de l’événement national\, décliné à l’échelle locale : « Rendez-vous au jardin ». Pour l’occasion\, venez passer un moment de détente\, de découvertes et d’amusement au parc de l’Orangeraie\, derrière le centre Fortier. \n\n\n Vous y trouverez : un parcours d’accrobranche pour les enfants\, un coin lecture pour bouquiner\, les pieds dans l’herbe\, des jeux anciens\, des animations pour reconnaître le chant des oiseaux\, apprendre à composter\, reconnaître les fleurs\, fruits et légumes\, ou encore un stand de dégustation de plantes comestibles et d’autres surprises ! \n\n\n Un spectacle et des balades-découvertes vous seront proposés\, matin et après-midi\, à l’Orangeraie et dans le parc Fortier\, en partenariat avec la Ligue de protection des oiseaux (LPO). Plus de détails dans les jours à venir. \n\n\n Vous êtes également invités à venir partager un PIQUE-NIQUE sur le temps du midi\, dans le parc de l’Orangeraie. Emportez votre panier de pique-nique\, rempli de bonnes victuailles\, ou préférez commander votre repas auprès du foodtruck qui sera présent sur place\, au choix !  Invitez vos amis et/ou votre famille !\n\n\n Enfin\, ce « Rendez-vous au jardin » 2024 sera également l’occasion de découvrir un jardin municipal devenu incontournable ces derniers mois : le jardin solidaire\, au Bas marais\, entretenu quotidiennement par une équipe de bénévoles au top. Ces derniers vous accueilleront chaleureusement dans leur jardin extraordinaire !\n\n\n De plus\, comme chaque année\, Madame & Monsieur Lefebvre\, domiciliés au 3 place Ferrer\, ouvriront leur incroyable jardin à la visite\, samedi & dimanche\, de 14h à 18h.\n\n\n\nPlace à la détente \n\n\nProgramme complet et détaillé
URL:https://www.ville-saint-saulve.fr/event/rendez-vous-aux-jardins/
LOCATION:Parc de l’Orangeraie\, Saint-Saulve\, 59880\, France
ATTACH;FMTTYPE=image/jpeg:https://www.ville-saint-saulve.fr/wp-content/uploads/affiche_rdv_aux_jardins_web-scaled.jpg
END:VEVENT
BEGIN:VEVENT
DTSTART;TZID=Europe/Paris:20240602T090000
DTEND;TZID=Europe/Paris:20240602T120000
DTSTAMP:20260425T154604
CREATED:20240522T065549Z
LAST-MODIFIED:20240522T065601Z
UID:27582-1717318800-1717329600@www.ville-saint-saulve.fr
SUMMARY:Les Parcours du Coeur
DESCRIPTION:
URL:https://www.ville-saint-saulve.fr/event/les-parcours-du-coeur/
LOCATION:Parc du Rôleur\, Rue du Roleur\, Saint-Saulve\, 59880\, France
ATTACH;FMTTYPE=image/jpeg:https://www.ville-saint-saulve.fr/wp-content/uploads/affiche_parcours_du_coeurs_2024-scaled.jpg
END:VEVENT
BEGIN:VEVENT
DTSTART;TZID=Europe/Paris:20240606T000000
DTEND;TZID=Europe/Paris:20240606T000000
DTSTAMP:20260425T154604
CREATED:20240517T120559Z
LAST-MODIFIED:20240517T120856Z
UID:27465-1717632000-1717632000@www.ville-saint-saulve.fr
SUMMARY:Activité Seniors - Sortie à la Brasserie du Baron
DESCRIPTION:Sortie à la brasserie du Baron à Bussignies\nLimité à 20 personnes \nDépart du centre de loisirs Fortier\nHoraire à définir\nPAYANT \nRetrouvez le calendrier des animations seniors 2024 en cliquant ici ! \nActivité réservée aux retraités et seniors saint-saulviens\nInscriptions dans la limite des places disponibles et renseignements auprès du service Seniors du pôle accompagner au 03 27 45 05 80 ou par mail à seniors@ville-saint-saulve.fr
URL:https://www.ville-saint-saulve.fr/event/activite-seniors-sortie-a-la-brasserie-du-baron/
LOCATION:Centre de loisirs Fortier\, 44 Rue Henri Barbusse\, Saint-Saulve\, 59880\, France
END:VEVENT
BEGIN:VEVENT
DTSTART;TZID=Europe/Paris:20240607T180000
DTEND;TZID=Europe/Paris:20240607T230000
DTSTAMP:20260425T154604
CREATED:20240527T121235Z
LAST-MODIFIED:20240527T121244Z
UID:27597-1717783200-1717801200@www.ville-saint-saulve.fr
SUMMARY:Fête des voisins : où festoyer le vendredi 7 juin ?
DESCRIPTION:Venez vous attabler dans la joie et en musique\, avec vos victuailles respectives à mettre en commun\, lors de la fête des voisins\, qui aura lieu le vendredi 7 juin dans 21 lieux de la ville ! Il y en aura forcément un tout près de chez vous \n\n\n\n Espace vert Mozart\, aux Alouettes\, à partir de 19h.\n Angle des rues Frémeaux et Samain\, à partir de 19h.\n La Pépinière\, organisée par la Maison de quartier\, à partir de 19h.\n Au fond de l’impasse Nungesser\, à partir de 19h.\n 1 résidence Les Jardins de Sophie\, à partir de 19h30.\n Entre le n°3 et le n°16 rue Flaubert\, à partir de 18h.\n Place devant la place du Bosquet\, à partir de 18h.\n Devant les garages entre le n°61 et 63\, avenue Alsace-Lorraine\, à partir de 18h30.\n Entre le n°1 et n°5 rue de la calèche\, 18h30 – 23h30.\n Placette Rembrandt\, rendez-vous à 18h30 pour l’installation.\n Terrain de pétanque de la cité Derville\, à partir de 18h30.\n Devant l’entreprise Amani\, à partir de 19h.\n Lotissement Clos des Saules\, 19h – 19h30.\n Place Carnot\, à partir de 19h.\n Impasse du calvaire\, à partir de 19h.\n Square de la Croix du Sud\, à partir de 19h.\n Escadrille des cigognes\, à partir de 19h.\n Placette cité Wadin\, à partir de 19h.\n Rue Mermoz\, au niveau de l’espace vert dès 18h30.\n Rue des Vieux Près.\n Rue Emile Verhaeren.\n\n\n\nAmusez-vous bien
URL:https://www.ville-saint-saulve.fr/event/fete-des-voisins-ou-festoyer-le-vendredi-7-juin/
LOCATION:Saint-Saulve\, Hauts-de-France\, 59880\, France
ATTACH;FMTTYPE=image/jpeg:https://www.ville-saint-saulve.fr/wp-content/uploads/AfficheA4_saint-saulve-scaled.jpg
END:VEVENT
BEGIN:VEVENT
DTSTART;TZID=Europe/Paris:20240608T143000
DTEND;TZID=Europe/Paris:20240608T143000
DTSTAMP:20260425T154604
CREATED:20240517T123833Z
LAST-MODIFIED:20240517T123906Z
UID:27485-1717857000-1717857000@www.ville-saint-saulve.fr
SUMMARY:MJC : Concert guitares
DESCRIPTION:
URL:https://www.ville-saint-saulve.fr/event/mjc-concert-guitares/
LOCATION:Espace Athena\, 2 Pl. du 8 Mai 1945\, Saint-Saulve\, 59880\, France
ATTACH;FMTTYPE=image/jpeg:https://www.ville-saint-saulve.fr/wp-content/uploads/affiche-concert-guitare-MJC-2024-web.jpg
ORGANIZER;CN="MJC":MAILTO:accueil@mjc-athena.org
END:VEVENT
BEGIN:VEVENT
DTSTART;TZID=Europe/Paris:20240609T090000
DTEND;TZID=Europe/Paris:20240609T130000
DTSTAMP:20260425T154604
CREATED:20240130T161736Z
LAST-MODIFIED:20240130T161736Z
UID:26167-1717923600-1717938000@www.ville-saint-saulve.fr
SUMMARY:Marché du terroir et de l'artisanat
DESCRIPTION:
URL:https://www.ville-saint-saulve.fr/event/marche-du-terroir-et-de-lartisanat-5/
LOCATION:Mairie\, 146 Rue Jean jaures\, St-Saulve\, Haut-de-France\, 59880\, France
ATTACH;FMTTYPE=image/jpeg:https://www.ville-saint-saulve.fr/wp-content/uploads/affiche_marches_terroir_dates2024-scaled.jpg
END:VEVENT
BEGIN:VEVENT
DTSTART;TZID=Europe/Paris:20240612T081500
DTEND;TZID=Europe/Paris:20240612T143000
DTSTAMP:20260425T154604
CREATED:20240517T121301Z
LAST-MODIFIED:20240517T121350Z
UID:27467-1718180100-1718202600@www.ville-saint-saulve.fr
SUMMARY:Activité Seniors - Sortie au forum des sciences
DESCRIPTION:Sortie au forum des sciences de Villeneuve d’Ascq\nLimité à 24 personnes \nAccompagnez les enfants du centre de loisirs lors d’une sortie scientifique et de découverte (notamment le planétarium et l’exposition Léonard de Vinci)\n \nAttention : prévoyez votre pique-nique\nTarif : 2\,50 € à régler en espèces à l’accueil du CCAS\n(sortie maintenue en fonction du nombre de personnes inscrites)\nDépart du centre de loisirs Fortier à 8h15\nRetour à 14h30 \nRetrouvez le calendrier des animations seniors 2024 en cliquant ici ! \nActivité réservée aux retraités et seniors saint-saulviens\nInscriptions dans la limite des places disponibles et renseignements auprès du service Seniors du pôle accompagner au 03 27 45 05 80 ou par mail à seniors@ville-saint-saulve.fr
URL:https://www.ville-saint-saulve.fr/event/activite-seniors-sortie-au-forum-des-sciences/
LOCATION:Centre de loisirs Fortier\, 44 Rue Henri Barbusse\, Saint-Saulve\, 59880\, France
END:VEVENT
BEGIN:VEVENT
DTSTART;TZID=Europe/Paris:20240613T143000
DTEND;TZID=Europe/Paris:20240613T143000
DTSTAMP:20260425T154604
CREATED:20240517T121538Z
LAST-MODIFIED:20240517T121600Z
UID:27469-1718289000-1718289000@www.ville-saint-saulve.fr
SUMMARY:Activité Seniors - Atelier Fortier
DESCRIPTION:Atelier Fortier\nThème : Iris Origami\, technique de pliage de papier \nRetrouvez le calendrier des animations seniors 2024 en cliquant ici ! \nActivité réservée aux retraités et seniors saint-saulviens\nInscriptions dans la limite des places disponibles et renseignements auprès du service Seniors du pôle accompagner au 03 27 45 05 80 ou par mail à seniors@ville-saint-saulve.fr
URL:https://www.ville-saint-saulve.fr/event/activite-seniors-atelier-fortier-13/
LOCATION:Centre de loisirs Fortier\, 44 Rue Henri Barbusse\, Saint-Saulve\, 59880\, France
END:VEVENT
BEGIN:VEVENT
DTSTART;TZID=Europe/Paris:20240619T100000
DTEND;TZID=Europe/Paris:20240619T100000
DTSTAMP:20260425T154604
CREATED:20240517T121757Z
LAST-MODIFIED:20240517T121808Z
UID:27471-1718791200-1718791200@www.ville-saint-saulve.fr
SUMMARY:Activité Seniors - Initiation à la pétanque
DESCRIPTION:Retrouvez le calendrier des animations seniors 2024 en cliquant ici ! \nActivité réservée aux retraités et seniors saint-saulviens\nInscriptions dans la limite des places disponibles et renseignements auprès du service Seniors du pôle accompagner au 03 27 45 05 80 ou par mail à seniors@ville-saint-saulve.fr
URL:https://www.ville-saint-saulve.fr/event/activite-seniors-initiation-a-la-petanque/
LOCATION:Boulodrome\, Rue Henri Barbusse\, 59880 Saint-Saulve\, Saint-Saulve\, 59880\, France
END:VEVENT
BEGIN:VEVENT
DTSTART;TZID=Europe/Paris:20240620T143000
DTEND;TZID=Europe/Paris:20240620T143000
DTSTAMP:20260425T154604
CREATED:20240517T122037Z
LAST-MODIFIED:20240517T122048Z
UID:27473-1718893800-1718893800@www.ville-saint-saulve.fr
SUMMARY:Activité Seniors - WIMOOV sécuriser  ses déplacements piétons
DESCRIPTION:WIMOOV : sécuriser ses déplacements piétons\nChoisir et optimiser ses trajets à pieds \nLimité à 15 personnes \n(sous réserve du nombre de personnes inscrites) \nRetrouvez le calendrier des animations seniors 2024 en cliquant ici ! \nActivité réservée aux retraités et seniors saint-saulviens\nInscriptions dans la limite des places disponibles et renseignements auprès du service Seniors du pôle accompagner au 03 27 45 05 80 ou par mail à seniors@ville-saint-saulve.fr
URL:https://www.ville-saint-saulve.fr/event/activite-seniors-wimoov-securiser-ses-deplacements-pietons/
LOCATION:Salle du Bosquet\, Av. Guillaume Apollinaire\, 59880 Saint-Saulve\, Saint-Saulve\, 59880
END:VEVENT
BEGIN:VEVENT
DTSTART;TZID=Europe/Paris:20240623T133000
DTEND;TZID=Europe/Paris:20240623T173000
DTSTAMP:20260425T154604
CREATED:20240521T064222Z
LAST-MODIFIED:20240617T114959Z
UID:27561-1719149400-1719163800@www.ville-saint-saulve.fr
SUMMARY:La course des écoliers
DESCRIPTION:LA COURSE DES ÉCOLIERS \n[Roulez jeunesse !]\n\n\n\nLe service municipal des sports de Saint-Saulve organise La course des écoliers. Ce n’est pas n’importe quelle course ! Vous allez devoir chausser vos patins à roulettes \n\n\n\n Rendez-vous le dimanche 23 juin\, à la salle Saint-Exupéry\, de 13h30 à 17h30\n\n\n\n Port des protections obligatoire \n\n\n\n COMPLET\n\n\n\nÉcoliers… tous à vos rollers !
URL:https://www.ville-saint-saulve.fr/event/la-course-des-ecoliers/
LOCATION:Salle de sport Saint-Exupéry\, Rue Antoine de Saint-Exupéry\, Saint-Saulve\, 59880\, France
ATTACH;FMTTYPE=image/jpeg:https://www.ville-saint-saulve.fr/wp-content/uploads/affiche_A4_course_ecoliers-scaled.jpg
END:VEVENT
BEGIN:VEVENT
DTSTART;TZID=Europe/Paris:20240623T150000
DTEND;TZID=Europe/Paris:20240623T170000
DTSTAMP:20260425T154604
CREATED:20240614T064225Z
LAST-MODIFIED:20240614T064234Z
UID:28033-1719154800-1719162000@www.ville-saint-saulve.fr
SUMMARY:Sessions Zumba
DESCRIPTION:
URL:https://www.ville-saint-saulve.fr/event/sessions-zumba/
LOCATION:Salle des sports Coubertin\, 33 Rue Roger Salengro\, Saint-Saulve\, 59880\, France
ATTACH;FMTTYPE=image/jpeg:https://www.ville-saint-saulve.fr/wp-content/uploads/affiche_zumba-scaled.jpg
END:VEVENT
BEGIN:VEVENT
DTSTART;TZID=Europe/Paris:20240623T170000
DTEND;TZID=Europe/Paris:20240623T170000
DTSTAMP:20260425T154604
CREATED:20240605T114932Z
LAST-MODIFIED:20240605T114935Z
UID:27680-1719162000-1719162000@www.ville-saint-saulve.fr
SUMMARY:Fête de la musique
DESCRIPTION:« PLANET TUBES » DÉBARQUE À SAINT-SAULVE \n\n\n\nNous vous donnons rendez-vous le dimanche 23 juin\, à partir de 17h sur le parking du centre Fortier\, où la Batucada vous attendra pour faire monter la température\, avant l’arrivée de la troupe « Planet tubes ». Composée de six artistes haut en couleurs\, elle vous fera revivre plusieurs décennies de chansons inoubliables ! \n\n\n\nDes tubes mythiques des années 80\, en passant par les boys et girls bands des années 90\, sans oublier les tubes de l’été des années 2000\, jusqu’aux récents hits au rayonnement planétaire. Il vous faudra une bonne dose d’énergie pour suivre le rythme ! Eux\, en tout cas\, n’en manquent pas ! \n\n\n\n1h30 de show chanté & dansé\, pour faire plaisir à TOUTES les générations. Vous ne pouvez pas manquer ça. \n\n\n Petite restauration sur place
URL:https://www.ville-saint-saulve.fr/event/fete-de-la-musique-3/
LOCATION:Centre de loisirs Fortier\, 44 Rue Henri Barbusse\, Saint-Saulve\, 59880\, France
ATTACH;FMTTYPE=image/jpeg:https://www.ville-saint-saulve.fr/wp-content/uploads/affiche_fete_de_la_musique_web-scaled.jpg
END:VEVENT
BEGIN:VEVENT
DTSTART;TZID=Europe/Paris:20240626T190000
DTEND;TZID=Europe/Paris:20240626T190000
DTSTAMP:20260425T154604
CREATED:20240619T125736Z
LAST-MODIFIED:20240619T125849Z
UID:28105-1719428400-1719428400@www.ville-saint-saulve.fr
SUMMARY:Réunion du conseil municipal
DESCRIPTION:Le conseil municipal se réunira le mercredi 26 juin à 19h à l’hôtel de ville. \nConsulter l’ordre du jour
URL:https://www.ville-saint-saulve.fr/event/reunion-du-conseil-municipal-14/
LOCATION:Mairie\, 146 Rue Jean jaures\, St-Saulve\, Haut-de-France\, 59880\, France
ATTACH;FMTTYPE=image/jpeg:https://www.ville-saint-saulve.fr/wp-content/uploads/2022/11/316417265_541470508017172_8437615211820158479_n.jpeg
END:VEVENT
BEGIN:VEVENT
DTSTART;TZID=Europe/Paris:20240628T093000
DTEND;TZID=Europe/Paris:20240628T093000
DTSTAMP:20260425T154604
CREATED:20240517T122232Z
LAST-MODIFIED:20240517T122245Z
UID:27475-1719567000-1719567000@www.ville-saint-saulve.fr
SUMMARY:Activité Seniors - Parta'jouons
DESCRIPTION:Jardinage  » La petite graine « \nLimité à 3 personnes \nRetrouvez le calendrier des animations seniors 2024 en cliquant ici ! \nActivité réservée aux retraités et seniors saint-saulviens\nInscriptions dans la limite des places disponibles et renseignements auprès du service Seniors du pôle accompagner au 03 27 45 05 80 ou par mail à seniors@ville-saint-saulve.fr
URL:https://www.ville-saint-saulve.fr/event/activite-seniors-partajouons-6/
LOCATION:Espace Cécile Gallez\, 4 Av. Robert Schuman\, Saint-Saulve\, 59880\, France
ATTACH;FMTTYPE=image/jpeg:https://www.ville-saint-saulve.fr/wp-content/uploads/affiche_activites_intergenerationnelles.jpg
END:VEVENT
BEGIN:VEVENT
DTSTART;TZID=Europe/Paris:20240628T163000
DTEND;TZID=Europe/Paris:20240628T163000
DTSTAMP:20260425T154604
CREATED:20240619T082753Z
LAST-MODIFIED:20240619T082842Z
UID:28098-1719592200-1719592200@www.ville-saint-saulve.fr
SUMMARY:Les Choux Rires d'Été : Fête de la Pépinière
DESCRIPTION:LES CHOUX RIRES D’ÉTÉ \n\n\n\nC’est du côté de la Maison de quartier de saint-saulve que les Choux Rires vous donnent rendez-vous pour le coup d’envoi des festivités d’été ! \n\n\nLa Maison de quartier organise sa fête de quartier et de la musique\, le vendredi 28 juin à partir de 16h30\, sur la place de la Pépinière (côté kiosque).\n\n\n\n Au programme : barbecue et animation musicale avec le groupe FIVE O CLOCK et plein d’autres activités !\n\n\n\n Renseignements au 03 27 42 54 10
URL:https://www.ville-saint-saulve.fr/event/les-choux-rires-dete-fete-de-la-pepiniere/
LOCATION:Maison de quartier\, 1 Rue Blaise Pascal\, Saint-Saulve\, 59880\, France
ATTACH;FMTTYPE=image/jpeg:https://www.ville-saint-saulve.fr/wp-content/uploads/Fete-de-la-Musique-scaled.jpg
END:VEVENT
BEGIN:VEVENT
DTSTART;TZID=Europe/Paris:20240629T140000
DTEND;TZID=Europe/Paris:20240629T210000
DTSTAMP:20260425T154604
CREATED:20240619T140951Z
LAST-MODIFIED:20240619T141419Z
UID:28113-1719669600-1719694800@www.ville-saint-saulve.fr
SUMMARY:Les Choux Rires d'Été : Fête de la jeunesse
DESCRIPTION:[LES CHOUX RIRES D’ÉTÉ 2024]\n\nLA FÊTE DE LA JEUNESSE \n\n\n\n Cap vers le Far West pour cette nouvelle édition de la fête de la jeunesse ! Le samedi 29 juin\, nous vous donnons rendez-vous au parc Fortier\, pour passer un après-midi aux heures de l’Ouest Américain\, entre promenades en diligence\, jeux gonflables et taureau mécanique\, confection de cerf-volants et instruments de musique en bois\, tir à l’arc\, animations sportives ou encore tatouages éphémères… Tout ce qu’il faut pour s’éclater comme des fous !\n\n\n\n Un petit creux ? Buvette & restauration (payante) vous attendent sur place.\n\n\nNe manquez pas cette occasion GRATUITE de s’amuser en familles et entre copains\, pour bien débuter les grandes vacances ! Toute l’équipe du centre Fortier est mobilisée pour l’occasion. \n\n\nProgramme détaillé de la fête de la jeunesse\n\nRetrouvez le programme complet des Choux Rires d’Été
URL:https://www.ville-saint-saulve.fr/event/les-choux-rires-dete-fete-de-la-jeunesse-2/
LOCATION:Parc Fortier\, 44 Rue Henri Barbusse\, Saint-Saulve\, Hauts-de-France\, 59880\, France
ATTACH;FMTTYPE=image/jpeg:https://www.ville-saint-saulve.fr/wp-content/uploads/affiche_fete_jeunesse-1-scaled.jpg
END:VEVENT
END:VCALENDAR