BEGIN:VCALENDAR
VERSION:2.0
PRODID:-//Ville de Saint Saulve - ECPv6.15.20//NONSGML v1.0//EN
CALSCALE:GREGORIAN
METHOD:PUBLISH
X-ORIGINAL-URL:https://www.ville-saint-saulve.fr
X-WR-CALDESC:Évènements pour Ville de Saint Saulve
REFRESH-INTERVAL;VALUE=DURATION:PT1H
X-Robots-Tag:noindex
X-PUBLISHED-TTL:PT1H
BEGIN:VTIMEZONE
TZID:Europe/Paris
BEGIN:DAYLIGHT
TZOFFSETFROM:+0100
TZOFFSETTO:+0200
TZNAME:CEST
DTSTART:19760328T000000
END:DAYLIGHT
BEGIN:STANDARD
TZOFFSETFROM:+0200
TZOFFSETTO:+0100
TZNAME:CET
DTSTART:19760925T230000
END:STANDARD
BEGIN:DAYLIGHT
TZOFFSETFROM:+0100
TZOFFSETTO:+0200
TZNAME:CEST
DTSTART:19770403T010000
END:DAYLIGHT
BEGIN:STANDARD
TZOFFSETFROM:+0200
TZOFFSETTO:+0100
TZNAME:CET
DTSTART:19770925T010000
END:STANDARD
BEGIN:DAYLIGHT
TZOFFSETFROM:+0100
TZOFFSETTO:+0200
TZNAME:CEST
DTSTART:19780402T010000
END:DAYLIGHT
BEGIN:STANDARD
TZOFFSETFROM:+0200
TZOFFSETTO:+0100
TZNAME:CET
DTSTART:19781001T010000
END:STANDARD
BEGIN:DAYLIGHT
TZOFFSETFROM:+0100
TZOFFSETTO:+0200
TZNAME:CEST
DTSTART:19790401T010000
END:DAYLIGHT
BEGIN:STANDARD
TZOFFSETFROM:+0200
TZOFFSETTO:+0100
TZNAME:CET
DTSTART:19790930T010000
END:STANDARD
BEGIN:DAYLIGHT
TZOFFSETFROM:+0100
TZOFFSETTO:+0200
TZNAME:CEST
DTSTART:19800406T010000
END:DAYLIGHT
BEGIN:STANDARD
TZOFFSETFROM:+0200
TZOFFSETTO:+0100
TZNAME:CET
DTSTART:19800928T010000
END:STANDARD
BEGIN:DAYLIGHT
TZOFFSETFROM:+0100
TZOFFSETTO:+0200
TZNAME:CEST
DTSTART:19810329T010000
END:DAYLIGHT
BEGIN:STANDARD
TZOFFSETFROM:+0200
TZOFFSETTO:+0100
TZNAME:CET
DTSTART:19810927T010000
END:STANDARD
BEGIN:DAYLIGHT
TZOFFSETFROM:+0100
TZOFFSETTO:+0200
TZNAME:CEST
DTSTART:19820328T010000
END:DAYLIGHT
BEGIN:STANDARD
TZOFFSETFROM:+0200
TZOFFSETTO:+0100
TZNAME:CET
DTSTART:19820926T010000
END:STANDARD
BEGIN:DAYLIGHT
TZOFFSETFROM:+0100
TZOFFSETTO:+0200
TZNAME:CEST
DTSTART:19830327T010000
END:DAYLIGHT
BEGIN:STANDARD
TZOFFSETFROM:+0200
TZOFFSETTO:+0100
TZNAME:CET
DTSTART:19830925T010000
END:STANDARD
BEGIN:DAYLIGHT
TZOFFSETFROM:+0100
TZOFFSETTO:+0200
TZNAME:CEST
DTSTART:19840325T010000
END:DAYLIGHT
BEGIN:STANDARD
TZOFFSETFROM:+0200
TZOFFSETTO:+0100
TZNAME:CET
DTSTART:19840930T010000
END:STANDARD
BEGIN:DAYLIGHT
TZOFFSETFROM:+0100
TZOFFSETTO:+0200
TZNAME:CEST
DTSTART:19850331T010000
END:DAYLIGHT
BEGIN:STANDARD
TZOFFSETFROM:+0200
TZOFFSETTO:+0100
TZNAME:CET
DTSTART:19850929T010000
END:STANDARD
BEGIN:DAYLIGHT
TZOFFSETFROM:+0100
TZOFFSETTO:+0200
TZNAME:CEST
DTSTART:19860330T010000
END:DAYLIGHT
BEGIN:STANDARD
TZOFFSETFROM:+0200
TZOFFSETTO:+0100
TZNAME:CET
DTSTART:19860928T010000
END:STANDARD
BEGIN:DAYLIGHT
TZOFFSETFROM:+0100
TZOFFSETTO:+0200
TZNAME:CEST
DTSTART:19870329T010000
END:DAYLIGHT
BEGIN:STANDARD
TZOFFSETFROM:+0200
TZOFFSETTO:+0100
TZNAME:CET
DTSTART:19870927T010000
END:STANDARD
BEGIN:DAYLIGHT
TZOFFSETFROM:+0100
TZOFFSETTO:+0200
TZNAME:CEST
DTSTART:19880327T010000
END:DAYLIGHT
BEGIN:STANDARD
TZOFFSETFROM:+0200
TZOFFSETTO:+0100
TZNAME:CET
DTSTART:19880925T010000
END:STANDARD
BEGIN:DAYLIGHT
TZOFFSETFROM:+0100
TZOFFSETTO:+0200
TZNAME:CEST
DTSTART:19890326T010000
END:DAYLIGHT
BEGIN:STANDARD
TZOFFSETFROM:+0200
TZOFFSETTO:+0100
TZNAME:CET
DTSTART:19890924T010000
END:STANDARD
BEGIN:DAYLIGHT
TZOFFSETFROM:+0100
TZOFFSETTO:+0200
TZNAME:CEST
DTSTART:19900325T010000
END:DAYLIGHT
BEGIN:STANDARD
TZOFFSETFROM:+0200
TZOFFSETTO:+0100
TZNAME:CET
DTSTART:19900930T010000
END:STANDARD
BEGIN:DAYLIGHT
TZOFFSETFROM:+0100
TZOFFSETTO:+0200
TZNAME:CEST
DTSTART:19910331T010000
END:DAYLIGHT
BEGIN:STANDARD
TZOFFSETFROM:+0200
TZOFFSETTO:+0100
TZNAME:CET
DTSTART:19910929T010000
END:STANDARD
BEGIN:DAYLIGHT
TZOFFSETFROM:+0100
TZOFFSETTO:+0200
TZNAME:CEST
DTSTART:19920329T010000
END:DAYLIGHT
BEGIN:STANDARD
TZOFFSETFROM:+0200
TZOFFSETTO:+0100
TZNAME:CET
DTSTART:19920927T010000
END:STANDARD
BEGIN:DAYLIGHT
TZOFFSETFROM:+0100
TZOFFSETTO:+0200
TZNAME:CEST
DTSTART:19930328T010000
END:DAYLIGHT
BEGIN:STANDARD
TZOFFSETFROM:+0200
TZOFFSETTO:+0100
TZNAME:CET
DTSTART:19930926T010000
END:STANDARD
BEGIN:DAYLIGHT
TZOFFSETFROM:+0100
TZOFFSETTO:+0200
TZNAME:CEST
DTSTART:19940327T010000
END:DAYLIGHT
BEGIN:STANDARD
TZOFFSETFROM:+0200
TZOFFSETTO:+0100
TZNAME:CET
DTSTART:19940925T010000
END:STANDARD
BEGIN:DAYLIGHT
TZOFFSETFROM:+0100
TZOFFSETTO:+0200
TZNAME:CEST
DTSTART:19950326T010000
END:DAYLIGHT
BEGIN:STANDARD
TZOFFSETFROM:+0200
TZOFFSETTO:+0100
TZNAME:CET
DTSTART:19950924T010000
END:STANDARD
BEGIN:DAYLIGHT
TZOFFSETFROM:+0100
TZOFFSETTO:+0200
TZNAME:CEST
DTSTART:19960331T010000
END:DAYLIGHT
BEGIN:STANDARD
TZOFFSETFROM:+0200
TZOFFSETTO:+0100
TZNAME:CET
DTSTART:19961027T010000
END:STANDARD
BEGIN:DAYLIGHT
TZOFFSETFROM:+0100
TZOFFSETTO:+0200
TZNAME:CEST
DTSTART:19970330T010000
END:DAYLIGHT
BEGIN:STANDARD
TZOFFSETFROM:+0200
TZOFFSETTO:+0100
TZNAME:CET
DTSTART:19971026T010000
END:STANDARD
BEGIN:DAYLIGHT
TZOFFSETFROM:+0100
TZOFFSETTO:+0200
TZNAME:CEST
DTSTART:19980329T010000
END:DAYLIGHT
BEGIN:STANDARD
TZOFFSETFROM:+0200
TZOFFSETTO:+0100
TZNAME:CET
DTSTART:19981025T010000
END:STANDARD
BEGIN:DAYLIGHT
TZOFFSETFROM:+0100
TZOFFSETTO:+0200
TZNAME:CEST
DTSTART:19990328T010000
END:DAYLIGHT
BEGIN:STANDARD
TZOFFSETFROM:+0200
TZOFFSETTO:+0100
TZNAME:CET
DTSTART:19991031T010000
END:STANDARD
BEGIN:DAYLIGHT
TZOFFSETFROM:+0100
TZOFFSETTO:+0200
TZNAME:CEST
DTSTART:20000326T010000
END:DAYLIGHT
BEGIN:STANDARD
TZOFFSETFROM:+0200
TZOFFSETTO:+0100
TZNAME:CET
DTSTART:20001029T010000
END:STANDARD
BEGIN:DAYLIGHT
TZOFFSETFROM:+0100
TZOFFSETTO:+0200
TZNAME:CEST
DTSTART:20010325T010000
END:DAYLIGHT
BEGIN:STANDARD
TZOFFSETFROM:+0200
TZOFFSETTO:+0100
TZNAME:CET
DTSTART:20011028T010000
END:STANDARD
BEGIN:DAYLIGHT
TZOFFSETFROM:+0100
TZOFFSETTO:+0200
TZNAME:CEST
DTSTART:20020331T010000
END:DAYLIGHT
BEGIN:STANDARD
TZOFFSETFROM:+0200
TZOFFSETTO:+0100
TZNAME:CET
DTSTART:20021027T010000
END:STANDARD
BEGIN:DAYLIGHT
TZOFFSETFROM:+0100
TZOFFSETTO:+0200
TZNAME:CEST
DTSTART:20030330T010000
END:DAYLIGHT
BEGIN:STANDARD
TZOFFSETFROM:+0200
TZOFFSETTO:+0100
TZNAME:CET
DTSTART:20031026T010000
END:STANDARD
BEGIN:DAYLIGHT
TZOFFSETFROM:+0100
TZOFFSETTO:+0200
TZNAME:CEST
DTSTART:20040328T010000
END:DAYLIGHT
BEGIN:STANDARD
TZOFFSETFROM:+0200
TZOFFSETTO:+0100
TZNAME:CET
DTSTART:20041031T010000
END:STANDARD
BEGIN:DAYLIGHT
TZOFFSETFROM:+0100
TZOFFSETTO:+0200
TZNAME:CEST
DTSTART:20050327T010000
END:DAYLIGHT
BEGIN:STANDARD
TZOFFSETFROM:+0200
TZOFFSETTO:+0100
TZNAME:CET
DTSTART:20051030T010000
END:STANDARD
BEGIN:DAYLIGHT
TZOFFSETFROM:+0100
TZOFFSETTO:+0200
TZNAME:CEST
DTSTART:20060326T010000
END:DAYLIGHT
BEGIN:STANDARD
TZOFFSETFROM:+0200
TZOFFSETTO:+0100
TZNAME:CET
DTSTART:20061029T010000
END:STANDARD
BEGIN:DAYLIGHT
TZOFFSETFROM:+0100
TZOFFSETTO:+0200
TZNAME:CEST
DTSTART:20070325T010000
END:DAYLIGHT
BEGIN:STANDARD
TZOFFSETFROM:+0200
TZOFFSETTO:+0100
TZNAME:CET
DTSTART:20071028T010000
END:STANDARD
BEGIN:DAYLIGHT
TZOFFSETFROM:+0100
TZOFFSETTO:+0200
TZNAME:CEST
DTSTART:20080330T010000
END:DAYLIGHT
BEGIN:STANDARD
TZOFFSETFROM:+0200
TZOFFSETTO:+0100
TZNAME:CET
DTSTART:20081026T010000
END:STANDARD
BEGIN:DAYLIGHT
TZOFFSETFROM:+0100
TZOFFSETTO:+0200
TZNAME:CEST
DTSTART:20090329T010000
END:DAYLIGHT
BEGIN:STANDARD
TZOFFSETFROM:+0200
TZOFFSETTO:+0100
TZNAME:CET
DTSTART:20091025T010000
END:STANDARD
BEGIN:DAYLIGHT
TZOFFSETFROM:+0100
TZOFFSETTO:+0200
TZNAME:CEST
DTSTART:20100328T010000
END:DAYLIGHT
BEGIN:STANDARD
TZOFFSETFROM:+0200
TZOFFSETTO:+0100
TZNAME:CET
DTSTART:20101031T010000
END:STANDARD
BEGIN:DAYLIGHT
TZOFFSETFROM:+0100
TZOFFSETTO:+0200
TZNAME:CEST
DTSTART:20110327T010000
END:DAYLIGHT
BEGIN:STANDARD
TZOFFSETFROM:+0200
TZOFFSETTO:+0100
TZNAME:CET
DTSTART:20111030T010000
END:STANDARD
BEGIN:DAYLIGHT
TZOFFSETFROM:+0100
TZOFFSETTO:+0200
TZNAME:CEST
DTSTART:20120325T010000
END:DAYLIGHT
BEGIN:STANDARD
TZOFFSETFROM:+0200
TZOFFSETTO:+0100
TZNAME:CET
DTSTART:20121028T010000
END:STANDARD
BEGIN:DAYLIGHT
TZOFFSETFROM:+0100
TZOFFSETTO:+0200
TZNAME:CEST
DTSTART:20130331T010000
END:DAYLIGHT
BEGIN:STANDARD
TZOFFSETFROM:+0200
TZOFFSETTO:+0100
TZNAME:CET
DTSTART:20131027T010000
END:STANDARD
BEGIN:DAYLIGHT
TZOFFSETFROM:+0100
TZOFFSETTO:+0200
TZNAME:CEST
DTSTART:20140330T010000
END:DAYLIGHT
BEGIN:STANDARD
TZOFFSETFROM:+0200
TZOFFSETTO:+0100
TZNAME:CET
DTSTART:20141026T010000
END:STANDARD
BEGIN:DAYLIGHT
TZOFFSETFROM:+0100
TZOFFSETTO:+0200
TZNAME:CEST
DTSTART:20150329T010000
END:DAYLIGHT
BEGIN:STANDARD
TZOFFSETFROM:+0200
TZOFFSETTO:+0100
TZNAME:CET
DTSTART:20151025T010000
END:STANDARD
BEGIN:DAYLIGHT
TZOFFSETFROM:+0100
TZOFFSETTO:+0200
TZNAME:CEST
DTSTART:20160327T010000
END:DAYLIGHT
BEGIN:STANDARD
TZOFFSETFROM:+0200
TZOFFSETTO:+0100
TZNAME:CET
DTSTART:20161030T010000
END:STANDARD
BEGIN:DAYLIGHT
TZOFFSETFROM:+0100
TZOFFSETTO:+0200
TZNAME:CEST
DTSTART:20170326T010000
END:DAYLIGHT
BEGIN:STANDARD
TZOFFSETFROM:+0200
TZOFFSETTO:+0100
TZNAME:CET
DTSTART:20171029T010000
END:STANDARD
BEGIN:DAYLIGHT
TZOFFSETFROM:+0100
TZOFFSETTO:+0200
TZNAME:CEST
DTSTART:20180325T010000
END:DAYLIGHT
BEGIN:STANDARD
TZOFFSETFROM:+0200
TZOFFSETTO:+0100
TZNAME:CET
DTSTART:20181028T010000
END:STANDARD
BEGIN:DAYLIGHT
TZOFFSETFROM:+0100
TZOFFSETTO:+0200
TZNAME:CEST
DTSTART:20190331T010000
END:DAYLIGHT
BEGIN:STANDARD
TZOFFSETFROM:+0200
TZOFFSETTO:+0100
TZNAME:CET
DTSTART:20191027T010000
END:STANDARD
BEGIN:DAYLIGHT
TZOFFSETFROM:+0100
TZOFFSETTO:+0200
TZNAME:CEST
DTSTART:20200329T010000
END:DAYLIGHT
BEGIN:STANDARD
TZOFFSETFROM:+0200
TZOFFSETTO:+0100
TZNAME:CET
DTSTART:20201025T010000
END:STANDARD
BEGIN:DAYLIGHT
TZOFFSETFROM:+0100
TZOFFSETTO:+0200
TZNAME:CEST
DTSTART:20210328T010000
END:DAYLIGHT
BEGIN:STANDARD
TZOFFSETFROM:+0200
TZOFFSETTO:+0100
TZNAME:CET
DTSTART:20211031T010000
END:STANDARD
BEGIN:DAYLIGHT
TZOFFSETFROM:+0100
TZOFFSETTO:+0200
TZNAME:CEST
DTSTART:20220327T010000
END:DAYLIGHT
BEGIN:STANDARD
TZOFFSETFROM:+0200
TZOFFSETTO:+0100
TZNAME:CET
DTSTART:20221030T010000
END:STANDARD
BEGIN:DAYLIGHT
TZOFFSETFROM:+0100
TZOFFSETTO:+0200
TZNAME:CEST
DTSTART:20230326T010000
END:DAYLIGHT
BEGIN:STANDARD
TZOFFSETFROM:+0200
TZOFFSETTO:+0100
TZNAME:CET
DTSTART:20231029T010000
END:STANDARD
BEGIN:DAYLIGHT
TZOFFSETFROM:+0100
TZOFFSETTO:+0200
TZNAME:CEST
DTSTART:20240331T010000
END:DAYLIGHT
BEGIN:STANDARD
TZOFFSETFROM:+0200
TZOFFSETTO:+0100
TZNAME:CET
DTSTART:20241027T010000
END:STANDARD
BEGIN:DAYLIGHT
TZOFFSETFROM:+0100
TZOFFSETTO:+0200
TZNAME:CEST
DTSTART:20250330T010000
END:DAYLIGHT
BEGIN:STANDARD
TZOFFSETFROM:+0200
TZOFFSETTO:+0100
TZNAME:CET
DTSTART:20251026T010000
END:STANDARD
BEGIN:DAYLIGHT
TZOFFSETFROM:+0100
TZOFFSETTO:+0200
TZNAME:CEST
DTSTART:20260329T010000
END:DAYLIGHT
BEGIN:STANDARD
TZOFFSETFROM:+0200
TZOFFSETTO:+0100
TZNAME:CET
DTSTART:20261025T010000
END:STANDARD
END:VTIMEZONE
BEGIN:VEVENT
DTSTART;TZID=Europe/Paris:20260425T124542
DTEND;TZID=Europe/Paris:20250518T000000
DTSTAMP:20260425T124542
CREATED:20250429T121405Z
LAST-MODIFIED:20250429T121409Z
UID:32160-0-1747526400@www.ville-saint-saulve.fr
SUMMARY:Spectacle Harmonia Sacra
DESCRIPTION:
URL:https://www.ville-saint-saulve.fr/event/spectacle-harmonia-sacra-2/
LOCATION:Espace Athena\, 2 Pl. du 8 Mai 1945\, Saint-Saulve\, 59880\, France
END:VEVENT
BEGIN:VEVENT
DTSTART;TZID=Europe/Paris:20240801T180000
DTEND;TZID=Europe/Paris:20240801T200000
DTSTAMP:20260425T124542
CREATED:20240704T092527Z
LAST-MODIFIED:20240704T092531Z
UID:28473-1722535200-1722542400@www.ville-saint-saulve.fr
SUMMARY:Les Choux Rires d'Été  - Soirée basket
DESCRIPTION:Pour les 13-17 ans\nEntrée libre\nInscription sur place \n\n\nRetrouvez le programme complet des Choux Rires d’Été
URL:https://www.ville-saint-saulve.fr/event/les-choux-rires-dete-soiree-basket/
LOCATION:Salle de sport Saint-Exupéry\, Rue Antoine de Saint-Exupéry\, Saint-Saulve\, 59880\, France
END:VEVENT
BEGIN:VEVENT
DTSTART;TZID=Europe/Paris:20240802T193000
DTEND;TZID=Europe/Paris:20240802T220000
DTSTAMP:20260425T124542
CREATED:20240704T092421Z
LAST-MODIFIED:20240704T092426Z
UID:28471-1722627000-1722636000@www.ville-saint-saulve.fr
SUMMARY:Les Choux Rires d'Été  - Soirée jeux en famille
DESCRIPTION:Venez vous détendre en famille\, autour de jeux qui amuseront petits et grands\, de toutes les tranches d’âges.\nEn partenariat avec la ludothèque du Petit Poucet. \n\nRetrouvez le programme complet des Choux Rires d’Été
URL:https://www.ville-saint-saulve.fr/event/les-choux-rires-dete-soiree-jeux-en-famille/
LOCATION:Maison de quartier\, 1 Rue Blaise Pascal\, Saint-Saulve\, 59880\, France
END:VEVENT
BEGIN:VEVENT
DTSTART;TZID=Europe/Paris:20240808T140000
DTEND;TZID=Europe/Paris:20240808T160000
DTSTAMP:20260425T124542
CREATED:20240618T133940Z
LAST-MODIFIED:20240618T135039Z
UID:28094-1723125600-1723132800@www.ville-saint-saulve.fr
SUMMARY:Activité Seniors - Grand jeu d'été
DESCRIPTION:Grand jeu d’été avec les enfants du centre de loisirs\nVenez partager un moment ludique avec les enfants. \nLimité à 12 personnes \nRetrouvez le calendrier des animations seniors 2024 en cliquant ici ! \nActivité réservée aux retraités et seniors saint-saulviens\nInscriptions dans la limite des places disponibles et renseignements auprès du service Seniors du pôle accompagner au 03 27 45 05 80 ou par mail à seniors@ville-saint-saulve.fr
URL:https://www.ville-saint-saulve.fr/event/activite-seniors-grand-jeu-dete-2/
LOCATION:Centre de loisirs Fortier\, 44 Rue Henri Barbusse\, Saint-Saulve\, 59880\, France
END:VEVENT
BEGIN:VEVENT
DTSTART;TZID=Europe/Paris:20240811T090000
DTEND;TZID=Europe/Paris:20240811T130000
DTSTAMP:20260425T124542
CREATED:20240130T162136Z
LAST-MODIFIED:20240723T093119Z
UID:26171-1723366800-1723381200@www.ville-saint-saulve.fr
SUMMARY:Marché du terroir et de l'artisanat
DESCRIPTION:
URL:https://www.ville-saint-saulve.fr/event/marche-du-terroir-et-de-lartisanat-7/
LOCATION:Mairie\, 146 Rue Jean jaures\, St-Saulve\, Haut-de-France\, 59880\, France
ATTACH;FMTTYPE=image/jpeg:https://www.ville-saint-saulve.fr/wp-content/uploads/affiche_marches_terroir_dates2024-scaled.jpg
END:VEVENT
BEGIN:VEVENT
DTSTART;TZID=Europe/Paris:20240814T150000
DTEND;TZID=Europe/Paris:20240814T180000
DTSTAMP:20260425T124542
CREATED:20240704T092702Z
LAST-MODIFIED:20240704T092708Z
UID:28475-1723647600-1723658400@www.ville-saint-saulve.fr
SUMMARY:Les Choux Rires d'Été  - Après-midi foot
DESCRIPTION:Animation pour les ados \n\nAu city stade du Bosquet (rue de la Poésie) \nRetrouvez le programme complet des Choux Rires d’Été
URL:https://www.ville-saint-saulve.fr/event/les-choux-rires-dete-apres-midi-foot/
LOCATION:Maison de quartier\, 1 Rue Blaise Pascal\, Saint-Saulve\, 59880\, France
END:VEVENT
BEGIN:VEVENT
DTSTART;TZID=Europe/Paris:20240822T173000
DTEND;TZID=Europe/Paris:20240822T193000
DTSTAMP:20260425T124542
CREATED:20240704T142456Z
LAST-MODIFIED:20240704T142655Z
UID:28491-1724347800-1724355000@www.ville-saint-saulve.fr
SUMMARY:Les Choux Rires d'Été : Jump XL
DESCRIPTION:Animation ados\n\nSortie au Trampoline park de Petite-Forêt\nDépart au centre de loisirs Fortier à 16h30 \nInscriptions obligatoires auprès du service loisirs par mail à loisirs@ville-saint-saulve.fr ou au 03 27 20 23 50 \nRetrouvez le programme complet des Choux Rires d’Été
URL:https://www.ville-saint-saulve.fr/event/les-choux-rires-dete-jump-xl/
LOCATION:Centre de loisirs Fortier\, 44 Rue Henri Barbusse\, Saint-Saulve\, 59880\, France
END:VEVENT
BEGIN:VEVENT
DTSTART;TZID=Europe/Paris:20240823T093000
DTEND;TZID=Europe/Paris:20240823T093000
DTSTAMP:20260425T124542
CREATED:20240618T134157Z
LAST-MODIFIED:20240618T135150Z
UID:28096-1724405400-1724405400@www.ville-saint-saulve.fr
SUMMARY:Activité Seniors - Parta'jouons
DESCRIPTION:Atelier sensoriel : réalisation d’une fresque collective « Balade en mer »\nLimité à 3 personnes \nRetrouvez le calendrier des animations seniors 2024 en cliquant ici ! \nActivité réservée aux retraités et seniors saint-saulviens\nInscriptions dans la limite des places disponibles et renseignements auprès du service Seniors du pôle accompagner au 03 27 45 05 80 ou par mail à seniors@ville-saint-saulve.fr
URL:https://www.ville-saint-saulve.fr/event/activite-seniors-partajouons-8/
LOCATION:Espace Cécile Gallez\, 4 Av. Robert Schuman\, Saint-Saulve\, 59880\, France
ATTACH;FMTTYPE=image/jpeg:https://www.ville-saint-saulve.fr/wp-content/uploads/affiche_activites_intergenerationnelles.jpg
END:VEVENT
BEGIN:VEVENT
DTSTART;TZID=Europe/Paris:20240823T180000
DTEND;TZID=Europe/Paris:20240823T213000
DTSTAMP:20260425T124542
CREATED:20240704T093057Z
LAST-MODIFIED:20240704T093109Z
UID:28477-1724436000-1724448600@www.ville-saint-saulve.fr
SUMMARY:Les Choux Rires d'été : Pool party
DESCRIPTION:L’équipe de la piscine municipale vous accueille pour une soirée animée par un DJ. \nEntrée libre \nRetrouvez le programme complet des Choux Rires d’Été
URL:https://www.ville-saint-saulve.fr/event/les-choux-rires-dete-pool-party-2/
LOCATION:Piscine municipale\, 2 Av. Robert Schuman\, Saint-Saulve\, 59880\, France
END:VEVENT
BEGIN:VEVENT
DTSTART;TZID=Europe/Paris:20240826T140000
DTEND;TZID=Europe/Paris:20240826T170000
DTSTAMP:20260425T124542
CREATED:20240704T143339Z
LAST-MODIFIED:20240704T143401Z
UID:28493-1724680800-1724691600@www.ville-saint-saulve.fr
SUMMARY:Les Choux Rires d'Été : Après-midi jeux
DESCRIPTION:Animation ados\n\nViens t’amuser comme un fou au parc du Rôleur\, aménagé en terrain de jeux à ciel ouvert pour l’occasion !\nAnimation laser game et karting \nInscriptions obligatoires auprès du service loisirs par mail à loisirs@ville-saint-saulve.fr ou au 03 27 20 23 50 \nRetrouvez le programme complet des Choux Rires d’Été
URL:https://www.ville-saint-saulve.fr/event/les-choux-rires-dete-apres-midi-jeux/
LOCATION:Parc du Rôleur\, Rue du Roleur\, Saint-Saulve\, 59880\, France
END:VEVENT
END:VCALENDAR