BEGIN:VCALENDAR
VERSION:2.0
PRODID:-//Ville de Saint Saulve - ECPv6.15.20//NONSGML v1.0//EN
CALSCALE:GREGORIAN
METHOD:PUBLISH
X-ORIGINAL-URL:https://www.ville-saint-saulve.fr
X-WR-CALDESC:Évènements pour Ville de Saint Saulve
REFRESH-INTERVAL;VALUE=DURATION:PT1H
X-Robots-Tag:noindex
X-PUBLISHED-TTL:PT1H
BEGIN:VTIMEZONE
TZID:Europe/Paris
BEGIN:DAYLIGHT
TZOFFSETFROM:+0100
TZOFFSETTO:+0200
TZNAME:CEST
DTSTART:19760328T000000
END:DAYLIGHT
BEGIN:STANDARD
TZOFFSETFROM:+0200
TZOFFSETTO:+0100
TZNAME:CET
DTSTART:19760925T230000
END:STANDARD
BEGIN:DAYLIGHT
TZOFFSETFROM:+0100
TZOFFSETTO:+0200
TZNAME:CEST
DTSTART:19770403T010000
END:DAYLIGHT
BEGIN:STANDARD
TZOFFSETFROM:+0200
TZOFFSETTO:+0100
TZNAME:CET
DTSTART:19770925T010000
END:STANDARD
BEGIN:DAYLIGHT
TZOFFSETFROM:+0100
TZOFFSETTO:+0200
TZNAME:CEST
DTSTART:19780402T010000
END:DAYLIGHT
BEGIN:STANDARD
TZOFFSETFROM:+0200
TZOFFSETTO:+0100
TZNAME:CET
DTSTART:19781001T010000
END:STANDARD
BEGIN:DAYLIGHT
TZOFFSETFROM:+0100
TZOFFSETTO:+0200
TZNAME:CEST
DTSTART:19790401T010000
END:DAYLIGHT
BEGIN:STANDARD
TZOFFSETFROM:+0200
TZOFFSETTO:+0100
TZNAME:CET
DTSTART:19790930T010000
END:STANDARD
BEGIN:DAYLIGHT
TZOFFSETFROM:+0100
TZOFFSETTO:+0200
TZNAME:CEST
DTSTART:19800406T010000
END:DAYLIGHT
BEGIN:STANDARD
TZOFFSETFROM:+0200
TZOFFSETTO:+0100
TZNAME:CET
DTSTART:19800928T010000
END:STANDARD
BEGIN:DAYLIGHT
TZOFFSETFROM:+0100
TZOFFSETTO:+0200
TZNAME:CEST
DTSTART:19810329T010000
END:DAYLIGHT
BEGIN:STANDARD
TZOFFSETFROM:+0200
TZOFFSETTO:+0100
TZNAME:CET
DTSTART:19810927T010000
END:STANDARD
BEGIN:DAYLIGHT
TZOFFSETFROM:+0100
TZOFFSETTO:+0200
TZNAME:CEST
DTSTART:19820328T010000
END:DAYLIGHT
BEGIN:STANDARD
TZOFFSETFROM:+0200
TZOFFSETTO:+0100
TZNAME:CET
DTSTART:19820926T010000
END:STANDARD
BEGIN:DAYLIGHT
TZOFFSETFROM:+0100
TZOFFSETTO:+0200
TZNAME:CEST
DTSTART:19830327T010000
END:DAYLIGHT
BEGIN:STANDARD
TZOFFSETFROM:+0200
TZOFFSETTO:+0100
TZNAME:CET
DTSTART:19830925T010000
END:STANDARD
BEGIN:DAYLIGHT
TZOFFSETFROM:+0100
TZOFFSETTO:+0200
TZNAME:CEST
DTSTART:19840325T010000
END:DAYLIGHT
BEGIN:STANDARD
TZOFFSETFROM:+0200
TZOFFSETTO:+0100
TZNAME:CET
DTSTART:19840930T010000
END:STANDARD
BEGIN:DAYLIGHT
TZOFFSETFROM:+0100
TZOFFSETTO:+0200
TZNAME:CEST
DTSTART:19850331T010000
END:DAYLIGHT
BEGIN:STANDARD
TZOFFSETFROM:+0200
TZOFFSETTO:+0100
TZNAME:CET
DTSTART:19850929T010000
END:STANDARD
BEGIN:DAYLIGHT
TZOFFSETFROM:+0100
TZOFFSETTO:+0200
TZNAME:CEST
DTSTART:19860330T010000
END:DAYLIGHT
BEGIN:STANDARD
TZOFFSETFROM:+0200
TZOFFSETTO:+0100
TZNAME:CET
DTSTART:19860928T010000
END:STANDARD
BEGIN:DAYLIGHT
TZOFFSETFROM:+0100
TZOFFSETTO:+0200
TZNAME:CEST
DTSTART:19870329T010000
END:DAYLIGHT
BEGIN:STANDARD
TZOFFSETFROM:+0200
TZOFFSETTO:+0100
TZNAME:CET
DTSTART:19870927T010000
END:STANDARD
BEGIN:DAYLIGHT
TZOFFSETFROM:+0100
TZOFFSETTO:+0200
TZNAME:CEST
DTSTART:19880327T010000
END:DAYLIGHT
BEGIN:STANDARD
TZOFFSETFROM:+0200
TZOFFSETTO:+0100
TZNAME:CET
DTSTART:19880925T010000
END:STANDARD
BEGIN:DAYLIGHT
TZOFFSETFROM:+0100
TZOFFSETTO:+0200
TZNAME:CEST
DTSTART:19890326T010000
END:DAYLIGHT
BEGIN:STANDARD
TZOFFSETFROM:+0200
TZOFFSETTO:+0100
TZNAME:CET
DTSTART:19890924T010000
END:STANDARD
BEGIN:DAYLIGHT
TZOFFSETFROM:+0100
TZOFFSETTO:+0200
TZNAME:CEST
DTSTART:19900325T010000
END:DAYLIGHT
BEGIN:STANDARD
TZOFFSETFROM:+0200
TZOFFSETTO:+0100
TZNAME:CET
DTSTART:19900930T010000
END:STANDARD
BEGIN:DAYLIGHT
TZOFFSETFROM:+0100
TZOFFSETTO:+0200
TZNAME:CEST
DTSTART:19910331T010000
END:DAYLIGHT
BEGIN:STANDARD
TZOFFSETFROM:+0200
TZOFFSETTO:+0100
TZNAME:CET
DTSTART:19910929T010000
END:STANDARD
BEGIN:DAYLIGHT
TZOFFSETFROM:+0100
TZOFFSETTO:+0200
TZNAME:CEST
DTSTART:19920329T010000
END:DAYLIGHT
BEGIN:STANDARD
TZOFFSETFROM:+0200
TZOFFSETTO:+0100
TZNAME:CET
DTSTART:19920927T010000
END:STANDARD
BEGIN:DAYLIGHT
TZOFFSETFROM:+0100
TZOFFSETTO:+0200
TZNAME:CEST
DTSTART:19930328T010000
END:DAYLIGHT
BEGIN:STANDARD
TZOFFSETFROM:+0200
TZOFFSETTO:+0100
TZNAME:CET
DTSTART:19930926T010000
END:STANDARD
BEGIN:DAYLIGHT
TZOFFSETFROM:+0100
TZOFFSETTO:+0200
TZNAME:CEST
DTSTART:19940327T010000
END:DAYLIGHT
BEGIN:STANDARD
TZOFFSETFROM:+0200
TZOFFSETTO:+0100
TZNAME:CET
DTSTART:19940925T010000
END:STANDARD
BEGIN:DAYLIGHT
TZOFFSETFROM:+0100
TZOFFSETTO:+0200
TZNAME:CEST
DTSTART:19950326T010000
END:DAYLIGHT
BEGIN:STANDARD
TZOFFSETFROM:+0200
TZOFFSETTO:+0100
TZNAME:CET
DTSTART:19950924T010000
END:STANDARD
BEGIN:DAYLIGHT
TZOFFSETFROM:+0100
TZOFFSETTO:+0200
TZNAME:CEST
DTSTART:19960331T010000
END:DAYLIGHT
BEGIN:STANDARD
TZOFFSETFROM:+0200
TZOFFSETTO:+0100
TZNAME:CET
DTSTART:19961027T010000
END:STANDARD
BEGIN:DAYLIGHT
TZOFFSETFROM:+0100
TZOFFSETTO:+0200
TZNAME:CEST
DTSTART:19970330T010000
END:DAYLIGHT
BEGIN:STANDARD
TZOFFSETFROM:+0200
TZOFFSETTO:+0100
TZNAME:CET
DTSTART:19971026T010000
END:STANDARD
BEGIN:DAYLIGHT
TZOFFSETFROM:+0100
TZOFFSETTO:+0200
TZNAME:CEST
DTSTART:19980329T010000
END:DAYLIGHT
BEGIN:STANDARD
TZOFFSETFROM:+0200
TZOFFSETTO:+0100
TZNAME:CET
DTSTART:19981025T010000
END:STANDARD
BEGIN:DAYLIGHT
TZOFFSETFROM:+0100
TZOFFSETTO:+0200
TZNAME:CEST
DTSTART:19990328T010000
END:DAYLIGHT
BEGIN:STANDARD
TZOFFSETFROM:+0200
TZOFFSETTO:+0100
TZNAME:CET
DTSTART:19991031T010000
END:STANDARD
BEGIN:DAYLIGHT
TZOFFSETFROM:+0100
TZOFFSETTO:+0200
TZNAME:CEST
DTSTART:20000326T010000
END:DAYLIGHT
BEGIN:STANDARD
TZOFFSETFROM:+0200
TZOFFSETTO:+0100
TZNAME:CET
DTSTART:20001029T010000
END:STANDARD
BEGIN:DAYLIGHT
TZOFFSETFROM:+0100
TZOFFSETTO:+0200
TZNAME:CEST
DTSTART:20010325T010000
END:DAYLIGHT
BEGIN:STANDARD
TZOFFSETFROM:+0200
TZOFFSETTO:+0100
TZNAME:CET
DTSTART:20011028T010000
END:STANDARD
BEGIN:DAYLIGHT
TZOFFSETFROM:+0100
TZOFFSETTO:+0200
TZNAME:CEST
DTSTART:20020331T010000
END:DAYLIGHT
BEGIN:STANDARD
TZOFFSETFROM:+0200
TZOFFSETTO:+0100
TZNAME:CET
DTSTART:20021027T010000
END:STANDARD
BEGIN:DAYLIGHT
TZOFFSETFROM:+0100
TZOFFSETTO:+0200
TZNAME:CEST
DTSTART:20030330T010000
END:DAYLIGHT
BEGIN:STANDARD
TZOFFSETFROM:+0200
TZOFFSETTO:+0100
TZNAME:CET
DTSTART:20031026T010000
END:STANDARD
BEGIN:DAYLIGHT
TZOFFSETFROM:+0100
TZOFFSETTO:+0200
TZNAME:CEST
DTSTART:20040328T010000
END:DAYLIGHT
BEGIN:STANDARD
TZOFFSETFROM:+0200
TZOFFSETTO:+0100
TZNAME:CET
DTSTART:20041031T010000
END:STANDARD
BEGIN:DAYLIGHT
TZOFFSETFROM:+0100
TZOFFSETTO:+0200
TZNAME:CEST
DTSTART:20050327T010000
END:DAYLIGHT
BEGIN:STANDARD
TZOFFSETFROM:+0200
TZOFFSETTO:+0100
TZNAME:CET
DTSTART:20051030T010000
END:STANDARD
BEGIN:DAYLIGHT
TZOFFSETFROM:+0100
TZOFFSETTO:+0200
TZNAME:CEST
DTSTART:20060326T010000
END:DAYLIGHT
BEGIN:STANDARD
TZOFFSETFROM:+0200
TZOFFSETTO:+0100
TZNAME:CET
DTSTART:20061029T010000
END:STANDARD
BEGIN:DAYLIGHT
TZOFFSETFROM:+0100
TZOFFSETTO:+0200
TZNAME:CEST
DTSTART:20070325T010000
END:DAYLIGHT
BEGIN:STANDARD
TZOFFSETFROM:+0200
TZOFFSETTO:+0100
TZNAME:CET
DTSTART:20071028T010000
END:STANDARD
BEGIN:DAYLIGHT
TZOFFSETFROM:+0100
TZOFFSETTO:+0200
TZNAME:CEST
DTSTART:20080330T010000
END:DAYLIGHT
BEGIN:STANDARD
TZOFFSETFROM:+0200
TZOFFSETTO:+0100
TZNAME:CET
DTSTART:20081026T010000
END:STANDARD
BEGIN:DAYLIGHT
TZOFFSETFROM:+0100
TZOFFSETTO:+0200
TZNAME:CEST
DTSTART:20090329T010000
END:DAYLIGHT
BEGIN:STANDARD
TZOFFSETFROM:+0200
TZOFFSETTO:+0100
TZNAME:CET
DTSTART:20091025T010000
END:STANDARD
BEGIN:DAYLIGHT
TZOFFSETFROM:+0100
TZOFFSETTO:+0200
TZNAME:CEST
DTSTART:20100328T010000
END:DAYLIGHT
BEGIN:STANDARD
TZOFFSETFROM:+0200
TZOFFSETTO:+0100
TZNAME:CET
DTSTART:20101031T010000
END:STANDARD
BEGIN:DAYLIGHT
TZOFFSETFROM:+0100
TZOFFSETTO:+0200
TZNAME:CEST
DTSTART:20110327T010000
END:DAYLIGHT
BEGIN:STANDARD
TZOFFSETFROM:+0200
TZOFFSETTO:+0100
TZNAME:CET
DTSTART:20111030T010000
END:STANDARD
BEGIN:DAYLIGHT
TZOFFSETFROM:+0100
TZOFFSETTO:+0200
TZNAME:CEST
DTSTART:20120325T010000
END:DAYLIGHT
BEGIN:STANDARD
TZOFFSETFROM:+0200
TZOFFSETTO:+0100
TZNAME:CET
DTSTART:20121028T010000
END:STANDARD
BEGIN:DAYLIGHT
TZOFFSETFROM:+0100
TZOFFSETTO:+0200
TZNAME:CEST
DTSTART:20130331T010000
END:DAYLIGHT
BEGIN:STANDARD
TZOFFSETFROM:+0200
TZOFFSETTO:+0100
TZNAME:CET
DTSTART:20131027T010000
END:STANDARD
BEGIN:DAYLIGHT
TZOFFSETFROM:+0100
TZOFFSETTO:+0200
TZNAME:CEST
DTSTART:20140330T010000
END:DAYLIGHT
BEGIN:STANDARD
TZOFFSETFROM:+0200
TZOFFSETTO:+0100
TZNAME:CET
DTSTART:20141026T010000
END:STANDARD
BEGIN:DAYLIGHT
TZOFFSETFROM:+0100
TZOFFSETTO:+0200
TZNAME:CEST
DTSTART:20150329T010000
END:DAYLIGHT
BEGIN:STANDARD
TZOFFSETFROM:+0200
TZOFFSETTO:+0100
TZNAME:CET
DTSTART:20151025T010000
END:STANDARD
BEGIN:DAYLIGHT
TZOFFSETFROM:+0100
TZOFFSETTO:+0200
TZNAME:CEST
DTSTART:20160327T010000
END:DAYLIGHT
BEGIN:STANDARD
TZOFFSETFROM:+0200
TZOFFSETTO:+0100
TZNAME:CET
DTSTART:20161030T010000
END:STANDARD
BEGIN:DAYLIGHT
TZOFFSETFROM:+0100
TZOFFSETTO:+0200
TZNAME:CEST
DTSTART:20170326T010000
END:DAYLIGHT
BEGIN:STANDARD
TZOFFSETFROM:+0200
TZOFFSETTO:+0100
TZNAME:CET
DTSTART:20171029T010000
END:STANDARD
BEGIN:DAYLIGHT
TZOFFSETFROM:+0100
TZOFFSETTO:+0200
TZNAME:CEST
DTSTART:20180325T010000
END:DAYLIGHT
BEGIN:STANDARD
TZOFFSETFROM:+0200
TZOFFSETTO:+0100
TZNAME:CET
DTSTART:20181028T010000
END:STANDARD
BEGIN:DAYLIGHT
TZOFFSETFROM:+0100
TZOFFSETTO:+0200
TZNAME:CEST
DTSTART:20190331T010000
END:DAYLIGHT
BEGIN:STANDARD
TZOFFSETFROM:+0200
TZOFFSETTO:+0100
TZNAME:CET
DTSTART:20191027T010000
END:STANDARD
BEGIN:DAYLIGHT
TZOFFSETFROM:+0100
TZOFFSETTO:+0200
TZNAME:CEST
DTSTART:20200329T010000
END:DAYLIGHT
BEGIN:STANDARD
TZOFFSETFROM:+0200
TZOFFSETTO:+0100
TZNAME:CET
DTSTART:20201025T010000
END:STANDARD
BEGIN:DAYLIGHT
TZOFFSETFROM:+0100
TZOFFSETTO:+0200
TZNAME:CEST
DTSTART:20210328T010000
END:DAYLIGHT
BEGIN:STANDARD
TZOFFSETFROM:+0200
TZOFFSETTO:+0100
TZNAME:CET
DTSTART:20211031T010000
END:STANDARD
BEGIN:DAYLIGHT
TZOFFSETFROM:+0100
TZOFFSETTO:+0200
TZNAME:CEST
DTSTART:20220327T010000
END:DAYLIGHT
BEGIN:STANDARD
TZOFFSETFROM:+0200
TZOFFSETTO:+0100
TZNAME:CET
DTSTART:20221030T010000
END:STANDARD
BEGIN:DAYLIGHT
TZOFFSETFROM:+0100
TZOFFSETTO:+0200
TZNAME:CEST
DTSTART:20230326T010000
END:DAYLIGHT
BEGIN:STANDARD
TZOFFSETFROM:+0200
TZOFFSETTO:+0100
TZNAME:CET
DTSTART:20231029T010000
END:STANDARD
BEGIN:DAYLIGHT
TZOFFSETFROM:+0100
TZOFFSETTO:+0200
TZNAME:CEST
DTSTART:20240331T010000
END:DAYLIGHT
BEGIN:STANDARD
TZOFFSETFROM:+0200
TZOFFSETTO:+0100
TZNAME:CET
DTSTART:20241027T010000
END:STANDARD
BEGIN:DAYLIGHT
TZOFFSETFROM:+0100
TZOFFSETTO:+0200
TZNAME:CEST
DTSTART:20250330T010000
END:DAYLIGHT
BEGIN:STANDARD
TZOFFSETFROM:+0200
TZOFFSETTO:+0100
TZNAME:CET
DTSTART:20251026T010000
END:STANDARD
BEGIN:DAYLIGHT
TZOFFSETFROM:+0100
TZOFFSETTO:+0200
TZNAME:CEST
DTSTART:20260329T010000
END:DAYLIGHT
BEGIN:STANDARD
TZOFFSETFROM:+0200
TZOFFSETTO:+0100
TZNAME:CET
DTSTART:20261025T010000
END:STANDARD
END:VTIMEZONE
BEGIN:VEVENT
DTSTART;TZID=Europe/Paris:20260425T051005
DTEND;TZID=Europe/Paris:20250518T000000
DTSTAMP:20260425T051005
CREATED:20250429T121405Z
LAST-MODIFIED:20250429T121409Z
UID:32160-0-1747526400@www.ville-saint-saulve.fr
SUMMARY:Spectacle Harmonia Sacra
DESCRIPTION:
URL:https://www.ville-saint-saulve.fr/event/spectacle-harmonia-sacra-2/
LOCATION:Espace Athena\, 2 Pl. du 8 Mai 1945\, Saint-Saulve\, 59880\, France
END:VEVENT
BEGIN:VEVENT
DTSTART;TZID=Europe/Paris:20250102T090000
DTEND;TZID=Europe/Paris:20250102T170000
DTSTAMP:20260425T051005
CREATED:20241120T134243Z
LAST-MODIFIED:20241120T134251Z
UID:30257-1735808400-1735837200@www.ville-saint-saulve.fr
SUMMARY:Atelier graff à la piscine
DESCRIPTION:Atelier Graff à la Piscine Municipale pendant les vacances de Noël\nDans le cadre de la concertation « Quartier 2030 »\, le service des sports en collaboration avec l’association Si t’es Show vous invite à participer à un atelier graff à la piscine municipale. L’atelier est réservé aux habitants de la Pépinière et de l’avenue Charles de Gaulle. Venez seul.e\, entre amis ou en famille ! \n📅 Dates des séances : \n\nLundi 30 et mardi 31 décembre 2024\nJeudi 2 et vendredi 3 janvier 2025\n\n🕘 Horaires : \n\n9h – 12h et 14h – 17h\n\nLes séances seront encadrées par Benjamin et Thomas de l’association Si t’es Show\, qui ont déjà animé avec succès des ateliers graff à la salle de sport Schuman\, à l’école de musique\, et à la Pépinière. \nImportant : Le nombre de places est limité à 10 participants par session\, alors ne tardez pas à vous inscrire ! \n📧 Inscriptions :\nEnvoyez votre inscription avant le 7 décembre à 17h par mail à l’adresse suivante : sports@ville-saint-saulve.fr.\nIndiquez la ou les dates qui vous intéressent et en précisant bien : nom\, prénom\, âge\, adresse mail\, n° de tél. Tout mineur doit être accompagné d’un adulte. \n👉 Les ateliers continueront en juin\, alors n’hésitez pas à participer pour être au cœur de ce projet artistique ! \nRejoignez-nous et laissez parler votre créativité pour redonner un nouveau look à la piscine municipale ! 🎨
URL:https://www.ville-saint-saulve.fr/event/atelier-graff-a-la-piscine-3/
LOCATION:Piscine municipale\, 2 Av. Robert Schuman\, Saint-Saulve\, 59880\, France
ATTACH;FMTTYPE=image/jpeg:https://www.ville-saint-saulve.fr/wp-content/uploads/flyer_atelier_graff_piscine-scaled.jpg
END:VEVENT
BEGIN:VEVENT
DTSTART;TZID=Europe/Paris:20250103T090000
DTEND;TZID=Europe/Paris:20250103T170000
DTSTAMP:20260425T051005
CREATED:20241120T134322Z
LAST-MODIFIED:20241120T134328Z
UID:30259-1735894800-1735923600@www.ville-saint-saulve.fr
SUMMARY:Atelier graff à la piscine
DESCRIPTION:Atelier Graff à la Piscine Municipale pendant les vacances de Noël\nDans le cadre de la concertation « Quartier 2030 »\, le service des sports en collaboration avec l’association Si t’es Show vous invite à participer à un atelier graff à la piscine municipale. L’atelier est réservé aux habitants de la Pépinière et de l’avenue Charles de Gaulle. Venez seul.e\, entre amis ou en famille ! \n📅 Dates des séances : \n\nLundi 30 et mardi 31 décembre 2024\nJeudi 2 et vendredi 3 janvier 2025\n\n🕘 Horaires : \n\n9h – 12h et 14h – 17h\n\nLes séances seront encadrées par Benjamin et Thomas de l’association Si t’es Show\, qui ont déjà animé avec succès des ateliers graff à la salle de sport Schuman\, à l’école de musique\, et à la Pépinière. \nImportant : Le nombre de places est limité à 10 participants par session\, alors ne tardez pas à vous inscrire ! \n📧 Inscriptions :\nEnvoyez votre inscription avant le 7 décembre à 17h par mail à l’adresse suivante : sports@ville-saint-saulve.fr.\nIndiquez la ou les dates qui vous intéressent et en précisant bien : nom\, prénom\, âge\, adresse mail\, n° de tél. Tout mineur doit être accompagné d’un adulte. \n👉 Les ateliers continueront en juin\, alors n’hésitez pas à participer pour être au cœur de ce projet artistique ! \nRejoignez-nous et laissez parler votre créativité pour redonner un nouveau look à la piscine municipale ! 🎨
URL:https://www.ville-saint-saulve.fr/event/atelier-graff-a-la-piscine-4/
LOCATION:Piscine municipale\, 2 Av. Robert Schuman\, Saint-Saulve\, 59880\, France
ATTACH;FMTTYPE=image/jpeg:https://www.ville-saint-saulve.fr/wp-content/uploads/flyer_atelier_graff_piscine-scaled.jpg
END:VEVENT
BEGIN:VEVENT
DTSTART;TZID=Europe/Paris:20250104T180000
DTEND;TZID=Europe/Paris:20250104T180000
DTSTAMP:20260425T051005
CREATED:20241231T093007Z
LAST-MODIFIED:20241231T093051Z
UID:30679-1736013600-1736013600@www.ville-saint-saulve.fr
SUMMARY:Concert exceptionnel du nouvel an
DESCRIPTION: POUR DÉBUTER L’ANNÉE EN BEAUTÉ… Nous vous donnons rendez-vous à la salle Coubertin\, le samedi 4 janvier\, pour un concert inoubliable\, qui marquera le début de cette toute nouvelle année 2025. A cette occasion\, le maire Yves Dusart présentera ses voeux à la population. Venez nombreux assister à ce premier grand temps fort de l’année nouvelle\, dans le cadre inhabituel de la salle Coubertin\, qui sera customisée pour l’occasion.  \nL’ENTRÉE EST GRATUITE\, SANS RÉSERVATION\, DANS LA LIMITE DES PLACES DISPONIBLES. LES PORTES S’OUVRIRONT À PARTIR DE 17H. LE CONCERT DÉBUTERA À 18H.
URL:https://www.ville-saint-saulve.fr/event/concert-exceptionnel-du-nouvel-an/
LOCATION:Salle des sports Coubertin\, 33 Rue Roger Salengro\, Saint-Saulve\, 59880\, France
ATTACH;FMTTYPE=image/jpeg:https://www.ville-saint-saulve.fr/wp-content/uploads/affiche_concert_nouvel_an.jpg
END:VEVENT
BEGIN:VEVENT
DTSTART;TZID=Europe/Paris:20250105T140000
DTEND;TZID=Europe/Paris:20250105T140000
DTSTAMP:20260425T051005
CREATED:20241219T162900Z
LAST-MODIFIED:20241219T162904Z
UID:30602-1736085600-1736085600@www.ville-saint-saulve.fr
SUMMARY:Super loto traditionnel
DESCRIPTION:Dimanche 5 janvier à partir de 14h\nSuper Loto traditionnel organisé par l’association l’Olympique de Saint-Saulve\, à la salle des fêtes.\nÀ la clé\, 5 060 € en bons d’achat de 15 à 1300 €.\n12 tirages durant l’après-midi + 1 tirage spécial. \nPetite restauration sur place.\nOuverture des portes à 12h\nRéservations au 06 98 88 50 29
URL:https://www.ville-saint-saulve.fr/event/super-loto-traditionnel-34/
LOCATION:Salle des Fêtes\, 8 place Louis Maillard\, Saint-Saulve\, Hauts-de-France\, 59880\, France
ATTACH;FMTTYPE=image/jpeg:https://www.ville-saint-saulve.fr/wp-content/uploads/loto.jpg
END:VEVENT
BEGIN:VEVENT
DTSTART;TZID=Europe/Paris:20250112T093000
DTEND;TZID=Europe/Paris:20250112T130000
DTSTAMP:20260425T051005
CREATED:20250107T101257Z
LAST-MODIFIED:20250110T152020Z
UID:30922-1736674200-1736686800@www.ville-saint-saulve.fr
SUMMARY:Marché du terroir et de l'artisanat
DESCRIPTION:
URL:https://www.ville-saint-saulve.fr/event/marche-du-terroir-et-de-lartisanat-12/
LOCATION:Mairie\, 146 Rue Jean jaures\, St-Saulve\, Haut-de-France\, 59880\, France
ATTACH;FMTTYPE=image/jpeg:https://www.ville-saint-saulve.fr/wp-content/uploads/affiche_marche_terroir_artisanat_janvier_2025-scaled.jpg
END:VEVENT
BEGIN:VEVENT
DTSTART;TZID=Europe/Paris:20250112T143000
DTEND;TZID=Europe/Paris:20250112T143000
DTSTAMP:20260425T051005
CREATED:20241217T155539Z
LAST-MODIFIED:20241217T155550Z
UID:30593-1736692200-1736692200@www.ville-saint-saulve.fr
SUMMARY:Super loto traditionnel
DESCRIPTION:Dimanche 12 janvier à partir de 11h30\nDébut des jeux à 14h30\nSuper Loto traditionnel organisé par l’association Saint-Saulve Football\, à la salle des fêtes.\nÀ la clé\, 4000 € en bons d’achat de 20 à 1000€. \nPetite restauration sur place.\nRéservations au 06 64 53 06 38
URL:https://www.ville-saint-saulve.fr/event/super-loto-traditionnel-32/
LOCATION:Salle des Fêtes\, 8 place Louis Maillard\, Saint-Saulve\, Hauts-de-France\, 59880\, France
ATTACH;FMTTYPE=image/jpeg:https://www.ville-saint-saulve.fr/wp-content/uploads/1000019008.jpg
END:VEVENT
BEGIN:VEVENT
DTSTART;TZID=Europe/Paris:20250114T103000
DTEND;TZID=Europe/Paris:20250114T103000
DTSTAMP:20260425T051005
CREATED:20241230T092645Z
LAST-MODIFIED:20241230T092657Z
UID:30659-1736850600-1736850600@www.ville-saint-saulve.fr
SUMMARY:Activité Seniors - Sophrologie
DESCRIPTION:Limité à 8 personnes \nRetrouvez le calendrier des animations seniors 2025 en cliquant ici ! \nActivité réservée aux retraités et seniors saint-saulviens\nInscriptions dans la limite des places disponibles et renseignements auprès du service Seniors du pôle accompagner au 03 27 45 05 80 ou par mail à seniors@ville-saint-saulve.fr
URL:https://www.ville-saint-saulve.fr/event/activite-seniors-sophrologie/
LOCATION:Résidence La Chataigneraie\, Avenue de l'Europe\, Saint-Saulve\, 59880\, France
END:VEVENT
BEGIN:VEVENT
DTSTART;TZID=Europe/Paris:20250114T143000
DTEND;TZID=Europe/Paris:20250114T143000
DTSTAMP:20260425T051005
CREATED:20241230T092933Z
LAST-MODIFIED:20241230T093131Z
UID:30662-1736865000-1736865000@www.ville-saint-saulve.fr
SUMMARY:Activité seniors - Initiation geste 1er secours
DESCRIPTION:Utilisation du défibrillateur avec Jean-Paul\nLimité à 10 personnes \nRetrouvez le calendrier des animations seniors 2025 en cliquant ici ! \nActivité réservée aux retraités et seniors saint-saulviens\nInscriptions dans la limite des places disponibles et renseignements auprès du service Seniors du pôle accompagner au 03 27 45 05 80 ou par mail à seniors@ville-saint-saulve.fr
URL:https://www.ville-saint-saulve.fr/event/activite-seniors-initiation-geste-1er-secours/
LOCATION:Salle des Fêtes\, 8 place Louis Maillard\, Saint-Saulve\, Hauts-de-France\, 59880\, France
END:VEVENT
BEGIN:VEVENT
DTSTART;TZID=Europe/Paris:20250116T080000
DTEND;TZID=Europe/Paris:20250116T170000
DTSTAMP:20260425T051005
CREATED:20241230T093240Z
LAST-MODIFIED:20241230T093328Z
UID:30666-1737014400-1737046800@www.ville-saint-saulve.fr
SUMMARY:Activité seniors - Atelier Fortier
DESCRIPTION:Yoga du rire\nSe relaxer tout en riant de bon coeur ensemble grâce à des exercices respiratoires simples. Bonne humeur garantie ! \nLimité à 15 personnes \nRetrouvez le calendrier des animations seniors 2025 en cliquant ici ! \nActivité réservée aux retraités et seniors saint-saulviens\nInscriptions dans la limite des places disponibles et renseignements auprès du service Seniors du pôle accompagner au 03 27 45 05 80 ou par mail à seniors@ville-saint-saulve.fr
URL:https://www.ville-saint-saulve.fr/event/activite-seniors-atelier-fortier-17/
LOCATION:Centre de loisirs Fortier\, 44 Rue Henri Barbusse\, Saint-Saulve\, 59880\, France
END:VEVENT
BEGIN:VEVENT
DTSTART;TZID=Europe/Paris:20250120T100000
DTEND;TZID=Europe/Paris:20250120T100000
DTSTAMP:20260425T051005
CREATED:20241230T093437Z
LAST-MODIFIED:20241230T093444Z
UID:30669-1737367200-1737367200@www.ville-saint-saulve.fr
SUMMARY:Activité seniors - Taï Chi
DESCRIPTION:Limité à 10 personnes \nRetrouvez le calendrier des animations seniors 2025 en cliquant ici ! \nActivité réservée aux retraités et seniors saint-saulviens\nInscriptions dans la limite des places disponibles et renseignements auprès du service Seniors du pôle accompagner au 03 27 45 05 80 ou par mail à seniors@ville-saint-saulve.fr
URL:https://www.ville-saint-saulve.fr/event/activite-seniors-tai-chi/
LOCATION:Salle des sports Coubertin\, 33 Rue Roger Salengro\, Saint-Saulve\, 59880\, France
END:VEVENT
BEGIN:VEVENT
DTSTART;TZID=Europe/Paris:20250124T143000
DTEND;TZID=Europe/Paris:20250124T143000
DTSTAMP:20260425T051005
CREATED:20241230T093622Z
LAST-MODIFIED:20241230T093634Z
UID:30671-1737729000-1737729000@www.ville-saint-saulve.fr
SUMMARY:Activité seniors - Spectacle de danses en ligne
DESCRIPTION:Par le club de danses en ligne La Sentinelle\nLimité à 20 personnes \nRetrouvez le calendrier des animations seniors 2025 en cliquant ici ! \nActivité réservée aux retraités et seniors saint-saulviens\nInscriptions dans la limite des places disponibles et renseignements auprès du service Seniors du pôle accompagner au 03 27 45 05 80 ou par mail à seniors@ville-saint-saulve.fr
URL:https://www.ville-saint-saulve.fr/event/activite-seniors-spectacle-de-danses-en-ligne/
LOCATION:Résidence La Chataigneraie\, Avenue de l'Europe\, Saint-Saulve\, 59880\, France
END:VEVENT
BEGIN:VEVENT
DTSTART;TZID=Europe/Paris:20250124T180000
DTEND;TZID=Europe/Paris:20250124T180000
DTSTAMP:20260425T051005
CREATED:20250117T083905Z
LAST-MODIFIED:20250117T083917Z
UID:31021-1737741600-1737741600@www.ville-saint-saulve.fr
SUMMARY:La nuit de la lecture
DESCRIPTION:Le service Culture & la Bibliothèque pour tous vous invitent à passer un moment à la fois intime\, instructif et chaleureux lors de la Nuit de la lecture\, qui se déroulera le vendredi 24 janvier\, à partir de 18h à la bibliothèque\, située à l’entrée de l’espace Athéna (place du 8 mai).\n\n\n C’est la deuxième fois que la Ville & la Bibliothèque prennent part à cet évènement national\, dont le thème porte\, cette année\, sur Les Patrimoines ! Vaste sujet\, ô combien passionnant ! \n\n\n Matériel ou immatériel\, le patrimoine est\, tout à la fois\, un monument\, un texte\, une oeuvre d’art\, un héritage familial\, une chanson\, un.e artiste\, un plat\, un langage… C’est tout cela que nous vous proposons de retracer ensemble\, grâce à plusieurs intervenants\, garants de ces multiples patrimoines. Laissez-vous surprendre !\n\n\n Les enfants sont évidemment les bienvenus.
URL:https://www.ville-saint-saulve.fr/event/la-nuit-de-la-lecture-2/
LOCATION:Bibliothèque Pour Tous\, Espace Athena\, Pl. du 8 Mai 1945\, Saint-Saulve\, 59880\, France
ATTACH;FMTTYPE=image/jpeg:https://www.ville-saint-saulve.fr/wp-content/uploads/affiche_nuit_de_la_lecture_2025_site-scaled.jpg
END:VEVENT
BEGIN:VEVENT
DTSTART;TZID=Europe/Paris:20250124T200000
DTEND;TZID=Europe/Paris:20250124T200000
DTSTAMP:20260425T051005
CREATED:20250108T141912Z
LAST-MODIFIED:20250108T141924Z
UID:30949-1737748800-1737748800@www.ville-saint-saulve.fr
SUMMARY:MJC : Cabaret des oubliés
DESCRIPTION:Tarifs : 15 / 12€
URL:https://www.ville-saint-saulve.fr/event/mjc-cabaret-des-oublies/
LOCATION:Espace Athena\, 2 Pl. du 8 Mai 1945\, Saint-Saulve\, 59880\, France
ATTACH;FMTTYPE=image/jpeg:https://www.ville-saint-saulve.fr/wp-content/uploads/affiche-cabaret-des-oublies-web.jpg
ORGANIZER;CN="MJC":MAILTO:accueil@mjc-athena.org
END:VEVENT
BEGIN:VEVENT
DTSTART;TZID=Europe/Paris:20250126T140000
DTEND;TZID=Europe/Paris:20250126T140000
DTSTAMP:20260425T051005
CREATED:20241219T162601Z
LAST-MODIFIED:20241219T162608Z
UID:30598-1737900000-1737900000@www.ville-saint-saulve.fr
SUMMARY:Super loto traditionnel
DESCRIPTION:Dimanche 26 janvier à partir de 14h\nSuper Loto traditionnel organisé par le Basket club de Saint-Saulve\, à la salle des fêtes.\n12 tirages durant l’après-midi + 1 tirage spécial\, à la clé\, 6 132 € en bons d’achat.\n5€ le grand carton.
URL:https://www.ville-saint-saulve.fr/event/super-loto-traditionnel-33/
LOCATION:Salle des Fêtes\, 8 place Louis Maillard\, Saint-Saulve\, Hauts-de-France\, 59880\, France
ATTACH;FMTTYPE=image/jpeg:https://www.ville-saint-saulve.fr/wp-content/uploads/Colore-Illustre-Evenement-Super-Loto-Affiche-A3.jpg
END:VEVENT
END:VCALENDAR