BEGIN:VCALENDAR
VERSION:2.0
PRODID:-//Ville de Saint Saulve - ECPv6.15.20//NONSGML v1.0//EN
CALSCALE:GREGORIAN
METHOD:PUBLISH
X-ORIGINAL-URL:https://www.ville-saint-saulve.fr
X-WR-CALDESC:Évènements pour Ville de Saint Saulve
REFRESH-INTERVAL;VALUE=DURATION:PT1H
X-Robots-Tag:noindex
X-PUBLISHED-TTL:PT1H
BEGIN:VTIMEZONE
TZID:Europe/Paris
BEGIN:DAYLIGHT
TZOFFSETFROM:+0100
TZOFFSETTO:+0200
TZNAME:CEST
DTSTART:19760328T000000
END:DAYLIGHT
BEGIN:STANDARD
TZOFFSETFROM:+0200
TZOFFSETTO:+0100
TZNAME:CET
DTSTART:19760925T230000
END:STANDARD
BEGIN:DAYLIGHT
TZOFFSETFROM:+0100
TZOFFSETTO:+0200
TZNAME:CEST
DTSTART:19770403T010000
END:DAYLIGHT
BEGIN:STANDARD
TZOFFSETFROM:+0200
TZOFFSETTO:+0100
TZNAME:CET
DTSTART:19770925T010000
END:STANDARD
BEGIN:DAYLIGHT
TZOFFSETFROM:+0100
TZOFFSETTO:+0200
TZNAME:CEST
DTSTART:19780402T010000
END:DAYLIGHT
BEGIN:STANDARD
TZOFFSETFROM:+0200
TZOFFSETTO:+0100
TZNAME:CET
DTSTART:19781001T010000
END:STANDARD
BEGIN:DAYLIGHT
TZOFFSETFROM:+0100
TZOFFSETTO:+0200
TZNAME:CEST
DTSTART:19790401T010000
END:DAYLIGHT
BEGIN:STANDARD
TZOFFSETFROM:+0200
TZOFFSETTO:+0100
TZNAME:CET
DTSTART:19790930T010000
END:STANDARD
BEGIN:DAYLIGHT
TZOFFSETFROM:+0100
TZOFFSETTO:+0200
TZNAME:CEST
DTSTART:19800406T010000
END:DAYLIGHT
BEGIN:STANDARD
TZOFFSETFROM:+0200
TZOFFSETTO:+0100
TZNAME:CET
DTSTART:19800928T010000
END:STANDARD
BEGIN:DAYLIGHT
TZOFFSETFROM:+0100
TZOFFSETTO:+0200
TZNAME:CEST
DTSTART:19810329T010000
END:DAYLIGHT
BEGIN:STANDARD
TZOFFSETFROM:+0200
TZOFFSETTO:+0100
TZNAME:CET
DTSTART:19810927T010000
END:STANDARD
BEGIN:DAYLIGHT
TZOFFSETFROM:+0100
TZOFFSETTO:+0200
TZNAME:CEST
DTSTART:19820328T010000
END:DAYLIGHT
BEGIN:STANDARD
TZOFFSETFROM:+0200
TZOFFSETTO:+0100
TZNAME:CET
DTSTART:19820926T010000
END:STANDARD
BEGIN:DAYLIGHT
TZOFFSETFROM:+0100
TZOFFSETTO:+0200
TZNAME:CEST
DTSTART:19830327T010000
END:DAYLIGHT
BEGIN:STANDARD
TZOFFSETFROM:+0200
TZOFFSETTO:+0100
TZNAME:CET
DTSTART:19830925T010000
END:STANDARD
BEGIN:DAYLIGHT
TZOFFSETFROM:+0100
TZOFFSETTO:+0200
TZNAME:CEST
DTSTART:19840325T010000
END:DAYLIGHT
BEGIN:STANDARD
TZOFFSETFROM:+0200
TZOFFSETTO:+0100
TZNAME:CET
DTSTART:19840930T010000
END:STANDARD
BEGIN:DAYLIGHT
TZOFFSETFROM:+0100
TZOFFSETTO:+0200
TZNAME:CEST
DTSTART:19850331T010000
END:DAYLIGHT
BEGIN:STANDARD
TZOFFSETFROM:+0200
TZOFFSETTO:+0100
TZNAME:CET
DTSTART:19850929T010000
END:STANDARD
BEGIN:DAYLIGHT
TZOFFSETFROM:+0100
TZOFFSETTO:+0200
TZNAME:CEST
DTSTART:19860330T010000
END:DAYLIGHT
BEGIN:STANDARD
TZOFFSETFROM:+0200
TZOFFSETTO:+0100
TZNAME:CET
DTSTART:19860928T010000
END:STANDARD
BEGIN:DAYLIGHT
TZOFFSETFROM:+0100
TZOFFSETTO:+0200
TZNAME:CEST
DTSTART:19870329T010000
END:DAYLIGHT
BEGIN:STANDARD
TZOFFSETFROM:+0200
TZOFFSETTO:+0100
TZNAME:CET
DTSTART:19870927T010000
END:STANDARD
BEGIN:DAYLIGHT
TZOFFSETFROM:+0100
TZOFFSETTO:+0200
TZNAME:CEST
DTSTART:19880327T010000
END:DAYLIGHT
BEGIN:STANDARD
TZOFFSETFROM:+0200
TZOFFSETTO:+0100
TZNAME:CET
DTSTART:19880925T010000
END:STANDARD
BEGIN:DAYLIGHT
TZOFFSETFROM:+0100
TZOFFSETTO:+0200
TZNAME:CEST
DTSTART:19890326T010000
END:DAYLIGHT
BEGIN:STANDARD
TZOFFSETFROM:+0200
TZOFFSETTO:+0100
TZNAME:CET
DTSTART:19890924T010000
END:STANDARD
BEGIN:DAYLIGHT
TZOFFSETFROM:+0100
TZOFFSETTO:+0200
TZNAME:CEST
DTSTART:19900325T010000
END:DAYLIGHT
BEGIN:STANDARD
TZOFFSETFROM:+0200
TZOFFSETTO:+0100
TZNAME:CET
DTSTART:19900930T010000
END:STANDARD
BEGIN:DAYLIGHT
TZOFFSETFROM:+0100
TZOFFSETTO:+0200
TZNAME:CEST
DTSTART:19910331T010000
END:DAYLIGHT
BEGIN:STANDARD
TZOFFSETFROM:+0200
TZOFFSETTO:+0100
TZNAME:CET
DTSTART:19910929T010000
END:STANDARD
BEGIN:DAYLIGHT
TZOFFSETFROM:+0100
TZOFFSETTO:+0200
TZNAME:CEST
DTSTART:19920329T010000
END:DAYLIGHT
BEGIN:STANDARD
TZOFFSETFROM:+0200
TZOFFSETTO:+0100
TZNAME:CET
DTSTART:19920927T010000
END:STANDARD
BEGIN:DAYLIGHT
TZOFFSETFROM:+0100
TZOFFSETTO:+0200
TZNAME:CEST
DTSTART:19930328T010000
END:DAYLIGHT
BEGIN:STANDARD
TZOFFSETFROM:+0200
TZOFFSETTO:+0100
TZNAME:CET
DTSTART:19930926T010000
END:STANDARD
BEGIN:DAYLIGHT
TZOFFSETFROM:+0100
TZOFFSETTO:+0200
TZNAME:CEST
DTSTART:19940327T010000
END:DAYLIGHT
BEGIN:STANDARD
TZOFFSETFROM:+0200
TZOFFSETTO:+0100
TZNAME:CET
DTSTART:19940925T010000
END:STANDARD
BEGIN:DAYLIGHT
TZOFFSETFROM:+0100
TZOFFSETTO:+0200
TZNAME:CEST
DTSTART:19950326T010000
END:DAYLIGHT
BEGIN:STANDARD
TZOFFSETFROM:+0200
TZOFFSETTO:+0100
TZNAME:CET
DTSTART:19950924T010000
END:STANDARD
BEGIN:DAYLIGHT
TZOFFSETFROM:+0100
TZOFFSETTO:+0200
TZNAME:CEST
DTSTART:19960331T010000
END:DAYLIGHT
BEGIN:STANDARD
TZOFFSETFROM:+0200
TZOFFSETTO:+0100
TZNAME:CET
DTSTART:19961027T010000
END:STANDARD
BEGIN:DAYLIGHT
TZOFFSETFROM:+0100
TZOFFSETTO:+0200
TZNAME:CEST
DTSTART:19970330T010000
END:DAYLIGHT
BEGIN:STANDARD
TZOFFSETFROM:+0200
TZOFFSETTO:+0100
TZNAME:CET
DTSTART:19971026T010000
END:STANDARD
BEGIN:DAYLIGHT
TZOFFSETFROM:+0100
TZOFFSETTO:+0200
TZNAME:CEST
DTSTART:19980329T010000
END:DAYLIGHT
BEGIN:STANDARD
TZOFFSETFROM:+0200
TZOFFSETTO:+0100
TZNAME:CET
DTSTART:19981025T010000
END:STANDARD
BEGIN:DAYLIGHT
TZOFFSETFROM:+0100
TZOFFSETTO:+0200
TZNAME:CEST
DTSTART:19990328T010000
END:DAYLIGHT
BEGIN:STANDARD
TZOFFSETFROM:+0200
TZOFFSETTO:+0100
TZNAME:CET
DTSTART:19991031T010000
END:STANDARD
BEGIN:DAYLIGHT
TZOFFSETFROM:+0100
TZOFFSETTO:+0200
TZNAME:CEST
DTSTART:20000326T010000
END:DAYLIGHT
BEGIN:STANDARD
TZOFFSETFROM:+0200
TZOFFSETTO:+0100
TZNAME:CET
DTSTART:20001029T010000
END:STANDARD
BEGIN:DAYLIGHT
TZOFFSETFROM:+0100
TZOFFSETTO:+0200
TZNAME:CEST
DTSTART:20010325T010000
END:DAYLIGHT
BEGIN:STANDARD
TZOFFSETFROM:+0200
TZOFFSETTO:+0100
TZNAME:CET
DTSTART:20011028T010000
END:STANDARD
BEGIN:DAYLIGHT
TZOFFSETFROM:+0100
TZOFFSETTO:+0200
TZNAME:CEST
DTSTART:20020331T010000
END:DAYLIGHT
BEGIN:STANDARD
TZOFFSETFROM:+0200
TZOFFSETTO:+0100
TZNAME:CET
DTSTART:20021027T010000
END:STANDARD
BEGIN:DAYLIGHT
TZOFFSETFROM:+0100
TZOFFSETTO:+0200
TZNAME:CEST
DTSTART:20030330T010000
END:DAYLIGHT
BEGIN:STANDARD
TZOFFSETFROM:+0200
TZOFFSETTO:+0100
TZNAME:CET
DTSTART:20031026T010000
END:STANDARD
BEGIN:DAYLIGHT
TZOFFSETFROM:+0100
TZOFFSETTO:+0200
TZNAME:CEST
DTSTART:20040328T010000
END:DAYLIGHT
BEGIN:STANDARD
TZOFFSETFROM:+0200
TZOFFSETTO:+0100
TZNAME:CET
DTSTART:20041031T010000
END:STANDARD
BEGIN:DAYLIGHT
TZOFFSETFROM:+0100
TZOFFSETTO:+0200
TZNAME:CEST
DTSTART:20050327T010000
END:DAYLIGHT
BEGIN:STANDARD
TZOFFSETFROM:+0200
TZOFFSETTO:+0100
TZNAME:CET
DTSTART:20051030T010000
END:STANDARD
BEGIN:DAYLIGHT
TZOFFSETFROM:+0100
TZOFFSETTO:+0200
TZNAME:CEST
DTSTART:20060326T010000
END:DAYLIGHT
BEGIN:STANDARD
TZOFFSETFROM:+0200
TZOFFSETTO:+0100
TZNAME:CET
DTSTART:20061029T010000
END:STANDARD
BEGIN:DAYLIGHT
TZOFFSETFROM:+0100
TZOFFSETTO:+0200
TZNAME:CEST
DTSTART:20070325T010000
END:DAYLIGHT
BEGIN:STANDARD
TZOFFSETFROM:+0200
TZOFFSETTO:+0100
TZNAME:CET
DTSTART:20071028T010000
END:STANDARD
BEGIN:DAYLIGHT
TZOFFSETFROM:+0100
TZOFFSETTO:+0200
TZNAME:CEST
DTSTART:20080330T010000
END:DAYLIGHT
BEGIN:STANDARD
TZOFFSETFROM:+0200
TZOFFSETTO:+0100
TZNAME:CET
DTSTART:20081026T010000
END:STANDARD
BEGIN:DAYLIGHT
TZOFFSETFROM:+0100
TZOFFSETTO:+0200
TZNAME:CEST
DTSTART:20090329T010000
END:DAYLIGHT
BEGIN:STANDARD
TZOFFSETFROM:+0200
TZOFFSETTO:+0100
TZNAME:CET
DTSTART:20091025T010000
END:STANDARD
BEGIN:DAYLIGHT
TZOFFSETFROM:+0100
TZOFFSETTO:+0200
TZNAME:CEST
DTSTART:20100328T010000
END:DAYLIGHT
BEGIN:STANDARD
TZOFFSETFROM:+0200
TZOFFSETTO:+0100
TZNAME:CET
DTSTART:20101031T010000
END:STANDARD
BEGIN:DAYLIGHT
TZOFFSETFROM:+0100
TZOFFSETTO:+0200
TZNAME:CEST
DTSTART:20110327T010000
END:DAYLIGHT
BEGIN:STANDARD
TZOFFSETFROM:+0200
TZOFFSETTO:+0100
TZNAME:CET
DTSTART:20111030T010000
END:STANDARD
BEGIN:DAYLIGHT
TZOFFSETFROM:+0100
TZOFFSETTO:+0200
TZNAME:CEST
DTSTART:20120325T010000
END:DAYLIGHT
BEGIN:STANDARD
TZOFFSETFROM:+0200
TZOFFSETTO:+0100
TZNAME:CET
DTSTART:20121028T010000
END:STANDARD
BEGIN:DAYLIGHT
TZOFFSETFROM:+0100
TZOFFSETTO:+0200
TZNAME:CEST
DTSTART:20130331T010000
END:DAYLIGHT
BEGIN:STANDARD
TZOFFSETFROM:+0200
TZOFFSETTO:+0100
TZNAME:CET
DTSTART:20131027T010000
END:STANDARD
BEGIN:DAYLIGHT
TZOFFSETFROM:+0100
TZOFFSETTO:+0200
TZNAME:CEST
DTSTART:20140330T010000
END:DAYLIGHT
BEGIN:STANDARD
TZOFFSETFROM:+0200
TZOFFSETTO:+0100
TZNAME:CET
DTSTART:20141026T010000
END:STANDARD
BEGIN:DAYLIGHT
TZOFFSETFROM:+0100
TZOFFSETTO:+0200
TZNAME:CEST
DTSTART:20150329T010000
END:DAYLIGHT
BEGIN:STANDARD
TZOFFSETFROM:+0200
TZOFFSETTO:+0100
TZNAME:CET
DTSTART:20151025T010000
END:STANDARD
BEGIN:DAYLIGHT
TZOFFSETFROM:+0100
TZOFFSETTO:+0200
TZNAME:CEST
DTSTART:20160327T010000
END:DAYLIGHT
BEGIN:STANDARD
TZOFFSETFROM:+0200
TZOFFSETTO:+0100
TZNAME:CET
DTSTART:20161030T010000
END:STANDARD
BEGIN:DAYLIGHT
TZOFFSETFROM:+0100
TZOFFSETTO:+0200
TZNAME:CEST
DTSTART:20170326T010000
END:DAYLIGHT
BEGIN:STANDARD
TZOFFSETFROM:+0200
TZOFFSETTO:+0100
TZNAME:CET
DTSTART:20171029T010000
END:STANDARD
BEGIN:DAYLIGHT
TZOFFSETFROM:+0100
TZOFFSETTO:+0200
TZNAME:CEST
DTSTART:20180325T010000
END:DAYLIGHT
BEGIN:STANDARD
TZOFFSETFROM:+0200
TZOFFSETTO:+0100
TZNAME:CET
DTSTART:20181028T010000
END:STANDARD
BEGIN:DAYLIGHT
TZOFFSETFROM:+0100
TZOFFSETTO:+0200
TZNAME:CEST
DTSTART:20190331T010000
END:DAYLIGHT
BEGIN:STANDARD
TZOFFSETFROM:+0200
TZOFFSETTO:+0100
TZNAME:CET
DTSTART:20191027T010000
END:STANDARD
BEGIN:DAYLIGHT
TZOFFSETFROM:+0100
TZOFFSETTO:+0200
TZNAME:CEST
DTSTART:20200329T010000
END:DAYLIGHT
BEGIN:STANDARD
TZOFFSETFROM:+0200
TZOFFSETTO:+0100
TZNAME:CET
DTSTART:20201025T010000
END:STANDARD
BEGIN:DAYLIGHT
TZOFFSETFROM:+0100
TZOFFSETTO:+0200
TZNAME:CEST
DTSTART:20210328T010000
END:DAYLIGHT
BEGIN:STANDARD
TZOFFSETFROM:+0200
TZOFFSETTO:+0100
TZNAME:CET
DTSTART:20211031T010000
END:STANDARD
BEGIN:DAYLIGHT
TZOFFSETFROM:+0100
TZOFFSETTO:+0200
TZNAME:CEST
DTSTART:20220327T010000
END:DAYLIGHT
BEGIN:STANDARD
TZOFFSETFROM:+0200
TZOFFSETTO:+0100
TZNAME:CET
DTSTART:20221030T010000
END:STANDARD
BEGIN:DAYLIGHT
TZOFFSETFROM:+0100
TZOFFSETTO:+0200
TZNAME:CEST
DTSTART:20230326T010000
END:DAYLIGHT
BEGIN:STANDARD
TZOFFSETFROM:+0200
TZOFFSETTO:+0100
TZNAME:CET
DTSTART:20231029T010000
END:STANDARD
BEGIN:DAYLIGHT
TZOFFSETFROM:+0100
TZOFFSETTO:+0200
TZNAME:CEST
DTSTART:20240331T010000
END:DAYLIGHT
BEGIN:STANDARD
TZOFFSETFROM:+0200
TZOFFSETTO:+0100
TZNAME:CET
DTSTART:20241027T010000
END:STANDARD
BEGIN:DAYLIGHT
TZOFFSETFROM:+0100
TZOFFSETTO:+0200
TZNAME:CEST
DTSTART:20250330T010000
END:DAYLIGHT
BEGIN:STANDARD
TZOFFSETFROM:+0200
TZOFFSETTO:+0100
TZNAME:CET
DTSTART:20251026T010000
END:STANDARD
BEGIN:DAYLIGHT
TZOFFSETFROM:+0100
TZOFFSETTO:+0200
TZNAME:CEST
DTSTART:20260329T010000
END:DAYLIGHT
BEGIN:STANDARD
TZOFFSETFROM:+0200
TZOFFSETTO:+0100
TZNAME:CET
DTSTART:20261025T010000
END:STANDARD
END:VTIMEZONE
BEGIN:VEVENT
DTSTART;TZID=Europe/Paris:20260425T004122
DTEND;TZID=Europe/Paris:20250518T000000
DTSTAMP:20260425T004122
CREATED:20250429T121405Z
LAST-MODIFIED:20250429T121409Z
UID:32160-0-1747526400@www.ville-saint-saulve.fr
SUMMARY:Spectacle Harmonia Sacra
DESCRIPTION:
URL:https://www.ville-saint-saulve.fr/event/spectacle-harmonia-sacra-2/
LOCATION:Espace Athena\, 2 Pl. du 8 Mai 1945\, Saint-Saulve\, 59880\, France
END:VEVENT
BEGIN:VEVENT
DTSTART;TZID=Europe/Paris:20250403T100000
DTEND;TZID=Europe/Paris:20250403T120000
DTSTAMP:20260425T004122
CREATED:20250204T075543Z
LAST-MODIFIED:20250204T075607Z
UID:31227-1743674400-1743681600@www.ville-saint-saulve.fr
SUMMARY:Atelier numérique seniors
DESCRIPTION:> Comment utiliser le site des impôts\, site fournisseur d’énergie\, eau\, etc\n\n Ateliers Numériques pour Seniors – Découvrez le numérique à votre rythme ! \n\n\nLe CCAS de Saint-Saulve propose des ateliers numériques gratuits\, animés par Léopold et Manon\, jeunes en service civique de l’association Unis-cité. Ces ateliers sont spécialement conçus pour accompagner les seniors dans la découverte et l’utilisation des outils numériques.\n\n\n\n Horaires : 10h à 12h\n Lieu : CCAS (140 rue Jean Jaurès)\n Groupe limité à 6 personnes par atelier.\n\n\n\nVenez avec votre outil numérique (smartphone\, tablette ou ordinateur portable) et apprenez à mieux l’utiliser pour vos démarches quotidiennes\, rester en contact avec vos proches ou explorer de nouveaux horizons numériques.\n\n\n\n Réservation obligatoire auprès de l’accueil du CCAS au 03 27 45 05 80.
URL:https://www.ville-saint-saulve.fr/event/atelier-numerique-seniors-7/
LOCATION:CCAS\, 140 Rue Jean jaures\, SAINT-SAULVE\, Sélectionner un État :\, 59880\, France
ATTACH;FMTTYPE=image/jpeg:https://www.ville-saint-saulve.fr/wp-content/uploads/affiche_ateliers_numeriques-scaled.jpg
END:VEVENT
BEGIN:VEVENT
DTSTART;TZID=Europe/Paris:20250403T140000
DTEND;TZID=Europe/Paris:20250403T140000
DTSTAMP:20260425T004122
CREATED:20250321T104559Z
LAST-MODIFIED:20250321T104604Z
UID:31631-1743688800-1743688800@www.ville-saint-saulve.fr
SUMMARY:Activité seniors : Atelier Fortier
DESCRIPTION:Improvisation\nQuelques petits exercices simples et ludiques pour vous familiariser avec l’improvisation dans une ambiance bon enfant. \nRetrouvez le calendrier des animations seniors 2025 en cliquant ici ! \nActivité réservée aux retraités et seniors saint-saulviens\nInscriptions dans la limite des places disponibles et renseignements auprès du service Seniors du pôle accompagner au 03 27 45 05 80 ou par mail à seniors@ville-saint-saulve.fr
URL:https://www.ville-saint-saulve.fr/event/activite-seniors-atelier-fortier-19/
LOCATION:Centre de loisirs Fortier\, 44 Rue Henri Barbusse\, Saint-Saulve\, 59880\, France
END:VEVENT
BEGIN:VEVENT
DTSTART;TZID=Europe/Paris:20250404T180000
DTEND;TZID=Europe/Paris:20250404T203000
DTSTAMP:20260425T004122
CREATED:20250324T081626Z
LAST-MODIFIED:20250324T081637Z
UID:31651-1743789600-1743798600@www.ville-saint-saulve.fr
SUMMARY:Pool Party
DESCRIPTION:🎉 Pool Party à la piscine municipale 🎶 \nVenez profiter d’une soirée au bord de l’eau ! \nNous vous invitons à une Pool Party\, animée par un DJ qui mettra l’ambiance avec des sons frais et entraînants. 🌊💃🕺 \n🗓 Date : Vendredi 4 avril⏰ Heure : De 18h à 20h30📍 Lieu : Piscine municipale \n🎧 Au programme : \n\n\nMusique avec notre DJ \n\n\nAmbiance festive et conviviale \n\n\nEntrée gratuite et ouverte à tous ! \n\n\nVenez avec vos amis\, votre bonne humeur et préparez-vous à vous amuser dans l’eau et sur la piste de danse ! \n🔥 À ne pas manquer !
URL:https://www.ville-saint-saulve.fr/event/pool-party-2/
LOCATION:Piscine municipale\, 2 Av. Robert Schuman\, Saint-Saulve\, 59880\, France
ATTACH;FMTTYPE=image/jpeg:https://www.ville-saint-saulve.fr/wp-content/uploads/POOL-PARTY-2.jpeg
END:VEVENT
BEGIN:VEVENT
DTSTART;VALUE=DATE:20250405
DTEND;VALUE=DATE:20250407
DTSTAMP:20260425T004122
CREATED:20250320T091512Z
LAST-MODIFIED:20250320T091550Z
UID:31627-1743811200-1743983999@www.ville-saint-saulve.fr
SUMMARY:Game in Saint-Saulve
DESCRIPTION:Tu es geek ? Tu collectionnes les mangas ?\nTu as du mal à lâcher tes jeux vidéos ?\nTu aimes entrer dans la peau de tes personnages de fiction préférés ?\nTa playlist est envahie de k-pop ?\nTu es un adepte des jeux de société ?\n\n\n\nLe GAMEIN Saint-Saulve n’attend que toi. \n\n\n Découvre ce qui t’attend ici !\n Tu veux participer au concours Cosplay ? C’est ici !
URL:https://www.ville-saint-saulve.fr/event/game-in-saint-saulve-3/
LOCATION:Salle des Fêtes\, 8 place Louis Maillard\, Saint-Saulve\, Hauts-de-France\, 59880\, France
ATTACH;FMTTYPE=image/jpeg:https://www.ville-saint-saulve.fr/wp-content/uploads/affiche_game_in_2025-scaled.jpg
END:VEVENT
BEGIN:VEVENT
DTSTART;TZID=Europe/Paris:20250407T190000
DTEND;TZID=Europe/Paris:20250407T190000
DTSTAMP:20260425T004122
CREATED:20250325T143957Z
LAST-MODIFIED:20250325T144009Z
UID:31683-1744052400-1744052400@www.ville-saint-saulve.fr
SUMMARY:Réunion du conseil municipal
DESCRIPTION:Le conseil municipal se réunira le lundi 7 avril à 19h à l’hôtel de ville. \nConsulter l’ordre du jour
URL:https://www.ville-saint-saulve.fr/event/reunion-du-conseil-municipal-17/
LOCATION:Mairie\, 146 Rue Jean jaures\, St-Saulve\, Haut-de-France\, 59880\, France
ATTACH;FMTTYPE=image/jpeg:https://www.ville-saint-saulve.fr/wp-content/uploads/2022/11/316417265_541470508017172_8437615211820158479_n.jpeg
END:VEVENT
BEGIN:VEVENT
DTSTART;TZID=Europe/Paris:20250408T143000
DTEND;TZID=Europe/Paris:20250408T143000
DTSTAMP:20260425T004122
CREATED:20250321T105111Z
LAST-MODIFIED:20250321T105119Z
UID:31634-1744122600-1744122600@www.ville-saint-saulve.fr
SUMMARY:Activité seniors : initiation geste 1er secours
DESCRIPTION:Utilisation du défibrillateur avec Jean-Paul\nLieu à définir \nLimité à 10 personnes \nRetrouvez le calendrier des animations seniors 2025 en cliquant ici ! \nActivité réservée aux retraités et seniors saint-saulviens\nInscriptions dans la limite des places disponibles et renseignements auprès du service Seniors du pôle accompagner au 03 27 45 05 80 ou par mail à seniors@ville-saint-saulve.fr
URL:https://www.ville-saint-saulve.fr/event/activite-seniors-initiation-geste-1er-secours-3/
END:VEVENT
BEGIN:VEVENT
DTSTART;TZID=Europe/Paris:20250408T143000
DTEND;TZID=Europe/Paris:20250408T143000
DTSTAMP:20260425T004122
CREATED:20250321T105303Z
LAST-MODIFIED:20250321T105308Z
UID:31636-1744122600-1744122600@www.ville-saint-saulve.fr
SUMMARY:Activité seniors : Activités manuelles avec Colette
DESCRIPTION:Activités manuelles avec Colette\nPliage de serviettes pour la table de Pâques. Possibilité de venir avec son petit-enfant ! \nLieu à définir \nLimité à 10 personnes \nRetrouvez le calendrier des animations seniors 2025 en cliquant ici ! \nActivité réservée aux retraités et seniors saint-saulviens\nInscriptions dans la limite des places disponibles et renseignements auprès du service Seniors du pôle accompagner au 03 27 45 05 80 ou par mail à seniors@ville-saint-saulve.fr
URL:https://www.ville-saint-saulve.fr/event/activite-seniors-activites-manuelles-avec-colette/
END:VEVENT
BEGIN:VEVENT
DTSTART;TZID=Europe/Paris:20250413T090000
DTEND;TZID=Europe/Paris:20250413T130000
DTSTAMP:20260425T004122
CREATED:20250107T102101Z
LAST-MODIFIED:20250107T102101Z
UID:30928-1744534800-1744549200@www.ville-saint-saulve.fr
SUMMARY:Marché du terroir et de l'artisanat
DESCRIPTION:
URL:https://www.ville-saint-saulve.fr/event/marche-du-terroir-et-de-lartisanat-15/
LOCATION:Mairie\, 146 Rue Jean jaures\, St-Saulve\, Haut-de-France\, 59880\, France
ATTACH;FMTTYPE=image/jpeg:https://www.ville-saint-saulve.fr/wp-content/uploads/affiche_marche_terroir_artisanat_avril_2025-scaled.jpg
END:VEVENT
BEGIN:VEVENT
DTSTART;TZID=Europe/Paris:20250414T100000
DTEND;TZID=Europe/Paris:20250414T100000
DTSTAMP:20260425T004122
CREATED:20250321T105427Z
LAST-MODIFIED:20250321T105435Z
UID:31638-1744624800-1744624800@www.ville-saint-saulve.fr
SUMMARY:Activité seniors : Taï Chi
DESCRIPTION:Taï Chi\nLimité à 10 personnes \nRetrouvez le calendrier des animations seniors 2025 en cliquant ici ! \nActivité réservée aux retraités et seniors saint-saulviens\nInscriptions dans la limite des places disponibles et renseignements auprès du service Seniors du pôle accompagner au 03 27 45 05 80 ou par mail à seniors@ville-saint-saulve.fr
URL:https://www.ville-saint-saulve.fr/event/activite-seniors-tai-chi-3/
LOCATION:Salle des sports Coubertin\, 33 Rue Roger Salengro\, Saint-Saulve\, 59880\, France
END:VEVENT
BEGIN:VEVENT
DTSTART;TZID=Europe/Paris:20250415T103000
DTEND;TZID=Europe/Paris:20250415T123000
DTSTAMP:20260425T004122
CREATED:20250325T101755Z
LAST-MODIFIED:20250325T101800Z
UID:31670-1744713000-1744720200@www.ville-saint-saulve.fr
SUMMARY:URBAN GAMES
DESCRIPTION:Journée Urban Games – Graff et Freestyle au programme ! \n\n\n\nDans le cadre du dispositif Quartier 2030\, le service municipal des sports te propose une journée Urban Games\, le mardi 15 avril à la salle Schuman\, réservée aux jeunes Saint-Saulviens de 10 à 16 ans. Une journée placée sous le signe de la culture urbaine\, où sports urbains et art du graff se rencontrent !\n\n\n\n Ateliers Graff animés par l’association Si t’es Show\n Initiations et démonstrations de foot et basket freestyle avec les intervenants de l’agence événementielle Le cercle\n\n\n\n Au programme :\n De 10h30 à 12h30 : atelier graff + démonstration/initiation au foot freestyle (24 personnes max.)\n De 15h à 17h : atelier graff + démonstration/initiation au basket freestyle (24 personnes max.)\n\n\n\n Sur inscription obligatoire par mail à l’adresse blehaut.c@ville-saint-saulve.fr.\nPrécise bien dans ton mail :\n ton nom\n ton prénom\n ton âge\n le.s créneau.x auquel.s tu veux participer\n le numéro de tél. d’un de tes parents\n\n\n\nNe rate pas l’occasion de découvrir l’univers du street art et du freestyle !
URL:https://www.ville-saint-saulve.fr/event/urban-games/
LOCATION:Salle des Sports Schuman\, Avenue Robert Schuman\, Saint-Saulve\, Hauts-de-France\, 59880\, France
ATTACH;FMTTYPE=image/jpeg:https://www.ville-saint-saulve.fr/wp-content/uploads/affiche_urban_games-scaled.jpg
END:VEVENT
BEGIN:VEVENT
DTSTART;TZID=Europe/Paris:20250415T150000
DTEND;TZID=Europe/Paris:20250415T170000
DTSTAMP:20260425T004122
CREATED:20250325T101849Z
LAST-MODIFIED:20250325T101849Z
UID:31672-1744729200-1744736400@www.ville-saint-saulve.fr
SUMMARY:URBAN GAMES
DESCRIPTION:Journée Urban Games – Graff et Freestyle au programme ! \n\n\n\nDans le cadre du dispositif Quartier 2030\, le service municipal des sports te propose une journée Urban Games\, le mardi 15 avril à la salle Schuman\, réservée aux jeunes Saint-Saulviens de 10 à 16 ans. Une journée placée sous le signe de la culture urbaine\, où sports urbains et art du graff se rencontrent !\n\n\n\n Ateliers Graff animés par l’association Si t’es Show\n Initiations et démonstrations de foot et basket freestyle avec les intervenants de l’agence événementielle Le cercle\n\n\n\n Au programme :\n De 10h30 à 12h30 : atelier graff + démonstration/initiation au foot freestyle (24 personnes max.)\n De 15h à 17h : atelier graff + démonstration/initiation au basket freestyle (24 personnes max.)\n\n\n\n Sur inscription obligatoire par mail à l’adresse blehaut.c@ville-saint-saulve.fr.\nPrécise bien dans ton mail :\n ton nom\n ton prénom\n ton âge\n le.s créneau.x auquel.s tu veux participer\n le numéro de tél. d’un de tes parents\n\n\n\nNe rate pas l’occasion de découvrir l’univers du street art et du freestyle !
URL:https://www.ville-saint-saulve.fr/event/urban-games-2/
LOCATION:Salle des Sports Schuman\, Avenue Robert Schuman\, Saint-Saulve\, Hauts-de-France\, 59880\, France
ATTACH;FMTTYPE=image/jpeg:https://www.ville-saint-saulve.fr/wp-content/uploads/affiche_urban_games-scaled.jpg
END:VEVENT
BEGIN:VEVENT
DTSTART;TZID=Europe/Paris:20250420T140000
DTEND;TZID=Europe/Paris:20250420T140000
DTSTAMP:20260425T004122
CREATED:20250407T081315Z
LAST-MODIFIED:20250407T081320Z
UID:31848-1745157600-1745157600@www.ville-saint-saulve.fr
SUMMARY:Grand loto
DESCRIPTION:Dimanche 20 avril à partir de 14h\nGrand loto organisé par l’amicale laïque des écoles du centre\, à la salle des fêtes.\nÀ la clé\, 4 740 € en bons d’achat.\nAu profit des écoles du Centre et du Moulin Rouge. \nOuverture des portes à 12h \nPetite restauration sur place.\nRéservations au 06 98 88 50 29
URL:https://www.ville-saint-saulve.fr/event/grand-loto/
LOCATION:Salle des Fêtes\, 8 place Louis Maillard\, Saint-Saulve\, Hauts-de-France\, 59880\, France
ATTACH;FMTTYPE=image/jpeg:https://www.ville-saint-saulve.fr/wp-content/uploads/loto.jpg
END:VEVENT
BEGIN:VEVENT
DTSTART;TZID=Europe/Paris:20250424T100000
DTEND;TZID=Europe/Paris:20250424T120000
DTSTAMP:20260425T004122
CREATED:20250204T083351Z
LAST-MODIFIED:20250204T083424Z
UID:31235-1745488800-1745496000@www.ville-saint-saulve.fr
SUMMARY:Atelier numérique seniors
DESCRIPTION:> Comment bien faire un achat sur internet et regarder des avis\, ne pas enregistrer sa carte bancaire\n\n Ateliers Numériques pour Seniors – Découvrez le numérique à votre rythme ! \n\n\nLe CCAS de Saint-Saulve propose des ateliers numériques gratuits\, animés par Léopold et Manon\, jeunes en service civique de l’association Unis-cité. Ces ateliers sont spécialement conçus pour accompagner les seniors dans la découverte et l’utilisation des outils numériques.\n\n\n\n Horaires : 10h à 12h\n Lieu : CCAS (140 rue Jean Jaurès)\n Groupe limité à 6 personnes par atelier.\n\n\n\nVenez avec votre outil numérique (smartphone\, tablette ou ordinateur portable) et apprenez à mieux l’utiliser pour vos démarches quotidiennes\, rester en contact avec vos proches ou explorer de nouveaux horizons numériques.\n\n\n\n Réservation obligatoire auprès de l’accueil du CCAS au 03 27 45 05 80.
URL:https://www.ville-saint-saulve.fr/event/atelier-numerique-seniors-10/
LOCATION:CCAS\, 140 Rue Jean jaures\, SAINT-SAULVE\, Sélectionner un État :\, 59880\, France
ATTACH;FMTTYPE=image/jpeg:https://www.ville-saint-saulve.fr/wp-content/uploads/affiche_ateliers_numeriques-scaled.jpg
END:VEVENT
BEGIN:VEVENT
DTSTART;TZID=Europe/Paris:20250424T143000
DTEND;TZID=Europe/Paris:20250424T143000
DTSTAMP:20260425T004122
CREATED:20250321T105708Z
LAST-MODIFIED:20250321T105713Z
UID:31640-1745505000-1745505000@www.ville-saint-saulve.fr
SUMMARY:Activité seniors : Atelier manuel
DESCRIPTION:Atelier manuel avec LiseCréa\nDessin-peinture fleur de printemps avec un message à la nature \nLieu à définir \nLimité à 10 personnes \nRetrouvez le calendrier des animations seniors 2025 en cliquant ici ! \nActivité réservée aux retraités et seniors saint-saulviens\nInscriptions dans la limite des places disponibles et renseignements auprès du service Seniors du pôle accompagner au 03 27 45 05 80 ou par mail à seniors@ville-saint-saulve.fr
URL:https://www.ville-saint-saulve.fr/event/activite-seniors-atelier-manuel-2/
END:VEVENT
BEGIN:VEVENT
DTSTART;TZID=Europe/Paris:20250428T180000
DTEND;TZID=Europe/Paris:20250428T210000
DTSTAMP:20260425T004122
CREATED:20250410T115633Z
LAST-MODIFIED:20250410T115638Z
UID:31867-1745863200-1745874000@www.ville-saint-saulve.fr
SUMMARY:SOIRÉE DES AIDANTS
DESCRIPTION:C’est quoi\, un.e aidant.e ? 🌷\n\n\n \n\n\n🔸Tu travailles la journée\, et après le boulot\, tu vas déposer les courses chez tes parents ? Ou faire à manger à ta grand-mère ?\n\n\n🔸Tu prends soin de ton frère\, porteur d’un handicap mental ou physique ?\n\n\n🔸Tu épaules ton enfant malade au quotidien\, en plus de tout le reste ?\n\n\n \n\n\nTU ES UN.E AIDANT.E 🤜🤛\n\n\nEt pour une fois\, ce moment est POUR TOI 🌷\n\n\n \n\n\n➡️ Le CCAS de la Ville t’invite à passer une soirée pour décompresser\, discuter de ton quotidien avec d’autres personnes confrontées à la même réalité ; et des professionnels\, qui peuvent t’aider et te donner les clés pour mieux vivre ce travail de l’ombre. Car être aidant est parfois un sacerdoce\, une épreuve humaine\, émotionnelle et physique. 🫶\n\n\n➡️ La bonne nouvelle est que tu n’es pas seul.e\, même si c’est parfois ton impression. Les aidant.e.s sont nombreux\, et si nous ne le sommes pas encore\, nous serons\, sans doute un jour\, amené.e.s à le devenir. \n\n\n \n\n\nA tous les aidant.e.s\, bravo\, merci et rendez-vous le 28 avril 🌷
URL:https://www.ville-saint-saulve.fr/event/soiree-des-aidants/
LOCATION:Espace Athena\, 2 Pl. du 8 Mai 1945\, Saint-Saulve\, 59880\, France
ATTACH;FMTTYPE=image/jpeg:https://www.ville-saint-saulve.fr/wp-content/uploads/affiche_soiree_aidants-scaled.jpg
ORGANIZER;CN="CCAS":MAILTO:ccas@ville-saint-saulve.fr
END:VEVENT
BEGIN:VEVENT
DTSTART;TZID=Europe/Paris:20250430T140000
DTEND;TZID=Europe/Paris:20250430T143000
DTSTAMP:20260425T004122
CREATED:20250321T105908Z
LAST-MODIFIED:20250321T105913Z
UID:31642-1746021600-1746023400@www.ville-saint-saulve.fr
SUMMARY:Activité Seniors - Jeu de piste Saint-Saulve Éternelle
DESCRIPTION:Découverte des endroits emblématiques de la ville grâce à un jeu de piste\n> Départ du CCAS à 14h \nRetrouvez le calendrier des animations seniors 2024 en cliquant ici ! \nActivité réservée aux retraités et seniors saint-saulviens\nInscriptions dans la limite des places disponibles et renseignements auprès du service Seniors du pôle accompagner au 03 27 45 05 80 ou par mail à seniors@ville-saint-saulve.fr
URL:https://www.ville-saint-saulve.fr/event/activite-seniors-jeu-de-piste-saint-saulve-eternelle-4/
LOCATION:CCAS\, 140 Rue Jean jaures\, SAINT-SAULVE\, Sélectionner un État :\, 59880\, France
END:VEVENT
END:VCALENDAR