BEGIN:VCALENDAR
VERSION:2.0
PRODID:-//Ville de Saint Saulve - ECPv6.15.20//NONSGML v1.0//EN
CALSCALE:GREGORIAN
METHOD:PUBLISH
X-WR-CALNAME:Ville de Saint Saulve
X-ORIGINAL-URL:https://www.ville-saint-saulve.fr
X-WR-CALDESC:Évènements pour Ville de Saint Saulve
REFRESH-INTERVAL;VALUE=DURATION:PT1H
X-Robots-Tag:noindex
X-PUBLISHED-TTL:PT1H
BEGIN:VTIMEZONE
TZID:Europe/Paris
BEGIN:DAYLIGHT
TZOFFSETFROM:+0100
TZOFFSETTO:+0200
TZNAME:CEST
DTSTART:20240331T010000
END:DAYLIGHT
BEGIN:STANDARD
TZOFFSETFROM:+0200
TZOFFSETTO:+0100
TZNAME:CET
DTSTART:20241027T010000
END:STANDARD
BEGIN:DAYLIGHT
TZOFFSETFROM:+0100
TZOFFSETTO:+0200
TZNAME:CEST
DTSTART:20250330T010000
END:DAYLIGHT
BEGIN:STANDARD
TZOFFSETFROM:+0200
TZOFFSETTO:+0100
TZNAME:CET
DTSTART:20251026T010000
END:STANDARD
BEGIN:DAYLIGHT
TZOFFSETFROM:+0100
TZOFFSETTO:+0200
TZNAME:CEST
DTSTART:20260329T010000
END:DAYLIGHT
BEGIN:STANDARD
TZOFFSETFROM:+0200
TZOFFSETTO:+0100
TZNAME:CET
DTSTART:20261025T010000
END:STANDARD
END:VTIMEZONE
BEGIN:VEVENT
DTSTART;VALUE=DATE:20250605
DTEND;VALUE=DATE:20250606
DTSTAMP:20260424T215453
CREATED:20250527T143705Z
LAST-MODIFIED:20250527T143710Z
UID:32547-1749081600-1749167999@www.ville-saint-saulve.fr
SUMMARY:Activité seniors : Sortie à la ferme aux escargots
DESCRIPTION:Sortie à la ferme aux escargots La Maisonnette à Fline les Mortagnes\n\nLimité à 20 personnes\nCOMPLET\nPAYANT \nDépart du centre de loisirs Fortier \nRetrouvez le calendrier des animations seniors 2025 en cliquant ici ! \nActivité réservée aux retraités et seniors saint-saulviens\nInscriptions dans la limite des places disponibles et renseignements auprès du service Seniors du pôle accompagner au 03 27 45 05 80 ou par mail à seniors@ville-saint-saulve.fr
URL:https://www.ville-saint-saulve.fr/event/activite-seniors-sortie-a-la-ferme-aux-escargots/
LOCATION:Centre de loisirs Fortier\, 44 Rue Henri Barbusse\, Saint-Saulve\, 59880\, France
END:VEVENT
BEGIN:VEVENT
DTSTART;TZID=Europe/Paris:20250607T133000
DTEND;TZID=Europe/Paris:20250607T173000
DTSTAMP:20260424T215453
CREATED:20250603T141719Z
LAST-MODIFIED:20250603T141725Z
UID:32653-1749303000-1749317400@www.ville-saint-saulve.fr
SUMMARY:Fête de la vie
DESCRIPTION:La fête de la vie \nL’événement pour être au top de sa forme ! \nSAMEDI 7 JUIN \nde 13h30 à 17h30 \nEntrée gratuite \nSalle de sport Schuman \nRue des Frères Lumière \n59880 Saint-Saulve \nPour tous enfants\, jeunes et adultes \nJeux\, Animations\, Stands\, Informations\, Faites l’expériences de la voiture tonneau \n+ de 1000 cadeaux à gagner (AirPods\, drone\, extracteur de jus…)
URL:https://www.ville-saint-saulve.fr/event/fete-de-la-vie/
LOCATION:Salle des Sports Schuman\, Avenue Robert Schuman\, Saint-Saulve\, Hauts-de-France\, 59880\, France
ATTACH;FMTTYPE=image/jpeg:https://www.ville-saint-saulve.fr/wp-content/uploads/fete-de-la-vie-.jpeg
ORGANIZER;CN="Mairie":MAILTO:mairie@ville-saint-saulve.fr
END:VEVENT
BEGIN:VEVENT
DTSTART;TZID=Europe/Paris:20250608T090000
DTEND;TZID=Europe/Paris:20250608T130000
DTSTAMP:20260424T215453
CREATED:20250107T103529Z
LAST-MODIFIED:20250527T141558Z
UID:30932-1749373200-1749387600@www.ville-saint-saulve.fr
SUMMARY:Marché du terroir et de l'artisanat
DESCRIPTION:
URL:https://www.ville-saint-saulve.fr/event/marche-du-terroir-et-de-lartisanat-17/
LOCATION:O’Centr’Halle\, 144 rue Jean Jaurès\, Saint-Saulve\, 59880\, France
ATTACH;FMTTYPE=image/jpeg:https://www.ville-saint-saulve.fr/wp-content/uploads/affiche_marche_du_terroir_juin_2025-scaled.jpg
END:VEVENT
BEGIN:VEVENT
DTSTART;TZID=Europe/Paris:20250608T140000
DTEND;TZID=Europe/Paris:20250608T180000
DTSTAMP:20260424T215453
CREATED:20250527T142323Z
LAST-MODIFIED:20250528T075540Z
UID:32543-1749391200-1749405600@www.ville-saint-saulve.fr
SUMMARY:Rendez-vous aux jardins
DESCRIPTION:🌿 Rendez-vous aux Jardins Partagés et Solidaire 🌿\n\n\nDimanche 8 juin | de 14h à 18h\n\n\n \n\n\nVenez découvrir un lieu vivant\, solidaire et écologique lors de notre après-midi portes ouvertes !\n\n\n \n\n\nAu programme :\n\n\n🌱 Visites guidées des jardins\n\n\n🎨 Exposition\n\n\n👐 Ateliers participatifs\n\n\n🎉 Animations\n\n\n🍰 Petite restauration sur place\n\n\n\n\nEntrée libre et gratuite – sans réservation\n\n\nUn moment convivial à partager en famille ou entre amis !\n\n\n \n\n\n📍 1 rue Entre Deux\, Bas-Marais à Saint-Saulve
URL:https://www.ville-saint-saulve.fr/event/rendez-vous-aux-jardins-2/
LOCATION:Jardins partagés et solidaire\, 1 rue Entre Deux\, Saint-Saulve\, Sélectionner un État :\, 59880\, France
ATTACH;FMTTYPE=image/jpeg:https://www.ville-saint-saulve.fr/wp-content/uploads/affiche_rdv_au_jardin_solidaire-scaled.jpg
END:VEVENT
BEGIN:VEVENT
DTSTART;TZID=Europe/Paris:20250609T080000
DTEND;TZID=Europe/Paris:20250609T180000
DTSTAMP:20260424T215453
CREATED:20250519T093738Z
LAST-MODIFIED:20250523T073926Z
UID:32406-1749456000-1749492000@www.ville-saint-saulve.fr
SUMMARY:Tournoi de foot à 7
DESCRIPTION:Fiche d’inscription et règlement\, cliquez-ici ! \n  \nContacts : \n\nDimitri ACOUMAMBO : 06 26 03 49 98\nJean-Claude DELATTRE : 06 60 56 76 17
URL:https://www.ville-saint-saulve.fr/event/tournoi-de-foot-a-7/
LOCATION:stade\, 27 Chemin de Saultain\, Saint-Saulve\, Sélectionner un État :\, 59880\, France
ATTACH;FMTTYPE=image/jpeg:https://www.ville-saint-saulve.fr/wp-content/uploads/affiche_tournoi_foot_9juin.jpg
END:VEVENT
BEGIN:VEVENT
DTSTART;TZID=Europe/Paris:20250610T143000
DTEND;TZID=Europe/Paris:20250610T143000
DTSTAMP:20260424T215453
CREATED:20250527T144217Z
LAST-MODIFIED:20250527T144222Z
UID:32549-1749565800-1749565800@www.ville-saint-saulve.fr
SUMMARY:Activité seniors : initiation geste 1er secours
DESCRIPTION:Utilisation du défibrillateur avec Jean-Paul\nLieu à définir \nLimité à 10 personnes \nRetrouvez le calendrier des animations seniors 2025 en cliquant ici ! \nActivité réservée aux retraités et seniors saint-saulviens\nInscriptions dans la limite des places disponibles et renseignements auprès du service Seniors du pôle accompagner au 03 27 45 05 80 ou par mail à seniors@ville-saint-saulve.fr
URL:https://www.ville-saint-saulve.fr/event/activite-seniors-initiation-geste-1er-secours-5/
END:VEVENT
BEGIN:VEVENT
DTSTART;VALUE=DATE:20250612
DTEND;VALUE=DATE:20250613
DTSTAMP:20260424T215453
CREATED:20250528T060902Z
LAST-MODIFIED:20250528T060921Z
UID:32558-1749686400-1749772799@www.ville-saint-saulve.fr
SUMMARY:Buffet campagnard
DESCRIPTION:Buffet campagnard\norganisé par le service des fêtes\, pour les 68 ans et plus. \nInscriptions clôturées.
URL:https://www.ville-saint-saulve.fr/event/buffet-campagnard/
LOCATION:Boulodrome\, Rue Henri Barbusse\, 59880 Saint-Saulve\, Saint-Saulve\, 59880\, France
END:VEVENT
BEGIN:VEVENT
DTSTART;TZID=Europe/Paris:20250612T140000
DTEND;TZID=Europe/Paris:20250612T140000
DTSTAMP:20260424T215453
CREATED:20250528T060429Z
LAST-MODIFIED:20250528T060436Z
UID:32551-1749736800-1749736800@www.ville-saint-saulve.fr
SUMMARY:Activité seniors : Atelier Fortier
DESCRIPTION:Pétanque\nEntre-nous\, un petit après-midi détente en extérieur autour de la pétanque. \nRetrouvez le calendrier des animations seniors 2025 en cliquant ici ! \nActivité réservée aux retraités et seniors saint-saulviens\nInscriptions dans la limite des places disponibles et renseignements auprès du service Seniors du pôle accompagner au 03 27 45 05 80 ou par mail à seniors@ville-saint-saulve.fr
URL:https://www.ville-saint-saulve.fr/event/activite-seniors-atelier-fortier-21/
LOCATION:Centre de loisirs Fortier\, 44 Rue Henri Barbusse\, Saint-Saulve\, 59880\, France
END:VEVENT
BEGIN:VEVENT
DTSTART;TZID=Europe/Paris:20250614T093000
DTEND;TZID=Europe/Paris:20250614T193000
DTSTAMP:20260424T215454
CREATED:20250521T093414Z
LAST-MODIFIED:20250521T093439Z
UID:32444-1749893400-1749929400@www.ville-saint-saulve.fr
SUMMARY:TOURNOI DE VOLLEY BALL
DESCRIPTION:🏐🎉 Tournoi de Volley-Ball – Le VCSS fête ses 60 ans ! 🎬🥳📅 Samedi 14 juin📍 Salle Saint-Exupéry \nÀ l’occasion des 60 ans du club\, venez participer à un tournoi 4×4 pas comme les autres…🎭 Thème : Films & Séries – Tournoi déguisé obligatoire ! 🎥🦸‍♀️🧙‍♂️🧛‍♀️ \n🍔 Restauration sur place💶 Tarif : 2\,50€ par joueur (une écocup offerte) \n📩 Inscription au 06 89 40 32 96 \n🎁 Ambiance festive et fun garanti ! \n👉 Forme ton équipe\, choisis ton univers\, et viens taper dans la balle avec style !
URL:https://www.ville-saint-saulve.fr/event/tournoi-de-volley/
LOCATION:Salle de sport Saint-Exupéry\, Rue Antoine de Saint-Exupéry\, Saint-Saulve\, 59880\, France
ATTACH;FMTTYPE=image/png:https://www.ville-saint-saulve.fr/wp-content/uploads/tournoi-volley-60-ans.png
END:VEVENT
BEGIN:VEVENT
DTSTART;TZID=Europe/Paris:20250614T143000
DTEND;TZID=Europe/Paris:20250614T143000
DTSTAMP:20260424T215454
CREATED:20250606T081527Z
LAST-MODIFIED:20250606T081531Z
UID:32686-1749911400-1749911400@www.ville-saint-saulve.fr
SUMMARY:MJC : Concert guitares
DESCRIPTION:
URL:https://www.ville-saint-saulve.fr/event/mjc-concert-guitares-2/
LOCATION:Espace Athena\, 2 Pl. du 8 Mai 1945\, Saint-Saulve\, 59880\, France
ATTACH;FMTTYPE=image/jpeg:https://www.ville-saint-saulve.fr/wp-content/uploads/affiche-concert-guitare-MJC-2025-WEB-scaled.jpg
ORGANIZER;CN="MJC":MAILTO:accueil@mjc-athena.org
END:VEVENT
BEGIN:VEVENT
DTSTART;TZID=Europe/Paris:20250615T101500
DTEND;TZID=Europe/Paris:20250615T101500
DTSTAMP:20260424T215454
CREATED:20250528T114853Z
LAST-MODIFIED:20250528T114856Z
UID:32563-1749982500-1749982500@www.ville-saint-saulve.fr
SUMMARY:Rando Roller
DESCRIPTION:🔥 Prêt·e à rouler avec nous ? 🔥La Rando Roller est de retour ! \n🗓️ Dimanche 15 juin🕥 RDV 10h15 au kiosque de la Pépinière📏 8 km de balade urbaine tranquille💸 Gratuit et ouvert à tous \n🛼 En roller\, 🛹 en skate\, 🛴 en trottinette ou 🚲 à vélo (non électrique) : tout le monde est le bienvenu !Une seule règle : la bonne humeur obligatoire 😄 \n➡️ Ramène tes potes\, ta famille\, ou viens solo\, mais viens !On t’attend pour un moment cool et sportif 🌞
URL:https://www.ville-saint-saulve.fr/event/rando-roller-2/
ATTACH;FMTTYPE=image/jpeg:https://www.ville-saint-saulve.fr/wp-content/uploads/affiche_rando_roller-1-scaled.jpg
END:VEVENT
BEGIN:VEVENT
DTSTART;TZID=Europe/Paris:20250616T100000
DTEND;TZID=Europe/Paris:20250616T100000
DTSTAMP:20260424T215454
CREATED:20250528T060519Z
LAST-MODIFIED:20250528T060522Z
UID:32554-1750068000-1750068000@www.ville-saint-saulve.fr
SUMMARY:Activité seniors : Taï Chi
DESCRIPTION:Taï Chi\nLimité à 10 personnes \nRetrouvez le calendrier des animations seniors 2025 en cliquant ici ! \nActivité réservée aux retraités et seniors saint-saulviens\nInscriptions dans la limite des places disponibles et renseignements auprès du service Seniors du pôle accompagner au 03 27 45 05 80 ou par mail à seniors@ville-saint-saulve.fr
URL:https://www.ville-saint-saulve.fr/event/activite-seniors-tai-chi-5/
LOCATION:Salle des sports Coubertin\, 33 Rue Roger Salengro\, Saint-Saulve\, 59880\, France
END:VEVENT
BEGIN:VEVENT
DTSTART;TZID=Europe/Paris:20250618T100000
DTEND;TZID=Europe/Paris:20250618T100000
DTSTAMP:20260424T215454
CREATED:20250528T060632Z
LAST-MODIFIED:20250528T060637Z
UID:32556-1750240800-1750240800@www.ville-saint-saulve.fr
SUMMARY:Activité seniors : Pétanque
DESCRIPTION:Pétanque\nanimé par le club de pétanque \nRetrouvez le calendrier des animations seniors 2025 en cliquant ici ! \nActivité réservée aux retraités et seniors saint-saulviens\nInscriptions dans la limite des places disponibles et renseignements auprès du service Seniors du pôle accompagner au 03 27 45 05 80 ou par mail à seniors@ville-saint-saulve.fr
URL:https://www.ville-saint-saulve.fr/event/activite-seniors-petanque/
LOCATION:Boulodrome\, Rue Henri Barbusse\, 59880 Saint-Saulve\, Saint-Saulve\, 59880\, France
END:VEVENT
BEGIN:VEVENT
DTSTART;TZID=Europe/Paris:20250618T130000
DTEND;TZID=Europe/Paris:20250618T173000
DTSTAMP:20260424T215454
CREATED:20250526T082721Z
LAST-MODIFIED:20250526T082729Z
UID:32529-1750251600-1750267800@www.ville-saint-saulve.fr
SUMMARY:Activité seniors : SORTIE INTERGÉNÉRATIONNELLE À LA FERME DES LOUPS
DESCRIPTION:SORTIE INTERGÉNÉRATIONNELLE À LA FERME DES LOUPS  – MERCREDI 18 JUIN \n\n\n\n Rendez-vous sur le parking du centre Fortier à 12h45\n Départ à 13h00 – Retour prévu vers 17h30\n Tarif : 17\,50€ en espèces (à régler avant le départ)\n Destination : Ferme des Loups à Caudry\n Réservé aux retraités et seniors Saint-Saulviens\n\n\n\n Une sortie nature pensée pour petits et grands\, seniors et enfants des accueils de loisirs\, réunis pour partager des moments riches en découvertes et en sourires ! \n\n\n\n Au programme :\n\n\n Sortie « La Nature dans tous les sens »\n→ Un parcours immersif et ludique avec des défis et mini-jeux d’exploration\n→ Création d’une carte végétale à emporter : un souvenir créatif et naturel \n\n\n Atelier « Herbier »\n→ Découverte et identification d’espèces locales\n→ Confection de fiches botaniques à garder en souvenir\nUn atelier qui allie arts\, sciences et éveil des sens \n\n\n\n Une belle occasion de partager\, d’apprendre ensemble et de s’amuser au grand air \n\n\n\n Infos & inscriptions dès maintenant\, auprès du CCAS au 03 27 45 05 80 ou par mail à l’adresse seniors@ville-saint-saulve.fr\n Places limitées\, n’attendez pas !
URL:https://www.ville-saint-saulve.fr/event/activite-seniors-sortie-intergenerationnelle-a-la-ferme-des-loups/
LOCATION:Centre de loisirs Fortier\, 44 Rue Henri Barbusse\, Saint-Saulve\, 59880\, France
ATTACH;FMTTYPE=image/jpeg:https://www.ville-saint-saulve.fr/wp-content/uploads/affiche-sortie-ferme-scaled.jpg
END:VEVENT
BEGIN:VEVENT
DTSTART;TZID=Europe/Paris:20250620T180000
DTEND;TZID=Europe/Paris:20250620T203000
DTSTAMP:20260424T215454
CREATED:20250606T080942Z
LAST-MODIFIED:20250606T080942Z
UID:32681-1750442400-1750451400@www.ville-saint-saulve.fr
SUMMARY:Pool Party
DESCRIPTION:🎉 Pool Party à la piscine municipale 🎶 \nVenez profiter d’une soirée au bord de l’eau ! \nNous vous invitons à une Pool Party\, animée par un DJ qui mettra l’ambiance avec des sons frais et entraînants. 🌊💃🕺 \n🗓 Date : Vendredi 20 juin⏰ Heure : De 18h à 20h30📍 Lieu : Piscine municipale \n🎧 Au programme : \n\n\nMusique avec notre DJ \n\n\nAmbiance festive et conviviale \n\n\nEntrée gratuite et ouverte à tous ! \n\n\nVenez avec vos amis\, votre bonne humeur et préparez-vous à vous amuser dans l’eau et sur la piste de danse ! \n🔥 À ne pas manquer !
URL:https://www.ville-saint-saulve.fr/event/pool-party-3/
LOCATION:Piscine municipale\, 2 Av. Robert Schuman\, Saint-Saulve\, 59880\, France
ATTACH;FMTTYPE=image/jpeg:https://www.ville-saint-saulve.fr/wp-content/uploads/affiche_pool_party_juin_2025-scaled.jpg
END:VEVENT
BEGIN:VEVENT
DTSTART;TZID=Europe/Paris:20250620T200000
DTEND;TZID=Europe/Paris:20250620T200000
DTSTAMP:20260424T215454
CREATED:20250606T081208Z
LAST-MODIFIED:20250606T081230Z
UID:32684-1750449600-1750449600@www.ville-saint-saulve.fr
SUMMARY:Fête de la musique
DESCRIPTION:GIMME GIMME GIMME A MAN AFTER MIDNIGHT \nYOU ARE THE DANCING QUEEN \nTHE WINNER TAKES IT ALL \nWATERLOO – PROMISE TO LOVE YOU FOR EVER MORE \nVOULEZ-VOUUUUUUUS \nTAKE CHANCE ON ME \nMAMMA MIA\, HERE I GO AGAIN \nMONEY MONEY MONEY \n\n\n\nVous les avez bien en tête ? \nVenez les fredonner et les danser lors la fête de la musique\, le vendredi 20 juin\, au boulodrome ! \n 20h – 21h : une première partie avec le groupe Playhits\, histoire de se mettre en jambes. \n 21h – 22h : GIMME ABBA\, par La Vraie Prod\, pour revivre les plus grands tubes de ce groupe mythique\, intemporel et intergénérationnel. \n 22h – 00h : un after de folie avec un DJ du Summer Break Tour\, la tournée Fun radio qui fait escale à Saint-Saulve ! Ambiance garantie \n\n\nVOUS VENEZ ?
URL:https://www.ville-saint-saulve.fr/event/fete-de-la-musique-2/
LOCATION:Boulodrome\, Rue Henri Barbusse\, 59880 Saint-Saulve\, Saint-Saulve\, 59880\, France
ATTACH;FMTTYPE=image/jpeg:https://www.ville-saint-saulve.fr/wp-content/uploads/affiche_fete_de_la_musique_web-1-scaled.jpg
END:VEVENT
BEGIN:VEVENT
DTSTART;TZID=Europe/Paris:20250622T133000
DTEND;TZID=Europe/Paris:20250622T173000
DTSTAMP:20260424T215454
CREATED:20250602T075509Z
LAST-MODIFIED:20250602T075513Z
UID:32650-1750599000-1750613400@www.ville-saint-saulve.fr
SUMMARY:La Course des Écoliers
DESCRIPTION:La Course des Écoliers est de retour ! \n Dimanche 22 juin\n De 13h30 à 17h30\n Parking de la salle de sport Coubertin\n GRATUIT\n\n\n\nLe service municipal des sports vous invite à un après-midi sportif et plein d’énergie avec La Course des Écoliers !\n Port des protections obligatoire.\n\n\n\n Sur inscription uniquement :\nRemplissez le formulaire de participation et retournez-la au plus tard le lundi 16 juin\n à Julien ou Vincent\, éducateurs sportifs\nOU\n directement à l’accueil du service des sports (salle Coubertin)\n\n\nFORMULAIRE À TÉLÉCHARGER\nUn formulaire papier sera également distribué dans les écoles \n\n\n\n Une belle occasion pour les enfants de se dépenser\, s’amuser et partager un moment convivial autour du sport !\n\n\n\n N’attendez pas inscrire vos enfants !
URL:https://www.ville-saint-saulve.fr/event/la-course-des-ecoliers-2/
LOCATION:Salle des sports Coubertin\, 33 Rue Roger Salengro\, Saint-Saulve\, 59880\, France
ATTACH;FMTTYPE=image/jpeg:https://www.ville-saint-saulve.fr/wp-content/uploads/affiche_course_des_ecoliers_web.jpg
END:VEVENT
BEGIN:VEVENT
DTSTART;TZID=Europe/Paris:20250623T190000
DTEND;TZID=Europe/Paris:20250623T190000
DTSTAMP:20260424T215454
CREATED:20250617T143231Z
LAST-MODIFIED:20250617T143308Z
UID:32776-1750705200-1750705200@www.ville-saint-saulve.fr
SUMMARY:Réunion du conseil municipal
DESCRIPTION:Le conseil municipal se réunira le lundi 23 juin à 19h à l’hôtel de ville. \nConsulter l’ordre du jour
URL:https://www.ville-saint-saulve.fr/event/reunion-du-conseil-municipal-19/
LOCATION:Mairie\, 146 Rue Jean jaures\, St-Saulve\, Haut-de-France\, 59880\, France
ATTACH;FMTTYPE=image/jpeg:https://www.ville-saint-saulve.fr/wp-content/uploads/2022/11/316417265_541470508017172_8437615211820158479_n.jpeg
END:VEVENT
BEGIN:VEVENT
DTSTART;TZID=Europe/Paris:20250626T143000
DTEND;TZID=Europe/Paris:20250626T143000
DTSTAMP:20260424T215454
CREATED:20250528T061052Z
LAST-MODIFIED:20250528T061056Z
UID:32560-1750948200-1750948200@www.ville-saint-saulve.fr
SUMMARY:Activité seniors : Atelier manuel
DESCRIPTION:Atelier manuel avec LiseCréa\nDessin-sculpture sur le thème du musicien Robert Combas \nLimité à 10 personnes \nLieu à définir \nRetrouvez le calendrier des animations seniors 2025 en cliquant ici ! \nActivité réservée aux retraités et seniors saint-saulviens\nInscriptions dans la limite des places disponibles et renseignements auprès du service Seniors du pôle accompagner au 03 27 45 05 80 ou par mail à seniors@ville-saint-saulve.fr
URL:https://www.ville-saint-saulve.fr/event/activite-seniors-atelier-manuel-4/
END:VEVENT
BEGIN:VEVENT
DTSTART;TZID=Europe/Paris:20250627T000000
DTEND;TZID=Europe/Paris:20250831T000000
DTSTAMP:20260424T215454
CREATED:20250617T124404Z
LAST-MODIFIED:20250617T124422Z
UID:32773-1750982400-1756598400@www.ville-saint-saulve.fr
SUMMARY:Les Choux Rires d'été
DESCRIPTION:🎉 Les Choux Rires d’été reviennent du 27 juin au 31 août ! ☀️🥬\n\n\nPréparez-vous pour un été festif à Saint-Saulve avec la 5e édition des Choux Rires d’été !\n\n\n \n\n\n👉 Du 27 juin au 31 août\, la ville s’anime grâce aux services municipaux\, aux élus et aux associations saint-saulviennes qui vous ont concocté une programmation gratuite et variée pour petits et grands ! 🧒👵👨‍👩‍👧‍👦\n\n\n \n\n\n🌟 3 grands temps forts à noter dès maintenant :\n\n\n🔹 Fête de la jeunesse – le 28 juin\n\n\n🔹 Fête médiévale – les 5 & 6 juillet\n\n\n🔹 Fête du sport – le 31 août\n\n\n \n\n\n🎨🎭 En plus de ces événements\, des animations auront lieu chaque semaine pendant tout l’été : ateliers\, sport\, jeux\, découvertes\, et bien plus encore… Il y en aura pour tous les goûts et tous les âges ! 🤩🎯🎶\n\n\n \n\n\n👉 Et comme chaque année\, les ados de 13 à 17 ans auront leur propre programmation dédiée !\n\n\nDes activités dynamiques et variées pensées pour eux : sorties\, soirée camping\, cinéma… de quoi passer un été entre amis dans une ambiance fun et conviviale !\n\n\n \n\n\n💬 C’est GRATUIT et c’est pour vous ! Venez vivre un été inoubliable à Saint-Saulve !\n\n\nProgramme complet
URL:https://www.ville-saint-saulve.fr/event/les-choux-rires-dete/
ATTACH;FMTTYPE=image/jpeg:https://www.ville-saint-saulve.fr/wp-content/uploads/affiche_choux_rires_ete-scaled.jpg
END:VEVENT
BEGIN:VEVENT
DTSTART;TZID=Europe/Paris:20250627T163000
DTEND;TZID=Europe/Paris:20250627T163000
DTSTAMP:20260424T215454
CREATED:20250623T082800Z
LAST-MODIFIED:20250623T082805Z
UID:32855-1751041800-1751041800@www.ville-saint-saulve.fr
SUMMARY:Fête de quartier et de la musique
DESCRIPTION:
URL:https://www.ville-saint-saulve.fr/event/fete-de-quartier-et-de-la-musique/
LOCATION:Maison de quartier\, 1 Rue Blaise Pascal\, Saint-Saulve\, 59880\, France
ATTACH;FMTTYPE=image/png:https://www.ville-saint-saulve.fr/wp-content/uploads/Fete-de-la-Musique-1.png
END:VEVENT
BEGIN:VEVENT
DTSTART;TZID=Europe/Paris:20250628T140000
DTEND;TZID=Europe/Paris:20250628T183000
DTSTAMP:20260424T215454
CREATED:20250623T082506Z
LAST-MODIFIED:20250623T082517Z
UID:32852-1751119200-1751135400@www.ville-saint-saulve.fr
SUMMARY:Fête de la jeunesse
DESCRIPTION:✨ Dans le cadre des Choux Rires d’été ✨ \n💥 Explosion de rires garantie de 14h à 18h30 !Le parc Fortier devient un gigantesque terrain de jeu pour toute la famille 🧒👨‍👩‍👧‍👦 \nAu programme : des spectacles délirants\, des jeux pour tous les âges\, des animations surprenantes et une ambiance aussi magique que festive ✨Magiciens\, marionnettes\, jeux géants\, animations sportives\, surprises en cascade… l’ennui est interdit ! \n🍭 Envie d’une pause sucrée ?Glaces\, pop-corn\, barbe à papa et boissons fraîches vous attendent à petits prix 😋 \n🧡 Un après-midi gratuit\, ouvert à tous\, organisé avec passion par le Service Loisirs\, la Petite Enfance\, la Maison de Quartier et la MJC. \n📍 Rendez-vous au Parc Fortier\, samedi 28 juin➡️ À vivre en famille\, à 100 à l’heure\, et sans modération !
URL:https://www.ville-saint-saulve.fr/event/fete-de-la-jeunesse/
LOCATION:Parc Fortier\, 44 Rue Henri Barbusse\, Saint-Saulve\, Hauts-de-France\, 59880\, France
ATTACH;FMTTYPE=image/jpeg:https://www.ville-saint-saulve.fr/wp-content/uploads/affiche_fete_jeunesse-2-scaled.jpg
END:VEVENT
END:VCALENDAR