BEGIN:VCALENDAR
VERSION:2.0
PRODID:-//Ville de Saint Saulve - ECPv6.15.20//NONSGML v1.0//EN
CALSCALE:GREGORIAN
METHOD:PUBLISH
X-WR-CALNAME:Ville de Saint Saulve
X-ORIGINAL-URL:https://www.ville-saint-saulve.fr
X-WR-CALDESC:Évènements pour Ville de Saint Saulve
REFRESH-INTERVAL;VALUE=DURATION:PT1H
X-Robots-Tag:noindex
X-PUBLISHED-TTL:PT1H
BEGIN:VTIMEZONE
TZID:Europe/Paris
BEGIN:DAYLIGHT
TZOFFSETFROM:+0100
TZOFFSETTO:+0200
TZNAME:CEST
DTSTART:20240331T010000
END:DAYLIGHT
BEGIN:STANDARD
TZOFFSETFROM:+0200
TZOFFSETTO:+0100
TZNAME:CET
DTSTART:20241027T010000
END:STANDARD
BEGIN:DAYLIGHT
TZOFFSETFROM:+0100
TZOFFSETTO:+0200
TZNAME:CEST
DTSTART:20250330T010000
END:DAYLIGHT
BEGIN:STANDARD
TZOFFSETFROM:+0200
TZOFFSETTO:+0100
TZNAME:CET
DTSTART:20251026T010000
END:STANDARD
BEGIN:DAYLIGHT
TZOFFSETFROM:+0100
TZOFFSETTO:+0200
TZNAME:CEST
DTSTART:20260329T010000
END:DAYLIGHT
BEGIN:STANDARD
TZOFFSETFROM:+0200
TZOFFSETTO:+0100
TZNAME:CET
DTSTART:20261025T010000
END:STANDARD
END:VTIMEZONE
BEGIN:VEVENT
DTSTART;TZID=Europe/Paris:20250906T080000
DTEND;TZID=Europe/Paris:20250906T120000
DTSTAMP:20260424T173912
CREATED:20250825T115256Z
LAST-MODIFIED:20250825T115306Z
UID:34146-1757145600-1757160000@www.ville-saint-saulve.fr
SUMMARY:Don de sang
DESCRIPTION:Collecte de sang – Samedi 6 septembre \n Et si votre matinée changeait des vies ? \n\n\n\n De 8h à 12h\, venez au centre de loisirs Fortier donner votre sang.\nUn petit geste pour vous… mais un immense cadeau pour ceux qui en ont besoin. \n\n\n\n Prenez rendez-vous dès maintenant sur https://efs.link/4MTHa\n\n\n\nInvitez vos proches\, venez entre collègues ou entre amis : plus on est de donneurs\, plus on fait la différence ! \n\n\nChaque don compte\, et le vôtre peut sauver jusqu’à 3 vies. \nMerci pour votre générosité !
URL:https://www.ville-saint-saulve.fr/event/don-de-sang-9/
LOCATION:Centre de loisirs Fortier\, 44 Rue Henri Barbusse\, Saint-Saulve\, 59880\, France
ATTACH;FMTTYPE=image/jpeg:https://www.ville-saint-saulve.fr/wp-content/uploads/16_2025-09-06_1006615_ST-SAULVE.jpg
END:VEVENT
BEGIN:VEVENT
DTSTART;TZID=Europe/Paris:20250906T090000
DTEND;TZID=Europe/Paris:20250907T170000
DTSTAMP:20260424T173912
CREATED:20250821T150532Z
LAST-MODIFIED:20250821T150623Z
UID:34138-1757149200-1757264400@www.ville-saint-saulve.fr
SUMMARY:CAMP MILITAIRE
DESCRIPTION:🇺🇸 IMMERSION DANS L’AMBIANCE DE LA LIBÉRATION 🇫🇷\n\n\n \n\n\n♦️Les 6 & 7 septembre\, venez ressentir l’ambiance de l’un des moments charnières de notre Histoire : la Libération ! 💐\n\n\n \n\n\n♦️Montez à bord des jeeps\, observez la reconstitution d’un camp militaire\, laissez-vous bercer par le rythme de la musique post-guerre…\nUn week-end idéal pour s’imprégner de l’ambiance que nous font revivre des passionnés en costumes d’époque. 🫡\n\n\n \n\n\n♦️Vous pourrez profiter de ce temps fort pour vous recueillir au monument aux morts\, en mémoire de l’ensemble des forces alliées qui ont oeuvré pour la Libération de la France. 🙏\n\n\n \n\n\n♦️Ces deux jours festifs vous donneront également l’opportunité de faire un tour dans le quartier du Bas-Marais\,\nqui sera à la fête les 6 et 7 septembre (programmation à retrouver sur la page facebook « Les fêtes du marais »).\nQuant aux chineurs du Bas marais\, ils sont les bienvenus sur le camp militaire ! 🤗
URL:https://www.ville-saint-saulve.fr/event/camp-militaire/
LOCATION:Parc de l’Orangeraie\, Saint-Saulve\, 59880\, France
ATTACH;FMTTYPE=image/jpeg:https://www.ville-saint-saulve.fr/wp-content/uploads/affiche_camp_militaire_web-scaled.jpg
ORGANIZER;CN="Mairie":MAILTO:mairie@ville-saint-saulve.fr
END:VEVENT
BEGIN:VEVENT
DTSTART;TZID=Europe/Paris:20250909T143000
DTEND;TZID=Europe/Paris:20250909T143000
DTSTAMP:20260424T173912
CREATED:20250829T071920Z
LAST-MODIFIED:20250829T071924Z
UID:34156-1757428200-1757428200@www.ville-saint-saulve.fr
SUMMARY:Activité seniors : initiation geste 1er secours
DESCRIPTION:Utilisation du défibrillateur avec Jean-Paul\nLieu à définir \nLimité à 10 personnes \nRetrouvez le calendrier des animations seniors 2025 en cliquant ici ! \nActivité réservée aux retraités et seniors saint-saulviens\nInscriptions dans la limite des places disponibles et renseignements auprès du service Seniors du pôle accompagner au 03 27 45 05 80 ou par mail à seniors@ville-saint-saulve.fr
URL:https://www.ville-saint-saulve.fr/event/activite-seniors-initiation-geste-1er-secours-6/
END:VEVENT
BEGIN:VEVENT
DTSTART;TZID=Europe/Paris:20250909T180000
DTEND;TZID=Europe/Paris:20250909T210000
DTSTAMP:20260424T173912
CREATED:20250905T115043Z
LAST-MODIFIED:20250905T115046Z
UID:34327-1757440800-1757451600@www.ville-saint-saulve.fr
SUMMARY:APPRENEZ À SAUVEZ DES VIES !
DESCRIPTION:Et si demain\, une vie dépendait de vous ? \n\nSavez-vous pratiquer un massage cardiaque ? Utiliser un défibrillateur ?\n\n\n\n Mardi 9 septembre\, à l’occasion de la journée mondiale des premiers secours\, le Service Santé de la ville et la Protection Civile vous offrent une initiation gratuite aux gestes qui sauvent.\n\n\n Deux sessions au choix : 18h30-19h30 ou 20h00-21h00\n Ô’Centr’Halle : 144 rue Jean Jaurès\, 59880 Saint-Saulve.\n\n\n\n Inscription (obligatoire et gratuite) : https://my.weezevent.com/initiation-aux-gestes-qui-sauvent\n\n\n\n Les sessions sont ouvertes à toutes et tous ! Accessible à partir de 10 ans.
URL:https://www.ville-saint-saulve.fr/event/apprenez-a-sauvez-des-vies/
LOCATION:O’Centr’Halle\, 144 rue Jean Jaurès\, Saint-Saulve\, 59880\, France
ATTACH;FMTTYPE=image/jpeg:https://www.ville-saint-saulve.fr/wp-content/uploads/535910148_1228413929322823_7565247177813474665_n.jpg
END:VEVENT
BEGIN:VEVENT
DTSTART;TZID=Europe/Paris:20250911T140000
DTEND;TZID=Europe/Paris:20250911T140000
DTSTAMP:20260424T173912
CREATED:20250829T072106Z
LAST-MODIFIED:20250829T072109Z
UID:34158-1757599200-1757599200@www.ville-saint-saulve.fr
SUMMARY:Activité seniors : Atelier Fortier
DESCRIPTION:Jeux de société et jeux sportifs\nQuelques petits jeux sur table et quelques jeux plus sportifs tels que le billard\, le baby-foot et le ping-pong en toute simplicité. \nRetrouvez le calendrier des animations seniors 2025 en cliquant ici ! \nActivité réservée aux retraités et seniors saint-saulviens\nInscriptions dans la limite des places disponibles et renseignements auprès du service Seniors du pôle accompagner au 03 27 45 05 80 ou par mail à seniors@ville-saint-saulve.fr
URL:https://www.ville-saint-saulve.fr/event/activite-seniors-atelier-fortier-22/
LOCATION:Centre de loisirs Fortier\, 44 Rue Henri Barbusse\, Saint-Saulve\, 59880\, France
END:VEVENT
BEGIN:VEVENT
DTSTART;TZID=Europe/Paris:20250914T090000
DTEND;TZID=Europe/Paris:20250914T130000
DTSTAMP:20260424T173912
CREATED:20250107T103836Z
LAST-MODIFIED:20250627T080454Z
UID:30938-1757840400-1757854800@www.ville-saint-saulve.fr
SUMMARY:Marché du terroir et de l'artisanat
DESCRIPTION:
URL:https://www.ville-saint-saulve.fr/event/marche-du-terroir-et-de-lartisanat-20/
LOCATION:O’Centr’Halle\, 144 rue Jean Jaurès\, Saint-Saulve\, 59880\, France
ATTACH;FMTTYPE=image/jpeg:https://www.ville-saint-saulve.fr/wp-content/uploads/affiche_marche_terroir_artisanat_septembre_2025-scaled.jpg
END:VEVENT
BEGIN:VEVENT
DTSTART;TZID=Europe/Paris:20250919T080000
DTEND;TZID=Europe/Paris:20250926T170000
DTSTAMP:20260424T173912
CREATED:20250917T142040Z
LAST-MODIFIED:20250917T142049Z
UID:34363-1758268800-1758906000@www.ville-saint-saulve.fr
SUMMARY:UNE RÉSIDENCE D'ARTISTES À SAINT-SAULVE 💚
DESCRIPTION:UNE RÉSIDENCE D’ARTISTES À SAINT-SAULVE 💚\n\n\nA la portée de tou.te.s ! 🙌\n\n\n \n\n\n▪️Le collectif XY – composé de six acrobates et un photographe – pose ses valises à Saint-Saulve\, du 19 au 26 septembre. Le Pôle Associer vous invite à les rencontrer\, durant plusieurs créneaux\, pour découvrir leur univers où les corps s’entremêlent\, se soutiennent et se construisent comme une architecture vivante. 🫶\n\n\n \n\n\n➡ Quand les rencontrer ? \n\n\n– Vendredi 19 septembre\, 16h40 – 17h devant l’école du Roleur\, où les artistes vous salueront de manière atypique. \n\n\n– Samedi 20 septembre\, 16h – 17h30 à la halle\, pour assister aux répétitions.\n\n\n– Lundi 22 septembre\, 16h45 – 17h30 devant l’école du Roleur\, pour vivre un moment insolite ! \n\n\n \n\n\n➡ Pour participer à des ateliers : \n\n\n– ACROBATIE > Samedi 20 septembre\, de 13h30 à 15h30\, le collectif XY vous invite à savourer les joies de l’acrobatie en duo\, en trio et/ou en famille. \n\n\n– PHOTOGRAPHIE > Samedi 20 septembre : atelier autour de la photographie. \n\n\nLes ateliers sont gratuits\, ouverts à tou.te.s à partir de 8 ans. \n\n\nℹSur inscriptions par mail auprès de Dorothée Deltombe : deltombe@lephenix.fr \n\n\n \n\n\n▪️La restitution de cette résidence d’artistes aura lieu vendredi 26 septembre\, à 18h\, dans la halle. Vous pourrez y découvrir le travail participatif de création acrobatique\, photographique et poétique\, qui aura été réalisé dans la commune durant une semaine\, notamment avec les élèves de la classe de CM1 de l’école du Rôleur.\n\n\nℹEntrée est gratuite\, dans la limite des places disponibles.\n\n\n \n\n\n🌸Ce projet artistique vous est proposé dans le cadre de la collaboration entre la Ville\, l’école du rôleur\, le bailleur social SIGH et le Phénix\, scène nationale.
URL:https://www.ville-saint-saulve.fr/event/une-residence-dartistes-a-saint-saulve-%f0%9f%92%9a/
LOCATION:O’Centr’Halle\, 144 rue Jean Jaurès\, Saint-Saulve\, 59880\, France
ATTACH;FMTTYPE=image/jpeg:https://www.ville-saint-saulve.fr/wp-content/uploads/Flyer-XY-Nos-bords-du-monde-ebauche-recto.jpg
END:VEVENT
BEGIN:VEVENT
DTSTART;TZID=Europe/Paris:20250920T093000
DTEND;TZID=Europe/Paris:20250920T120000
DTSTAMP:20260424T173912
CREATED:20250812T130033Z
LAST-MODIFIED:20250812T130038Z
UID:33569-1758360600-1758369600@www.ville-saint-saulve.fr
SUMMARY:WORLD CLEAN UP DAY
DESCRIPTION:👉 1 000 000 de tonnes de déchets abandonnés en France chaque année.\n\n\n👉 500 kg d’ordures ménagères produits par habitant chaque année.\n\n\n👉 30 à 40 milliards de mégots jetés par terre\, chaque année en France.\n\n\n👉 25 millions de bouteilles en plastique jetées chaque jour.\n\n\n \n\n\n⚠️ Une bouteille en plastique peut prendre entre 100 et 1000 ans pour se\n\n\ndécomposer dans la nature.\n\n\n⚠️ L’équivalent d’un camion-poubelle de plastique se déverse dans l’océan\n\n\nchaque minute.\n\n\n \n\n\n➡ Je sais ce que vous vous dîtes… « On ne va pas ramasser la m**** des autres ! ». \n\n\n« On ne va pas se décarcasser pour ceux qui ne jouent pas le jeu. » 😔\n\n\n \n\n\n➡ Et si\, au contraire\, nous leur montrions l’exemple ? « Ils s’en foutent. » Nous\, non. 💪\n\n\n \n\n\nPour des promenades sans soupirs\, pour des balades sans froncer les sourcils\, pour un cadre de vie agréable et des émerveillements\, rejoignons le mouvement ! 🧡\n\n\n▫️Le 20 septembres\, réunissons-nous\, avec nos gants\, pinces\, et autre bonne volonté\, pour un acte citoyen\, dans la solidarité et la joie. La planète est la maison commune. Tou.te.s colocataires 🤜🤛
URL:https://www.ville-saint-saulve.fr/event/world-clean-up-day/
LOCATION:Mairie\, 146 Rue Jean jaures\, St-Saulve\, Haut-de-France\, 59880\, France
ATTACH;FMTTYPE=image/png:https://www.ville-saint-saulve.fr/wp-content/uploads/Post-instagram-ramassage-des-dechets-bleu-et-orange-collage.png
ORGANIZER;CN="Mairie":MAILTO:mairie@ville-saint-saulve.fr
END:VEVENT
BEGIN:VEVENT
DTSTART;TZID=Europe/Paris:20250921T100000
DTEND;TZID=Europe/Paris:20250921T200000
DTSTAMP:20260424T173912
CREATED:20250822T091132Z
LAST-MODIFIED:20250822T091138Z
UID:34141-1758448800-1758484800@www.ville-saint-saulve.fr
SUMMARY:JOURNÉES EUROPÉENNES DU PATRIMOINE
DESCRIPTION:LES JOURNÉES EUROPÉENNES DU PATRIMOINE \nLe dimanche 21 septembre\, le service Culture de la Ville vous donne rendez-vous pour une journée dédiée au patrimoine riche de Saint-Saulve. Cette journée se déroulera en quatre temps forts.\n\n PREMIER TEMPS FORT\n\n\nAprès le bon petit déj’ du dimanche matin\, rendez-vous au parking Fortier\, à 10h\, pour une balade surprenante de quelques kilomètres à travers la ville\, où le patrimoine bâti et non bâti se révèlera à vos yeux de façon unique et inédite.\n\n\n N’oubliez pas votre smartphone ! (un par couple/famille peut suffire).\n\n\nA très vite\, dans les jolies rues de la ville ! \n\n\n\n DEUXIÈME TEMPS FORT\n\n\nLe premier concert de la journée sera celui de la chapelle Saint Jean-Baptiste\, nichée au coeur du quartier de la Pépinière. Il vous permettra d’apprécier ce lieu de culte atypique\, sublimé par la musique jouée par des professeurs et élèves de l’école de musique de Saint-Saulve. Un moment de toute beauté\, intime et céleste\, à apprécier avec douceur et poésie. \n\n\n TROISIÈME TEMPS FORT\n\n\nLe deuxième concert de la journée aura lieu à la chapelle du Carmel\, où un duo de haut vol enchantera ce magnifique lieu de culte\, habité par les soeurs carmélites et ouvert à tou.te.s. au quotidien. Tom et son acolyte Taras maîtrise le marimba et la flûte de pan à la perfection. Deux instruments rares et précieux\, qu’il faut absolument découvrir ! \n\n\n QUATRIÈME TEMPS FORT\n\n\nC’est un concert exceptionnel qui vous attend\, pour clôturer cette journée dédiée au patrimoine de Saint-Saulve. 90 choristes et 40 musiciens vont investir l’église Saint-Martin\, pour un concert qui s’annonce grandiose ! D’autant plus grandiose qu’il est pensé comme un hommage à l’un des plus grands musiciens de l’histoire : Mozart ! Impossible de manquer ce chef d’oeuvre\, conçu par l’Orchestre Symphonique du Hainaut\, orchestré par Emmanuel Puigdemont\, qui se produit dans le Valenciennois depuis le début de l’année.
URL:https://www.ville-saint-saulve.fr/event/journees-europeennes-du-patrimoine/
ATTACH;FMTTYPE=image/jpeg:https://www.ville-saint-saulve.fr/wp-content/uploads/affiche_JEP_20251-scaled.jpg
ORGANIZER;CN="Mairie":MAILTO:mairie@ville-saint-saulve.fr
END:VEVENT
BEGIN:VEVENT
DTSTART;TZID=Europe/Paris:20250925T143000
DTEND;TZID=Europe/Paris:20250925T143000
DTSTAMP:20260424T173912
CREATED:20250829T081636Z
LAST-MODIFIED:20250829T081641Z
UID:34160-1758810600-1758810600@www.ville-saint-saulve.fr
SUMMARY:Activité seniors : Atelier manuel
DESCRIPTION:Atelier manuel avec LiseCréa\nDessin-peinture pour l’événement « Nos Seniors ont du talent ». \nLimité à 10 personnes \nLieu à définir \nRetrouvez le calendrier des animations seniors 2025 en cliquant ici ! \nActivité réservée aux retraités et seniors saint-saulviens\nInscriptions dans la limite des places disponibles et renseignements auprès du service Seniors du pôle accompagner au 03 27 45 05 80 ou par mail à seniors@ville-saint-saulve.fr
URL:https://www.ville-saint-saulve.fr/event/activite-seniors-atelier-manuel-6/
END:VEVENT
BEGIN:VEVENT
DTSTART;TZID=Europe/Paris:20250926T203000
DTEND;TZID=Europe/Paris:20250926T220000
DTSTAMP:20260424T173912
CREATED:20250925T074735Z
LAST-MODIFIED:20250925T074847Z
UID:34517-1758918600-1758924000@www.ville-saint-saulve.fr
SUMMARY:Concert : Véronique Gayot Band
DESCRIPTION:Véronique Gayot Band  à l’Espace Athéna le 26 septembre à 20h30 avec le Blues Inathena pour son Be A Man Tour en Europe ! Une chance inouïe de la voir sur scène à la MJC !!\nToutes les infos et réservation par ici —>Véronique Gayot Band\n15 / 12 €
URL:https://www.ville-saint-saulve.fr/event/concert-veronique-gayot-band/
LOCATION:Espace Athena\, 2 Pl. du 8 Mai 1945\, Saint-Saulve\, 59880\, France
ORGANIZER;CN="MJC":MAILTO:accueil@mjc-athena.org
END:VEVENT
BEGIN:VEVENT
DTSTART;TZID=Europe/Paris:20250927T093000
DTEND;TZID=Europe/Paris:20250927T120000
DTSTAMP:20260424T173912
CREATED:20250704T070133Z
LAST-MODIFIED:20250704T071955Z
UID:33197-1758965400-1758974400@www.ville-saint-saulve.fr
SUMMARY:Assmat'Dating
DESCRIPTION:ASSMAT’DATING – Trouvez le mode de garde qui vous correspond ! \n\n\n\nVous recherchez un.e assistant.e maternel.le pour accueillir votre enfant ?\nLes Relais Petite Enfance des villes de Saint-Saulve\, Aulnoy-lez-Valenciennes et Bruay-sur-lEscaut organisent un Assmat’Dating\, un moment unique pour rencontrer directement des professionnels de la petite enfance.\n\n\n\n Samedi 27 septembre\n De 9h30 à 12h\n Salle des fêtes de Saint-Saulve\n\n\n\n Lors de cet événement\, vous pourrez :\n Échanger avec des assistant.e.s maternel.le.s disponibles et découvrir leur mode d’accueil\n Poser toutes vos questions sur l’organisation\, les horaires\, les activités proposées\n Être conseillé.e. et accompagné.e par les équipes des Relais Petite Enfance\n Trouver plus facilement une solution d’accueil adaptée à vos besoins\n\n\n\n Un moment convivial pensé pour vous aider dans vos démarches et préparer sereinement la garde de votre enfant.\n\n\n\n Entrée libre et gratuite.\n\n\n👉 Plus d’infos auprès d’Elodie Leroy :\n📞 03 27 28 63 40\n📧 leroy.e@ville-saint-saulve.fr
URL:https://www.ville-saint-saulve.fr/event/assmatdating/
LOCATION:Salle des Fêtes\, 8 place Louis Maillard\, Saint-Saulve\, Hauts-de-France\, 59880\, France
ATTACH;FMTTYPE=image/jpeg:https://www.ville-saint-saulve.fr/wp-content/uploads/affiche_assmat_dating-scaled.jpg
END:VEVENT
BEGIN:VEVENT
DTSTART;TZID=Europe/Paris:20250930T180000
DTEND;TZID=Europe/Paris:20250930T180000
DTSTAMP:20260424T173912
CREATED:20250926T090831Z
LAST-MODIFIED:20250926T091100Z
UID:34542-1759255200-1759255200@www.ville-saint-saulve.fr
SUMMARY:Furieux Ferdinand : Des rencontres créatives entre artistes et habitants
DESCRIPTION:Furieux Ferdinand\, c’est trois gars qui fabriquent leurs sons dans leur coin\, comme d’autres préparent le concours Lépine… Pierre Boudeulle écrit des textes entre rap et poésie\, Aldo Platteau compose sur ses claviers et Fred Flam beatmake et scratche sur ses platines. Ce trio triphasé fonctionne sur courant alternatif. Parfois trip-hop\, parfois hip-hop\, parfois électro mais toujours chaleureux… Mêlant leurs influences\, leurs sens accompagnent des textes qui se racontent comme des histoires\, au coin du feu. \nAvec le soutien de la MJC de Saint-Saulve et du Printemps Culturel\, les musiciens de Furieux Ferdinand partent à la rencontre des habitants du Valenciennois\, pour nourrir leurs écritures et créer de nouvelles chansons.\nCes rencontres seront l’occasion de faire découvrir des extraits de leur musique dans les villes et villages\, centres sociaux\, collèges\, médiathèques… puis d’échanger\, de recueillir des paroles\, des témoignages de vie\, en les enregistrant. Peut-être même feront-ils chanter des chœurs éphémères d’habitants… Pour tout cela\, ils seront aussi acccompagnés de l’artiste de rue et vidéaste\, Ardestop\, qui suivra tout le processus avec sa caméra. Ainsi ces habitants pourront participer au tournage d’un clip du groupe. \nLe résultat de ce travail de création collectif sera présenté en concert\, pendant le festival À Travers Chants\, en mars 2026\, sur la scène de la MJC de Saint-Saulve. Médiation\, création\, voix : Pierre Boudeulle – Claviériste : Aldo Platteau Scratch : Fred Flamme – Captation images : Ardestop – Naïm Abdelhakmi \nÉvénement gratuit ouvert à toutes et tous
URL:https://www.ville-saint-saulve.fr/event/furieux-ferdinand-des-rencontres-creatives-entre-artistes-et-habitants/
LOCATION:Espace Athena\, 2 Pl. du 8 Mai 1945\, Saint-Saulve\, 59880\, France
ORGANIZER;CN="MJC":MAILTO:accueil@mjc-athena.org
END:VEVENT
END:VCALENDAR