BEGIN:VCALENDAR
VERSION:2.0
PRODID:-//Ville de Saint Saulve - ECPv6.15.20//NONSGML v1.0//EN
CALSCALE:GREGORIAN
METHOD:PUBLISH
X-WR-CALNAME:Ville de Saint Saulve
X-ORIGINAL-URL:https://www.ville-saint-saulve.fr
X-WR-CALDESC:Évènements pour Ville de Saint Saulve
REFRESH-INTERVAL;VALUE=DURATION:PT1H
X-Robots-Tag:noindex
X-PUBLISHED-TTL:PT1H
BEGIN:VTIMEZONE
TZID:Europe/Paris
BEGIN:DAYLIGHT
TZOFFSETFROM:+0100
TZOFFSETTO:+0200
TZNAME:CEST
DTSTART:20240331T010000
END:DAYLIGHT
BEGIN:STANDARD
TZOFFSETFROM:+0200
TZOFFSETTO:+0100
TZNAME:CET
DTSTART:20241027T010000
END:STANDARD
BEGIN:DAYLIGHT
TZOFFSETFROM:+0100
TZOFFSETTO:+0200
TZNAME:CEST
DTSTART:20250330T010000
END:DAYLIGHT
BEGIN:STANDARD
TZOFFSETFROM:+0200
TZOFFSETTO:+0100
TZNAME:CET
DTSTART:20251026T010000
END:STANDARD
BEGIN:DAYLIGHT
TZOFFSETFROM:+0100
TZOFFSETTO:+0200
TZNAME:CEST
DTSTART:20260329T010000
END:DAYLIGHT
BEGIN:STANDARD
TZOFFSETFROM:+0200
TZOFFSETTO:+0100
TZNAME:CET
DTSTART:20261025T010000
END:STANDARD
END:VTIMEZONE
BEGIN:VEVENT
DTSTART;TZID=Europe/Paris:20251031T090000
DTEND;TZID=Europe/Paris:20251102T160000
DTSTAMP:20260424T144501
CREATED:20251017T084854Z
LAST-MODIFIED:20251017T084914Z
UID:34777-1761901200-1762099200@www.ville-saint-saulve.fr
SUMMARY:Opération "Toussaint solidaire"
DESCRIPTION:Comme chaque année\, la Ville organise son action “Toussaint solidaire” au cimetière.Du 31 octobre au 2 novembre\, des bénévoles seront présents pour vous aider à nettoyer et fleurir les tombes de vos proches. 💐 \nCette belle initiative\, portée par le service Emploi-Formation\, rassemble des volontaires prêts à offrir un peu de leur temps pour un geste citoyen et solidaire à l’occasion de la Toussaint. \n📅 Quand ? Les 31 octobre\, 1er et 2 novembre🕘 Horaires : de 9h à 16h🦺 Comment les reconnaître ? Grâce à leur chasuble fluorescente \nN’hésitez pas à les solliciter ! 🤝Un petit coup de main\, un grand geste de solidarité 💚
URL:https://www.ville-saint-saulve.fr/event/operation-toussaint-solidaire/
LOCATION:Cimetière\, Rue Charles Giraud\, Saint-Saulve\, Sélectionner un État :\, 59880\, France
ATTACH;FMTTYPE=image/jpeg:https://www.ville-saint-saulve.fr/wp-content/uploads/affiche_operation_toussaint_web-scaled.jpg
END:VEVENT
BEGIN:VEVENT
DTSTART;TZID=Europe/Paris:20251101T140000
DTEND;TZID=Europe/Paris:20251101T140000
DTSTAMP:20260424T144501
CREATED:20251003T090811Z
LAST-MODIFIED:20251003T090905Z
UID:34706-1762005600-1762005600@www.ville-saint-saulve.fr
SUMMARY:Super loto traditionnel
DESCRIPTION:Samedi 1er Novembre à partir de 14h\nSuper Loto traditionnel organisé par l’association des supporters Foot Loisirs de Saint-Saulve\, à la salle des fêtes.\nÀ la clé\, 3852 € en bons d’achat de 16 à 1 000 €.\n12 tirages durant l’après-midi + tirages spéciaux. \nEntrée gratuite – Ouvert à tous\nRéservations au 06 98 88 50 29
URL:https://www.ville-saint-saulve.fr/event/super-loto-traditionnel-40/
LOCATION:Salle des Fêtes\, 8 place Louis Maillard\, Saint-Saulve\, Hauts-de-France\, 59880\, France
ATTACH;FMTTYPE=image/jpeg:https://www.ville-saint-saulve.fr/wp-content/uploads/loto.jpg
END:VEVENT
BEGIN:VEVENT
DTSTART;TZID=Europe/Paris:20251102T140000
DTEND;TZID=Europe/Paris:20251102T140000
DTSTAMP:20260424T144501
CREATED:20251003T091224Z
LAST-MODIFIED:20251003T091317Z
UID:34708-1762092000-1762092000@www.ville-saint-saulve.fr
SUMMARY:Super loto traditionnel
DESCRIPTION:Dimanche 2 Novembre à partir de 14h\nSuper Loto traditionnel organisé par l’association Vélo Club Amicale Saint-Saulve\, à la salle des fêtes.\nÀ la clé\, 5000 € en bons d’achat de 15 à 1 000 €.\n12 tirages durant l’après-midi + tirages spéciaux. \nEntrée gratuite – Ouvert à tous\nRéservations au 06 98 88 50 29
URL:https://www.ville-saint-saulve.fr/event/super-loto-traditionnel-41/
LOCATION:Salle des Fêtes\, 8 place Louis Maillard\, Saint-Saulve\, Hauts-de-France\, 59880\, France
ATTACH;FMTTYPE=image/jpeg:https://www.ville-saint-saulve.fr/wp-content/uploads/loto.jpg
END:VEVENT
BEGIN:VEVENT
DTSTART;TZID=Europe/Paris:20251104T090000
DTEND;TZID=Europe/Paris:20251107T170000
DTSTAMP:20260424T144501
CREATED:20251027T135321Z
LAST-MODIFIED:20251027T135559Z
UID:34953-1762246800-1762534800@www.ville-saint-saulve.fr
SUMMARY:Campagne d'hiver inscriptions aux restos du coeur
DESCRIPTION:
URL:https://www.ville-saint-saulve.fr/event/campagne-dhiver-inscriptions-aux-restos-du-coeur/
LOCATION:Salle des Fêtes\, 8 place Louis Maillard\, Saint-Saulve\, Hauts-de-France\, 59880\, France
ATTACH;FMTTYPE=image/png:https://www.ville-saint-saulve.fr/wp-content/uploads/campagne_hiver_restos_du_coeur.png
END:VEVENT
BEGIN:VEVENT
DTSTART;TZID=Europe/Paris:20251104T143000
DTEND;TZID=Europe/Paris:20251104T143000
DTSTAMP:20260424T144501
CREATED:20251029T094710Z
LAST-MODIFIED:20251029T094719Z
UID:34976-1762266600-1762266600@www.ville-saint-saulve.fr
SUMMARY:Activité seniors : initiation geste 1er secours
DESCRIPTION:Utilisation du défibrillateur avec Jean-Paul\nLimité à 10 personnes \nRetrouvez le calendrier des animations seniors 2025 en cliquant ici ! \nActivité réservée aux retraités et seniors saint-saulviens\nInscriptions dans la limite des places disponibles et renseignements auprès du service Seniors du pôle accompagner au 03 27 45 05 80 ou par mail à seniors@ville-saint-saulve.fr
URL:https://www.ville-saint-saulve.fr/event/activite-seniors-initiation-geste-1er-secours-8/
LOCATION:Salle du Bosquet\, Av. Guillaume Apollinaire\, 59880 Saint-Saulve\, Saint-Saulve\, 59880
END:VEVENT
BEGIN:VEVENT
DTSTART;TZID=Europe/Paris:20251104T183000
DTEND;TZID=Europe/Paris:20251104T183000
DTSTAMP:20260424T144501
CREATED:20250926T122001Z
LAST-MODIFIED:20251028T163136Z
UID:34557-1762281000-1762281000@www.ville-saint-saulve.fr
SUMMARY:SPECTACLE MUSICAL FESTIVAL PÉPITE FORÊT 2025 : FLOP
DESCRIPTION:Mardi 4 novembre 2025 – 18h30 \nUne immersion dans l’univers graphique et sonore des Chats Pelés avec le personnage de Flop\, héros du livre paru en 2023 aux Editions de la Philharmonie des Enfants.\nDans ce théâtre d’objets et de sons fantasques\, le quatuor de multi-instrumentistes fait découvrir aux enfants toute la variété de l’univers des sons :\nDu silence jusqu’au bruit le plus détonant\, de la musique composée à la chanson douce…dans un univers visuel simple et coloré\, poétique et ludique. \nGroupe PATATRA Chant\, percussions : Lionel Le Néouanic – Chant\, arrosoir\, percussions : Christian Olivier Guitares\, percussions\, choeur : Martial Bort – orgue\, scie musicale\, trompette\, choeur : Pierre Payan – Musique : Christian Olivier – Scénographie\, animations\, mise en scène et textes : Les Chats Pelés (Christian Olivier et Lionel Le Néouanic) – Lumière et projections : David Conier – Son : Wladimir Sorokine. Co-production : Philharmonie de Paris Avec le soutien de L’espace Culturel de St Vallier ( 71) et la SACEM Gommettes production. \nTarifs : 10 / 8 euros – Jeune public dès 6 ans – Durée : 50 mn
URL:https://www.ville-saint-saulve.fr/event/spectacle-musical-festival-pepite-foret-2025-flop/
LOCATION:Espace Athena\, 2 Pl. du 8 Mai 1945\, Saint-Saulve\, 59880\, France
ORGANIZER;CN="MJC":MAILTO:accueil@mjc-athena.org
END:VEVENT
BEGIN:VEVENT
DTSTART;TZID=Europe/Paris:20251106T200000
DTEND;TZID=Europe/Paris:20251106T200000
DTSTAMP:20260424T144501
CREATED:20250926T122522Z
LAST-MODIFIED:20250926T122627Z
UID:34561-1762459200-1762459200@www.ville-saint-saulve.fr
SUMMARY:Blague Friday : Spectacle Murder Party
DESCRIPTION:La troupe de théâtre d’adultes de la MJC vous attend de pied ferme pour vous faire mourir de rire…ou mourir de peur.\nChat noir et superstitions\, meurtres et mystères\, rires et délires\, voici quelques ingrédients de cette potion maléfique\, de cette « Murder Party » dont vous serez le spectateur… ou la victime. \nRejoignez-nous pour cette folle soirée où tout sera possible… \nTarifs : 6 / 4 euros – Tout public
URL:https://www.ville-saint-saulve.fr/event/blague-friday-spectacle-murder-party/
LOCATION:Espace Athena\, 2 Pl. du 8 Mai 1945\, Saint-Saulve\, 59880\, France
ORGANIZER;CN="MJC":MAILTO:accueil@mjc-athena.org
END:VEVENT
BEGIN:VEVENT
DTSTART;TZID=Europe/Paris:20251107T143000
DTEND;TZID=Europe/Paris:20251107T143000
DTSTAMP:20260424T144501
CREATED:20251029T094854Z
LAST-MODIFIED:20251029T094902Z
UID:34978-1762525800-1762525800@www.ville-saint-saulve.fr
SUMMARY:Activité Seniors - Yoga du rire
DESCRIPTION:Yoga du rire\nRetrouvez le calendrier des animations seniors 2025 en cliquant ici ! \nActivité réservée aux retraités et seniors saint-saulviens\nInscriptions dans la limite des places disponibles et renseignements auprès du service Seniors du pôle accompagner au 03 27 45 05 80 ou par mail à seniors@ville-saint-saulve.fr
URL:https://www.ville-saint-saulve.fr/event/activite-seniors-yoga-du-rire-3/
LOCATION:O’Centr’Halle\, 144 rue Jean Jaurès\, Saint-Saulve\, 59880\, France
END:VEVENT
BEGIN:VEVENT
DTSTART;TZID=Europe/Paris:20251109T090000
DTEND;TZID=Europe/Paris:20251109T130000
DTSTAMP:20260424T144501
CREATED:20250107T104046Z
LAST-MODIFIED:20250627T080431Z
UID:30942-1762678800-1762693200@www.ville-saint-saulve.fr
SUMMARY:Marché du terroir et de l'artisanat
DESCRIPTION:
URL:https://www.ville-saint-saulve.fr/event/marche-du-terroir-et-de-lartisanat-22/
LOCATION:O’Centr’Halle\, 144 rue Jean Jaurès\, Saint-Saulve\, 59880\, France
ATTACH;FMTTYPE=image/jpeg:https://www.ville-saint-saulve.fr/wp-content/uploads/affiche_marche_terroir_artisanat_novembre_2025-scaled.jpg
END:VEVENT
BEGIN:VEVENT
DTSTART;TZID=Europe/Paris:20251111T110000
DTEND;TZID=Europe/Paris:20251111T120000
DTSTAMP:20260424T144501
CREATED:20251027T172320Z
LAST-MODIFIED:20251027T172328Z
UID:34969-1762858800-1762862400@www.ville-saint-saulve.fr
SUMMARY:COMMÉMORATION DE L'ARMISTICE
DESCRIPTION:PETITE HISTOIRE DANS LA GRANDE\n[LE BLEUET] \n▫️Le bleuet est reconnu comme la fleur française du souvenir.\nSon histoire commence au cœur des tranchées de la Première Guerre mondiale… \n▫️Alors que les combats font rage\, les soldats français remarquent que les bleuets continuent de pousser sur les champs de bataille dévastés… Ils y voient un symbole de résilience\, de ténacité et d’espoir au milieu du chaos. ❤️ \n▫️Dès l’année 1918\, le bleuet est officiellement adopté comme symbole de la mémoire des soldats tombés au combat.\nL’initiative revient à Charlotte Malleterre et Suzanne Leenhardt\, deux infirmières de l’Institution Nationale des Invalides. \n▫️Ces dernières ont l’idée de faire confectionner aux pensionnaires blessés des bleuets en tissu et de les vendre sur la voie publique\, pour récolter des fonds en leur faveur. ❤️
URL:https://www.ville-saint-saulve.fr/event/commemoration-de-larmistice-2/
ATTACH;FMTTYPE=image/jpeg:https://www.ville-saint-saulve.fr/wp-content/uploads/affiche_11_novembre_2025_web-scaled.jpg
END:VEVENT
BEGIN:VEVENT
DTSTART;TZID=Europe/Paris:20251113T140000
DTEND;TZID=Europe/Paris:20251113T140000
DTSTAMP:20260424T144501
CREATED:20251029T095044Z
LAST-MODIFIED:20251029T095052Z
UID:34981-1763042400-1763042400@www.ville-saint-saulve.fr
SUMMARY:Activité seniors : Atelier Fortier
DESCRIPTION:Karaoké / quiz musical\nFaîtes appel à votre mémoire et à votre voix pour une après-midi folle au rythme de la musique ! \nRetrouvez le calendrier des animations seniors 2025 en cliquant ici ! \nActivité réservée aux retraités et seniors saint-saulviens\nInscriptions dans la limite des places disponibles et renseignements auprès du service Seniors du pôle accompagner au 03 27 45 05 80 ou par mail à seniors@ville-saint-saulve.fr
URL:https://www.ville-saint-saulve.fr/event/activite-seniors-atelier-fortier-24/
LOCATION:Centre de loisirs Fortier\, 44 Rue Henri Barbusse\, Saint-Saulve\, 59880\, France
END:VEVENT
BEGIN:VEVENT
DTSTART;TZID=Europe/Paris:20251115T180000
DTEND;TZID=Europe/Paris:20251115T200000
DTSTAMP:20260424T144501
CREATED:20251030T145915Z
LAST-MODIFIED:20251030T150042Z
UID:35001-1763229600-1763236800@www.ville-saint-saulve.fr
SUMMARY:CONCERT DE L'HARMONIE MUNICIPALE LORS DE LA MESSE DE SAINTE-CÉCILE
DESCRIPTION:L’orchestre-harmonie municipale de Saint-Saulve vous invite à son concert de Sainte-Cécile\, lors de la messe dédiée à la sainte patronne des musiciens. 🩷\nVenez nombreuses et nombreux célébrer cette messe pas comme les autres. ✨
URL:https://www.ville-saint-saulve.fr/event/concert-de-lharmonie-municipale-lors-de-la-messe-de-sainte-cecile/
LOCATION:Église Saint-Martin\, Pl. Francisco Ferrer\, Saint-Saulve\, 59880\, France
ATTACH;FMTTYPE=image/jpeg:https://www.ville-saint-saulve.fr/wp-content/uploads/affiche_concert_sainte_cecile_web-1-scaled.jpg
END:VEVENT
BEGIN:VEVENT
DTSTART;TZID=Europe/Paris:20251115T190000
DTEND;TZID=Europe/Paris:20251115T190000
DTSTAMP:20260424T144501
CREATED:20250926T124225Z
LAST-MODIFIED:20250926T124249Z
UID:34565-1763233200-1763233200@www.ville-saint-saulve.fr
SUMMARY:Festival Haute Fréquence
DESCRIPTION:Samedi 15 novembre 2025 – Ouverture des portes à 19h00 \nLa FLAC (Fédération Locale Alternative Culturelle) propose\, en partenariat avec la MJC de Saint Saulve\, une résonance du festival Haute-Fréquence au sein de l’Espace Athéna à Saint-Saulve.\nUne soirée dédiée aux musiques électroniques live avec de véritables performances artistiques de groupes locaux et nationaux (Makoto San\, YMNK\, Wild Animal). \nPlus d’informations à venir sur https://www.haute-frequence.fr \nTarifs : 6 / 4 euros – Tout public
URL:https://www.ville-saint-saulve.fr/event/festival-haute-frequence/
LOCATION:Espace Athena\, 2 Pl. du 8 Mai 1945\, Saint-Saulve\, 59880\, France
ORGANIZER;CN="MJC":MAILTO:accueil@mjc-athena.org
END:VEVENT
BEGIN:VEVENT
DTSTART;TZID=Europe/Paris:20251116T140000
DTEND;TZID=Europe/Paris:20251116T140000
DTSTAMP:20260424T144501
CREATED:20251029T084853Z
LAST-MODIFIED:20251029T084901Z
UID:34974-1763301600-1763301600@www.ville-saint-saulve.fr
SUMMARY:Super loto traditionnel
DESCRIPTION:Dimanche 16 Novembre à partir de 14h\nSuper Loto traditionnel organisé par l’association L’Olympique de Saint Saulve\, à la salle des fêtes.\nÀ la clé\, 4150 € en bons d’achat de 15 à 1 000 €.\n12 tirages durant l’après-midi + tirages spéciaux. \nEntrée gratuite – Ouvert à tous\nRéservations au 06 98 88 50 29
URL:https://www.ville-saint-saulve.fr/event/super-loto-traditionnel-43/
LOCATION:Salle des Fêtes\, 8 place Louis Maillard\, Saint-Saulve\, Hauts-de-France\, 59880\, France
ATTACH;FMTTYPE=image/jpeg:https://www.ville-saint-saulve.fr/wp-content/uploads/loto.jpg
END:VEVENT
BEGIN:VEVENT
DTSTART;TZID=Europe/Paris:20251117T100000
DTEND;TZID=Europe/Paris:20251117T100000
DTSTAMP:20260424T144501
CREATED:20251029T095321Z
LAST-MODIFIED:20251029T095321Z
UID:34983-1763373600-1763373600@www.ville-saint-saulve.fr
SUMMARY:Activité seniors : Taï Chi (COMPLET)
DESCRIPTION:Taï Chi\nLimité à 10 personnes\nCOMPLET \nRetrouvez le calendrier des animations seniors 2025 en cliquant ici ! \nActivité réservée aux retraités et seniors saint-saulviens\nInscriptions dans la limite des places disponibles et renseignements auprès du service Seniors du pôle accompagner au 03 27 45 05 80 ou par mail à seniors@ville-saint-saulve.fr
URL:https://www.ville-saint-saulve.fr/event/activite-seniors-tai-chi-complet/
LOCATION:Salle des sports Coubertin\, 33 Rue Roger Salengro\, Saint-Saulve\, 59880\, France
END:VEVENT
BEGIN:VEVENT
DTSTART;TZID=Europe/Paris:20251118T100000
DTEND;TZID=Europe/Paris:20251118T100000
DTSTAMP:20260424T144501
CREATED:20251029T095646Z
LAST-MODIFIED:20251029T100649Z
UID:34985-1763460000-1763460000@www.ville-saint-saulve.fr
SUMMARY:Activité seniors : Gym douce
DESCRIPTION:Gym douce\nLimité à 15 personnes \nRetrouvez le calendrier des animations seniors 2025 en cliquant ici ! \nActivité réservée aux retraités et seniors saint-saulviens\nInscriptions dans la limite des places disponibles et renseignements auprès du service Seniors du pôle accompagner au 03 27 45 05 80 ou par mail à seniors@ville-saint-saulve.fr
URL:https://www.ville-saint-saulve.fr/event/activite-seniors-gym-douce/
LOCATION:Résidence La Chataigneraie\, Avenue de l'Europe\, Saint-Saulve\, 59880\, France
END:VEVENT
BEGIN:VEVENT
DTSTART;TZID=Europe/Paris:20251120T140000
DTEND;TZID=Europe/Paris:20251120T140000
DTSTAMP:20260424T144501
CREATED:20251029T100759Z
LAST-MODIFIED:20251029T100807Z
UID:34987-1763647200-1763647200@www.ville-saint-saulve.fr
SUMMARY:Activité seniors : Sortie au Bowling
DESCRIPTION:Sortie bowling de l’Arsenal\nLimité à 16 personnes\nPAYANT \nDépart à 14h au centre de loisirs Fortier \nRetrouvez le calendrier des animations seniors 2025 en cliquant ici ! \nActivité réservée aux retraités et seniors saint-saulviens\nInscriptions dans la limite des places disponibles et renseignements auprès du service Seniors du pôle accompagner au 03 27 45 05 80 ou par mail à seniors@ville-saint-saulve.fr
URL:https://www.ville-saint-saulve.fr/event/activite-seniors-sortie-au-bowling-4/
LOCATION:Centre de loisirs Fortier\, 44 Rue Henri Barbusse\, Saint-Saulve\, 59880\, France
END:VEVENT
BEGIN:VEVENT
DTSTART;VALUE=DATE:20251121
DTEND;VALUE=DATE:20251123
DTSTAMP:20260424T144501
CREATED:20250926T125132Z
LAST-MODIFIED:20250926T125140Z
UID:34569-1763683200-1763855999@www.ville-saint-saulve.fr
SUMMARY:ATHENA BLUES FESTIVAL
DESCRIPTION:
URL:https://www.ville-saint-saulve.fr/event/athena-blues-festival-3/
LOCATION:Espace Athena\, 2 Pl. du 8 Mai 1945\, Saint-Saulve\, 59880\, France
ORGANIZER;CN="MJC":MAILTO:accueil@mjc-athena.org
END:VEVENT
BEGIN:VEVENT
DTSTART;TZID=Europe/Paris:20251121T173000
DTEND;TZID=Europe/Paris:20251121T173000
DTSTAMP:20260424T144501
CREATED:20251021T093924Z
LAST-MODIFIED:20251021T095503Z
UID:34834-1763746200-1763746200@www.ville-saint-saulve.fr
SUMMARY:Tournoi de belote
DESCRIPTION:
URL:https://www.ville-saint-saulve.fr/event/tournoi-de-belote-2/
LOCATION:Salle des Fêtes\, 8 place Louis Maillard\, Saint-Saulve\, Hauts-de-France\, 59880\, France
ATTACH;FMTTYPE=image/jpeg:https://www.ville-saint-saulve.fr/wp-content/uploads/558640560_1279090627564682_3959482913287321916_n.jpg
END:VEVENT
BEGIN:VEVENT
DTSTART;TZID=Europe/Paris:20251124T190000
DTEND;TZID=Europe/Paris:20251124T190000
DTSTAMP:20260424T144501
CREATED:20250929T131209Z
LAST-MODIFIED:20251118T160708Z
UID:34593-1764010800-1764010800@www.ville-saint-saulve.fr
SUMMARY:Réunion du conseil municipal
DESCRIPTION:Le conseil municipal se réunira le lundi 24 novembre à 19h à l’hôtel de ville. \nConsultez l’ordre du jour
URL:https://www.ville-saint-saulve.fr/event/reunion-du-conseil-municipal-21/
LOCATION:Mairie\, 146 Rue Jean jaures\, St-Saulve\, Haut-de-France\, 59880\, France
ATTACH;FMTTYPE=image/jpeg:https://www.ville-saint-saulve.fr/wp-content/uploads/2022/11/316417265_541470508017172_8437615211820158479_n.jpeg
END:VEVENT
BEGIN:VEVENT
DTSTART;TZID=Europe/Paris:20251125T143000
DTEND;TZID=Europe/Paris:20251125T143000
DTSTAMP:20260424T144501
CREATED:20251029T101002Z
LAST-MODIFIED:20251029T101011Z
UID:34989-1764081000-1764081000@www.ville-saint-saulve.fr
SUMMARY:Activité seniors : Activités manuelles avec Colette
DESCRIPTION:Activités manuelles avec Colette\nOrigami sur le thème de Noël \nLimité à 10 personnes \nRetrouvez le calendrier des animations seniors 2025 en cliquant ici ! \nActivité réservée aux retraités et seniors saint-saulviens\nInscriptions dans la limite des places disponibles et renseignements auprès du service Seniors du pôle accompagner au 03 27 45 05 80 ou par mail à seniors@ville-saint-saulve.fr
URL:https://www.ville-saint-saulve.fr/event/activite-seniors-activites-manuelles-avec-colette-2/
LOCATION:Salle du Bosquet\, Av. Guillaume Apollinaire\, 59880 Saint-Saulve\, Saint-Saulve\, 59880
END:VEVENT
BEGIN:VEVENT
DTSTART;TZID=Europe/Paris:20251126T133000
DTEND;TZID=Europe/Paris:20251126T163000
DTSTAMP:20260424T144501
CREATED:20251118T082841Z
LAST-MODIFIED:20251118T083122Z
UID:35105-1764163800-1764174600@www.ville-saint-saulve.fr
SUMMARY:FORUM DE L'ORIENTATION
DESCRIPTION:Un rendez-vous incontournable pour préparer ton avenir !\n\n\nLa Ville organise son forum de l’orientation\, en partenariat avec Proch’Orientation\, le mercredi 26 novembre\, de 13h30 à 16h30\, O’Centr’Halle. Cet événement est ouvert à tous.\n\n\n Au programme :\n des stands d’information tenus par des organismes de formation\, des CFA et des professionnels passionnés de différents secteurs\n des conseils personnalisés pour t’aider à construire ton parcours scolaire\n des rencontres pour découvrir des métiers\, poser des questions et comprendre les opportunités qui s’offrent à toi\n\n\nQue tu hésites encore sur ton futur métier\, que tu cherches une formation ou que tu souhaites simplement t’informer\, ce forum est l’occasion idéale pour avancer dans ton parcours. \n\n\nViens explorer\, échanger et imaginer ton avenir !
URL:https://www.ville-saint-saulve.fr/event/forum-de-lorientation-4/
LOCATION:O’Centr’Halle\, 144 rue Jean Jaurès\, Saint-Saulve\, 59880\, France
ATTACH;FMTTYPE=image/jpeg:https://www.ville-saint-saulve.fr/wp-content/uploads/affiche_forum_orientation_web-scaled.jpg
END:VEVENT
BEGIN:VEVENT
DTSTART;TZID=Europe/Paris:20251127T143000
DTEND;TZID=Europe/Paris:20251127T143000
DTSTAMP:20260424T144501
CREATED:20251029T101346Z
LAST-MODIFIED:20251029T101354Z
UID:34991-1764253800-1764253800@www.ville-saint-saulve.fr
SUMMARY:Activité seniors : Atelier manuel
DESCRIPTION:Atelier manuel avec LiseCréa\nDessin-peinture de votre patrimoine personnel \nLimité à 10 personnes \nRetrouvez le calendrier des animations seniors 2025 en cliquant ici ! \nActivité réservée aux retraités et seniors saint-saulviens\nInscriptions dans la limite des places disponibles et renseignements auprès du service Seniors du pôle accompagner au 03 27 45 05 80 ou par mail à seniors@ville-saint-saulve.fr
URL:https://www.ville-saint-saulve.fr/event/activite-seniors-atelier-manuel-8/
LOCATION:Salle du Bosquet\, Av. Guillaume Apollinaire\, 59880 Saint-Saulve\, Saint-Saulve\, 59880
END:VEVENT
BEGIN:VEVENT
DTSTART;TZID=Europe/Paris:20251128T200000
DTEND;TZID=Europe/Paris:20251128T200000
DTSTAMP:20260424T144501
CREATED:20250926T125816Z
LAST-MODIFIED:20250926T125822Z
UID:34573-1764360000-1764360000@www.ville-saint-saulve.fr
SUMMARY:LECTURE - SPECTACLE : SANSFEU
DESCRIPTION:Vendredi 28 novembre 2025 – 20h00 \nTarifs : 8 / 6 euros – Tout public dès 17 ans – Durée : 1h15 \n« Tu es là. Tu as peur. Tu as peur\, mais tu es là. Et l’ennemi approche. Reculer\, pas question. Tu es là et tu ne bougeras pas. Ça bourdonne dans ta tête : résister\, c’est vaincre… Ce n’est plus un slogan\, c’est là\, incorporé à ton esprit\, à tes nerfs\, à tout ton corps. Résister. »\nSANSFEU est le récit épique\, foisonnant\, intime aussi\, d’un jeune homme – Alfonso Garcia Reseco –  qui a perdu sa famille\, son pays… SANSFEU est une lecture-spectacle qui met en scène\, pour la première fois\, l’histoire d’un jeune antifasciste\, profondément pacifiste\, plongé dans la pire des situations : la guerre.\nSANSFEU nous parle des exils que produisent les temps de guerre. Son héros nous entraîne dans une errance en Espagne\, en France et en Allemagne\, en ces « camps de misère » où la méchanceté côtoie la bonté\, la dignité. Il s’agit encore et toujours de lutte contre l’oubli\, de connaissance nécessaire et de transmission. \nTexte inédit d’Alfonso Garcia Reseco et Jeanne Loisy\nLecture-spectacle avec Jean-Marie Balembois\nMise en scène\, adaptation : Dominique Surmais\nMusique : Laurent Doizelet
URL:https://www.ville-saint-saulve.fr/event/lecture-spectacle-sansfeu/
LOCATION:Espace Athena\, 2 Pl. du 8 Mai 1945\, Saint-Saulve\, 59880\, France
ORGANIZER;CN="MJC":MAILTO:accueil@mjc-athena.org
END:VEVENT
BEGIN:VEVENT
DTSTART;TZID=Europe/Paris:20251130T140000
DTEND;TZID=Europe/Paris:20251130T163000
DTSTAMP:20260424T144501
CREATED:20251022T141334Z
LAST-MODIFIED:20251022T141342Z
UID:34933-1764511200-1764520200@www.ville-saint-saulve.fr
SUMMARY:Super loto traditionnel
DESCRIPTION:Dimanche 30 Novembre à partir de 14h\nSuper Loto traditionnel organisé par l’association aux charmes d’antan\, à la salle des fêtes.\nÀ la clé\, 3200 € en bons d’achat de 30 à 1 000 €.\nAnimé par Seb le Pinpon \nEntrée gratuite – Ouvert aux personnes déguisées pour Halloween\nRéservations au 06 64 53 06 38
URL:https://www.ville-saint-saulve.fr/event/super-loto-traditionnel-42/
LOCATION:Salle des Fêtes\, 8 place Louis Maillard\, Saint-Saulve\, Hauts-de-France\, 59880\, France
ATTACH;FMTTYPE=image/jpeg:https://www.ville-saint-saulve.fr/wp-content/uploads/loto.jpg
END:VEVENT
END:VCALENDAR