BEGIN:VCALENDAR
VERSION:2.0
PRODID:-//Ville de Saint Saulve - ECPv6.15.20//NONSGML v1.0//EN
CALSCALE:GREGORIAN
METHOD:PUBLISH
X-ORIGINAL-URL:https://www.ville-saint-saulve.fr
X-WR-CALDESC:Évènements pour Ville de Saint Saulve
REFRESH-INTERVAL;VALUE=DURATION:PT1H
X-Robots-Tag:noindex
X-PUBLISHED-TTL:PT1H
BEGIN:VTIMEZONE
TZID:Europe/Paris
BEGIN:DAYLIGHT
TZOFFSETFROM:+0100
TZOFFSETTO:+0200
TZNAME:CEST
DTSTART:20250330T010000
END:DAYLIGHT
BEGIN:STANDARD
TZOFFSETFROM:+0200
TZOFFSETTO:+0100
TZNAME:CET
DTSTART:20251026T010000
END:STANDARD
BEGIN:DAYLIGHT
TZOFFSETFROM:+0100
TZOFFSETTO:+0200
TZNAME:CEST
DTSTART:20260329T010000
END:DAYLIGHT
BEGIN:STANDARD
TZOFFSETFROM:+0200
TZOFFSETTO:+0100
TZNAME:CET
DTSTART:20261025T010000
END:STANDARD
BEGIN:DAYLIGHT
TZOFFSETFROM:+0100
TZOFFSETTO:+0200
TZNAME:CEST
DTSTART:20270328T010000
END:DAYLIGHT
BEGIN:STANDARD
TZOFFSETFROM:+0200
TZOFFSETTO:+0100
TZNAME:CET
DTSTART:20271031T010000
END:STANDARD
END:VTIMEZONE
BEGIN:VEVENT
DTSTART;TZID=Europe/Paris:20260606T083000
DTEND;TZID=Europe/Paris:20260606T163000
DTSTAMP:20260424T104644
CREATED:20260330T144831Z
LAST-MODIFIED:20260330T144831Z
UID:36112-1780734600-1780763400@www.ville-saint-saulve.fr
SUMMARY:BROCANTE : EHPAD LES CHARMILLES
DESCRIPTION:
URL:https://www.ville-saint-saulve.fr/event/brocante-ehpad-les-charmilles/
LOCATION:Charmilles\, 1411 rue Jean Jaurès\, Saint-Saulve\, 59880
ATTACH;FMTTYPE=image/png:https://www.ville-saint-saulve.fr/wp-content/uploads/BROCANTE-CHARMILLES-scaled.png
ORGANIZER;CN="Au Charmes D'antant":MAILTO:laureen.gicart@hotmail.fr
END:VEVENT
BEGIN:VEVENT
DTSTART;TZID=Europe/Paris:20260619T210000
DTEND;TZID=Europe/Paris:20260619T220000
DTSTAMP:20260424T104644
CREATED:20260416T125454Z
LAST-MODIFIED:20260416T125501Z
UID:36506-1781902800-1781906400@www.ville-saint-saulve.fr
SUMMARY:FÊTE DE LA MUSIQUE - COLDPLAYED
DESCRIPTION:VOUS AVEZ RENDEZ-VOUS LE 19 JUIN\, POUR UNE SOIRÉE EXCEPTIONNELLE\, AVEC UN TRIBUTE DE TALENT !IL Y AURA DE QUOI SE RAVITAILLER SUR PLACE !AMBIANCE GARANTIE !
URL:https://www.ville-saint-saulve.fr/event/fete-de-la-musique-coldplayed/
LOCATION:Boulodrome\, Rue Henri Barbusse\, 59880 Saint-Saulve\, Saint-Saulve\, 59880\, France
ATTACH;FMTTYPE=image/jpeg:https://www.ville-saint-saulve.fr/wp-content/uploads/affiche_fete_de_la_musique_2026_web-scaled.jpg
ORGANIZER;CN="Service Culture":MAILTO:bayart.p@ville-saint-saulve.fr
END:VEVENT
END:VCALENDAR